Workbook

Sheet 11-26-2021
B2: Shipped & Moved Sugar from WH#2
A4: Breaux Bridge | B4: 44526 | C4: wh2 to BB | D4: 4669 | E4: 77920 | F4: 35180 | G4: =E4-F4 -> 42740
A5: Breaux Bridge | B5: 44526 | C5: wh2 to BB | D5: 1046 | E5: 75660 | F5: 35160 | G5: =E5-F5 -> 40500
A6: Breaux Bridge | B6: 44526 | C6: wh2 to BB | D6: 1047 | E6: 73360 | F6: 35120 | G6: =E6-F6 -> 38240
A7: Breaux Bridge | B7: 44526 | C7: wh2 to BB | D7: 1048 | E7: 75500 | F7: 35700 | G7: =E7-F7 -> 39800
A8: Breaux Bridge | B8: 44526 | C8: wh2 to BB | D8: 1049 | E8: 75520 | F8: 35660 | G8: =E8-F8 -> 39860
A9: Breaux Bridge | B9: 44526 | C9: wh2 to BB | D9: 1050 | E9: 74880 | F9: 35560 | G9: =E9-F9 -> 39320
A10: Breaux Bridge | B10: 44526 | C10: wh2 to BB | D10: 2286 | E10: 73720 | F10: 35440 | G10: =E10-F10 -> 38280
A11: LSR>> | B11: 44526 | C11: 01EP | D11: 11302 | E11: 94380 | F11: 33400 | G11: =E11-F11 -> 60980
A12: LSR>> | B12: 44526 | C12: 105pacer | D12: 11301 | E12: 101300 | F12: 36360 | G12: =E12-F12 -> 64940
A13: LSR>> | B13: 44526 | C13: 105pacer | D13: 11307 | E13: 102460 | F13: 36080 | G13: =E13-F13 -> 66380
A14: LSR>> | B14: 44526 | C14: 01EP | D14: 11309 | E14: 93180 | F14: 33240 | G14: =E14-F14 -> 59940
A15: LSR>> | B15: 44526 | C15: 105pacer | D15: 13392 | E15: 100800 | F15: 36680 | G15: =E15-F15 -> 64120
... A46: LSR>> | B46: 44526 | C46: 11laca | D46: 11305 | E46: 98500 | F46: 34200 | G46: =E46-F46 -> 64300

Sheet 11-27-2021
B1: 44527 | C1: wh2 to BB | D1: 2287 | E1: 74540 | F1: 35520 | G1: =E1-F1 -> 39020
B2: 44527 | C2: wh2 to BB | D2: 2288 | E2: 66640 | F2: 35420 | G2: =E2-F2 -> 31220
B3: 44527 | C3: wh2 to BB | D3: 2289 | E3: 73180 | F3: 35460 | G3: =E3-F3 -> 37720
B4: 44527 | C4: wh2 to BB | D4: 2290 | E4: 75920 | F4: 35400 | G4: =E4-F4 -> 40520
B5: 44527 | C5: wh2 to BB | D5: 2291 | E5: 72420 | F5: 35440 | G5: =E5-F5 -> 36980
B6: 44527 | C6: wh2 to BB | D6: 2292 | E6: 67740 | F6: 35260 | G6: =E6-F6 -> 32480
B7: 44527 | C7: wh2 to BB | D7: 2293 | E7: 69060 | F7: 35240 | G7: =E7-F7 -> 33820
B8: 44527 | C8: wh2 to BB | D8: 2294 | E8: 65020 | F8: 35260 | G8: =E8-F8 -> 29760 | I8: =SUM(G1:G8) -> 281520
A9: LSR>> | B9: 44527 | C9: MJ-01 EP | D9: 11320 | E9: 87500 | F9: 34720 | G9: =E9-F9 -> 52780
A10: LSR>> | B10: 44527 | C10: 27EP | D10: 11322 | E10: 92520 | F10: 33900 | G10: =E10-F10 -> 58620
A11: LSR>> | B11: 44527 | C11: 01EP | D11: 11325 | E11: 88000 | F11: 33860 | G11: =E11-F11 -> 54140
A12: LSR>> | B12: 44527 | C12: 105pacer | D12: 11326 | E12: 101900 | F12: 36620 | G12: =E12-F12 -> 65280
A13: LSR>> | B13: 44527 | C13: MJ-01 EP | D13: 11329 | E13: 90000 | F13: 34720 | G13: =E13-F13 -> 55280
A14: LSR>> | B14: 44527 | C14: 27EP | D14: 11330 | E14: 97900 | F14: 33680 | G14: =E14-F14 -> 64220
A15: LSR>> | B15: 44527 | C15: 105 pacer | D15: 11334 | E15: 101200 | F15: 36260 | G15: =E15-F15 -> 64940
A16: LSR>> | B16: 44527 | C16: 27EP | D16: 11345 | E16: 93540 | F16: 32940 | G16: =E16-F16 -> 60600
A17: LSR>> | B17: 44527 | C17: 75LASUCA | D17: 11346 | E17: 0 | F17: 0 | G17: =E17-F17 -> 0 | H17: Dumped a BB
A18: LSR>> | B18: 44527 | C18: 105pacer | D18: 4723 | E18: 99640 | F18: 35860 | G18: =E18-F18 -> 63780 | I18: =SUM(G9:G18) -> 539640
A19: LSR>> | B19: 44527 | C19: 17laca | D19: 4699 | E19: 94980 | F19: 34060 | G19: =E19-F19 -> 60920
A20: LSR>> | B20: 44527 | C20: 15laca | D20: 4700 | E20: 98880 | F20: 34500 | G20: =E20-F20 -> 64380
A21: LSR>> | B21: 44527 | C21: 11laca | D21: 11331 | E21: 100700 | F21: 34320 | G21: =E21-F21 -> 66380
A22: LSR>> | B22: 44527 | C22: 15laca | D22: 4706 | E22: 99940 | F22: 34180 | G22: =E22-F22 -> 65760
A23: LSR>> | B23: 44527 | C23: 5laca | D23: 4709 | E23: 97060 | F23: 34700 | G23: =E23-F23 -> 62360
A24: LSR>> | B24: 44527 | C24: 17laca | D24: 11340 | E24: 95400 | F24: 33780 | G24: =E24-F24 -> 61620
A25: LSR>> | B25: 44527 | C25: 16laca | D25: 11339 | E25: 97300 | F25: 35020 | G25: =E25-F25 -> 62280
A26: LSR>> | B26: 44527 | C26: 11laca | D26: 4716 | E26: 99700 | F26: 33920 | G26: =E26-F26 -> 65780
A27: LSR>> | B27: 44527 | C27: 5laca | D27: 4717 | E27: 95760 | F27: 35060 | G27: =E27-F27 -> 60700
A28: LSR>> | B28: 44527 | C28: 15laca | D28: 4718 | E28: 98860 | F28: 34660 | G28: =E28-F28 -> 64200
A29: LSR>> | B29: 44527 | C29: 11laca | D29: 11347 | E29: 101980 | F29: 33660 | G29: =E29-F29 -> 68320
A30: LSR>> | B30: 44527 | C30: 11laca | D30: 11349 | E30: 100760 | F30: 34420 | G30: =E30-F30 -> 66340 | I30: =SUM(G19:G30) -> 769040
A31: Caldwell Thib>> | B31: 44527 | C31: 1901pacer | D31: 11321 | E31: 99420 | F31: 33620 | G31: =E31-F31 -> 65800
A32: Caldwell Thib>> | B32: 44527 | C32: 1910pacer | D32: 11323 | E32: 95800 | F32: 32420 | G32: =E32-F32 -> 63380
A33: Caldwell Thib>> | B33: 44527 | C33: 1903pacer | D33: 11324 | E33: 99000 | F33: 34880 | G33: =E33-F33 -> 64120
A34: Caldwell Thib>> | B34: 44527 | C34: 1902pacer | D34: 11327 | E34: 99100 | F34: 33100 | G34: =E34-F34 -> 66000
A35: Caldwell Thib>> | B35: 44527 | C35: 1901pacer | D35: 11328 | E35: 96340 | F35: 33400 | G35: =E35-F35 -> 62940
A36: Caldwell Thib>> | B36: 44527 | C36: 1910pacer | D36: 11332 | E36: 97120 | F36: 32840 | G36: =E36-F36 -> 64280
A37: Caldwell Thib>> | B37: 44527 | C37: 1903pacer | D37: 11333 | E37: 97740 | F37: 34620 | G37: =E37-F37 -> 63120
A38: Caldwell Thib>> | B38: 44527 | C38: 1907pacer | D38: 11336 | E38: 89380 | F38: 32740 | G38: =E38-F38 -> 56640
A39: Caldwell Thib>> | B39: 44527 | C39: 1902pacer | D39: 11337 | E39: 95920 | F39: 32760 | G39: =E39-F39 -> 63160
A40: Caldwell Thib>> | B40: 44527 | C40: 103pacer | D40: 11338 | E40: 97700 | F40: 33360 | G40: =E40-F40 -> 64340
A41: Caldwell Thib>> | B41: 44527 | C41: 1910pacer | D41: 11341 | E41: 95800 | F41: 32520 | G41: =E41-F41 -> 63280
A42: Caldwell Thib>> | B42: 44527 | C42: 1903pacer | D42: 11342 | E42: 97100 | F42: 34300 | G42: =E42-F42 -> 62800
... A46: Caldwell Thib>> | B46: 44527 | C46: 103pacer | D46: 11351 | E46: 89480 | F46: 34040 | G46: =E46-F46 -> 55440
A47: Caldwell Thib>> | B47: 44527 | C47: 1910pacer | D47: 11352 | E47: 98600 | F47: 33220 | G47: =E47-F47 -> 65380 | I47: =SUM(G31:G47:G31) -> 1071580
G49: =SUM(G1:G47) -> 2661780 | I49: =SUM(I1:I47) -> 2661780

Sheet 11-28-2021
A1: LSR>> | B1: 44528 | C1: 01EP | D1: 11353 | E1: 94580 | F1: 33760 | G1: =E1-F1 -> 60820
A2: LSR>> | B2: 44528 | C2: MJ-01 EP | D2: 11355 | E2: 85320 | F2: 35000 | G2: =E2-F2 -> 50320
A3: LSR>> | B3: 44528 | C3: 27EP | D3: 11356 | E3: 98000 | F3: 32980 | G3: =E3-F3 -> 65020
A4: LSR>> | B4: 44528 | C4: 105pacer | D4: 11358 | E4: 100160 | F4: 36460 | G4: =E4-F4 -> 63700
A5: LSR>> | B5: 44528 | C5: 01EP | D5: 11361 | E5: 91320 | F5: 33640 | G5: =E5-F5 -> 57680
A6: LSR>> | B6: 44528 | C6: MJ-01 EP | D6: 11363 | E6: 92300 | F6: 34820 | G6: =E6-F6 -> 57480
A7: LSR>> | B7: 44528 | C7: 105pacer | D7: 4738 | E7: 99500 | F7: 36140 | G7: =E7-F7 -> 63360
A8: LSR>> | B8: 44528 | C8: 27EP | D8: 11374 | E8: 97140 | F8: 34000 | G8: =E8-F8 -> 63140
A9: LSR>> | B9: 44528 | C9: 105pacer | D9: 4752 | E9: 99980 | F9: 35660 | G9: =E9-F9 -> 64320
A10: LSR>> | B10: 44528 | C10: 27EP | D10: 11378 | E10: 98080 | F10: 33780 | G10: =E10-F10 -> 64300
A11: LSR>> | B11: 44528 | C11: 107 Lasuca | D11: 11367 | E11: 92740 | F11: 25360 | G11: =E11-F11 -> 67380
A12: LSR>> | B12: 44528 | C12: 106 Lasuca | D12: 11368 | E12: 94260 | F12: 25400 | G12: =E12-F12 -> 68860
... A39: CSC>> | B39: 44528 | C39: 8732csc | D39: 11377 | E39: 93000 | F39: 31680 | G39: =E39-F39 -> 61320
A40: Breaux B | B40: 44528 | C40: 75Lasuca | D40: 11346a | E40: 79420 | F40: 33660 | G40: =E40-F40 -> 45760
A41: LSR>> | B41: 44528 | C41: 75Lasuca | D41: 11346 | E41: 95020 | F41: 79420 | G41: =E41-F41 -> 15600

Sheet 11-29-2021
A1: LSR>> | B1: 44529 | C1: 105pacer | D1: 4756 | E1: 96540 | F1: 36400 | G1: =E1-F1 -> 60140
A2: LSR>> | B2: 44529 | C2: 01EP | D2: 11380 | E2: 90580 | F2: 33380 | G2: =E2-F2 -> 57200
A3: LSR>> | B3: 44529 | C3: 27EP | D3: 11383 | E3: 96860 | F3: 33500 | G3: =E3-F3 -> 63360
A4: LSR>> | B4: 44529 | C4: 01EP | D4: 11391 | E4: 90840 | F4: 34000 | G4: =E4-F4 -> 56840
A5: LSR>> | B5: 44529 | C5: 27EP | D5: 11392 | E5: 96200 | F5: 33160 | G5: =E5-F5 -> 63040
A6: LSR>> | B6: 44529 | C6: 27ep | D6: 11416 | E6: 92920 | F6: 32860 | G6: =E6-F6 -> 60060
A7: LSR>> | B7: 44529 | C7: 105pacer | D7: 11384 | E7: 97600 | F7: 26700 | G7: =E7-F7 -> 70900
A8: LSR>> | B8: 44529 | C8: 105pacer | D8: 4762 | E8: 97560 | F8: 36120 | G8: =E8-F8 -> 61440
A9: LSR>> | B9: 44529 | C9: 105pacer | D9: 4774 | E9: 95520 | F9: 35760 | G9: =E9-F9 -> 59760
A10: (INDPNT) LSR>> | B10: 44529 | C10: 3-G5 | D10: 11385 | E10: 91200 | F10: 30740 | G10: =E10-F10 -> 60460
A11: (INDPNT) LSR>> | B11: 44529 | C11: G1-G5 | D11: 11386 | E11: 93740 | F11: 28280 | G11: =E11-F11 -> 65460
A12: LSR>> | B12: 44529 | C12: 75Lasuca | D12: 11379 | E12: 96200 | F12: 33260 | G12: =E12-F12 -> 62940
... A45: CSC>> | B45: 44529 | C45: 4csc | D45: 11414 | E45: 79900 | F45: 27200 | G45: =E45-F45 -> 52700

Sheet 11-30-2021
A1: LSR>> | B1: 44530 | C1: 105pacer | D1: 4779 | E1: 98700 | F1: 36340 | G1: =E1-F1 -> 62360
A2: LSR>> | B2: 44530 | C2: 01EP | D2: 11417 | E2: 91180 | F2: 33760 | G2: =E2-F2 -> 57420
A3: LSR>> | B3: 44530 | C3: 01EP | D3: 11439 | E3: 89000 | F3: 34000 | G3: =E3-F3 -> 55000
A4: LSR>> | B4: 44530 | C4: 27EP | D4: 11425 | E4: 96360 | F4: 32640 | G4: =E4-F4 -> 63720
A5: LSR>> | B5: 44530 | C5: 27EP | D5: 11433 | E5: 98520 | F5: 33500 | G5: =E5-F5 -> 65020
A6: LSR>> | B6: 44530 | C6: 27EP | D6: 11475 | E6: 95600 | F6: 33380 | G6: =E6-F6 -> 62220
A7: LSR>> | B7: 44530 | C7: 105pacer | D7: 4832 | E7: 96280 | F7: 36020 | G7: =E7-F7 -> 60260 | H7: =SUM(G1:G7) -> 426000
A8: LSR>> | B8: 44530 | C8: 107lasuca | D8: 11418 | E8: 99500 | F8: 25660 | G8: =E8-F8 -> 73840
A9: LSR>> | B9: 44530 | C9: 106Lasuca | D9: 11419 | E9: 97500 | F9: 26000 | G9: =E9-F9 -> 71500
A10: LSR>> | B10: 44530 | C10: 75Lasuca | D10: 11420 | E10: 98700 | F10: 33080 | G10: =E10-F10 -> 65620
A11: LSR>> | B11: 44530 | C11: 105lasuca | D11: 11423 | E11: 98700 | F11: 27960 | G11: =E11-F11 -> 70740
A12: LSR>> | B12: 44530 | C12: 113lasuca | D12: 11427 | E12: 97300 | F12: 26280 | G12: =E12-F12 -> 71020
A13: LSR>> | B13: 44530 | C13: 106Lasuca | D13: 11435 | E13: 97220 | F13: 26360 | G13: =E13-F13 -> 70860
A14: LSR>> | B14: 44530 | C14: 107lasuca | D14: 11436 | E14: 92900 | F14: 26460 | G14: =E14-F14 -> 66440
A15: LSR>> | B15: 44530 | C15: 113lasuca | D15: 11434 | E15: 99680 | F15: 28140 | G15: =E15-F15 -> 71540
A16: LSR>> | B16: 44530 | C16: 108Lasuca | D16: 11440 | E16: 97620 | F16: 29400 | G16: =E16-F16 -> 68220
A17: LSR>> | B17: 44530 | C17: 75Lasuca | D17: 11444 | E17: 98020 | F17: 27160 | G17: =E17-F17 -> 70860
A18: LSR>> | B18: 44530 | C18: 106Lasuca | D18: 11459 | E18: 98960 | F18: 26100 | G18: =E18-F18 -> 72860
A19: LSR>> | B19: 44530 | C19: 107lasuca | D19: 11468 | E19: 97240 | F19: 25620 | G19: =E19-F19 -> 71620
... A21: LSR>> | B21: 44530 | C21: 108Lasuca | D21: 11471 | E21: 100000 | F21: 28520 | G21: =E21-F21 -> 71480
A22: LSR>> | B22: 44530 | C22: 75Lasuca | D22: 11472 | E22: 97700 | F22: 27680 | G22: =E22-F22 -> 70020 | H22: =SUM(G8:G22) -> 1058860
A23: INPENDNT-LSR> | B23: 44530 | C23: G1-G5trkn | D23: 11424 | E23: 97700 | F23: 28660 | G23: =E23-F23 -> 69040
A24: INPENDNT-LSR> | B24: 44530 | C24: G3-G5trkn | D24: 11426 | E24: 102200 | F24: 30420 | G24: =E24-F24 -> 71780
A25: INPENDNT-LSR> | B25: 44530 | C25: G!-G5trkn | D25: 11437 | E25: 78880 | F25: 29340 | G25: =E25-F25 -> 49540
A26: INPENDNT-LSR> | B26: 44530 | C26: G3-G5trkn | D26: 11442 | E26: 79780 | F26: 31380 | G26: =E26-F26 -> 48400
A27: INPENDNT-LSR> | B27: 44530 | C27: G3-G5trkn | D27: 11473 | E27: 78380 | F27: 30600 | G27: =E27-F27 -> 47780 | H27: =SUM(G23:G27) -> 286540
A28: LSR>> | B28: 44530 | C28: 15laca | D28: 11429 | E28: 100200 | F28: 34780 | G28: =E28-F28 -> 65420
A29: LSR>> | B29: 44530 | C29: 2laca | D29: 11430 | E29: 100900 | F29: 35440 | G29: =E29-F29 -> 65460
A30: LSR>> | B30: 44530 | C30: 11laca | D30: 11431 | E30: 101000 | F30: 33260 | G30: =E30-F30 -> 67740
A31: LSR>> | B31: 44530 | C31: 14laca | D31: 4786 | E31: 96400 | F31: 34720 | G31: =E31-F31 -> 61680
A32: LSR>> | B32: 44530 | C32: 15laca | D32: 4793 | E32: 97740 | F32: 34480 | G32: =E32-F32 -> 63260
A33: LSR>> | B33: 44530 | C33: 6Laca | D33: 4792 | E33: 96280 | F33: 33840 | G33: =E33-F33 -> 62440
A34: LSR>> | B34: 44530 | C34: 5laca | D34: 4831 | E34: 95720 | F34: 35080 | G34: =E34-F34 -> 60640
A35: LSR>> | B35: 44530 | C35: 2laca | D35: 4799 | E35: 97060 | F35: 35020 | G35: =E35-F35 -> 62040
A36: LSR>> | B36: 44530 | C36: 14laca | D36: 4798 | E36: 97100 | F36: 34960 | G36: =E36-F36 -> 62140
A37: LSR>> | B37: 44530 | C37: 11laca | D37: 4797 | E37: 98140 | F37: 33380 | G37: =E37-F37 -> 64760
A38: LSR>> | B38: 44530 | C38: 5laca | D38: 4796 | E38: 98240 | F38: 34880 | G38: =E38-F38 -> 63360 | H38: =SUM(G28:G38) -> 698940
A39: CSC>> | B39: 44530 | C39: 9945csc | D39: 11428 | E39: 80080 | F39: 29400 | G39: =E39-F39 -> 50680
A40: CSC>> | B40: 44530 | C40: 230css | D40: 11441 | E40: 80720 | F40: 28920 | G40: =E40-F40 -> 51800
A41: CSC>> | B41: 44530 | C41: 227csc | D41: 11445 | E41: 81220 | F41: 28860 | G41: =E41-F41 -> 52360
A42: CSC>> | B42: 44530 | C42: 9092csc | D42: 11446 | E42: 81440 | F42: 29240 | G42: =E42-F42 -> 52200
A43: CSC>> | B43: 44530 | C43: 9792csc | D43: 11447 | E43: 79820 | F43: 28320 | G43: =E43-F43 -> 51500
A44: CSC>> | B44: 44530 | C44: 8405csc | D44: 11448 | E44: 76720 | F44: 28200 | G44: =E44-F44 -> 48520
A45: CSC>> | B45: 44530 | C45: 03csc | D45: 11449 | E45: 82700 | F45: 28480 | G45: =E45-F45 -> 54220
A46: CSC>> | B46: 44530 | C46: 190csc | D46: 11450 | E46: 80900 | F46: 28440 | G46: =E46-F46 -> 52460
A47: CSC>> | B47: 44530 | C47: 193csc | D47: 11451 | E47: 83380 | F47: 30580 | G47: =E47-F47 -> 52800
A48: CSC>> | B48: 44530 | C48: 305csc | D48: 11452 | E48: 80260 | F48: 26300 | G48: =E48-F48 -> 53960
A49: CSC>> | B49: 44530 | C49: 1974csc | D49: 11453 | E49: 83180 | F49: 28380 | G49: =E49-F49 -> 54800
A50: CSC>> | B50: 44530 | C50: 01csc | D50: 11454 | E50: 85560 | F50: 29720 | G50: =E50-F50 -> 55840
... A62: CSC>> | B62: 44530 | C62: 148csc | D62: 11467 | E62: 78740 | F62: 29240 | G62: =E62-F62 -> 49500
A63: CSC>> | B63: 44530 | C63: 1372csc | D63: 11470 | E63: 79080 | F63: 27840 | G63: =E63-F63 -> 51240 | H63: =SUM(G39:G63) -> 1326580

Sheet 12-01-2021
A1: LSR>> | B1: 44531 | C1: 6Laca | D1: 4834 | E1: 98660 | F1: 33520 | G1: =E1-F1 -> 65140
A2: LSR>> | B2: 44531 | C2: 16laca | D2: 4836 | E2: 97940 | F2: 34160 | G2: =E2-F2 -> 63780
A3: LSR>> | B3: 44531 | C3: 15laca | D3: 4839 | E3: 98100 | F3: 34800 | G3: =E3-F3 -> 63300
A4: LSR>> | B4: 44531 | C4: 16laca | D4: 11490 | E4: 98300 | F4: 34720 | G4: =E4-F4 -> 63580
A5: LSR>> | B5: 44531 | C5: 2laca | D5: 4842 | E5: 97620 | F5: 34820 | G5: =E5-F5 -> 62800
A6: LSR>> | B6: 44531 | C6: 11laca | D6: 4844 | E6: 99280 | F6: 34040 | G6: =E6-F6 -> 65240
A7: LSR>> | B7: 44531 | C7: 14laca | D7: 4845 | E7: 98000 | F7: 34640 | G7: =E7-F7 -> 63360
A8: LSR>> | B8: 44531 | C8: 6Laca | D8: 4846 | E8: 97060 | F8: 34380 | G8: =E8-F8 -> 62680
A9: LSR>> | B9: 44531 | C9: 5laca | D9: 4850 | E9: 94220 | F9: 34800 | G9: =E9-F9 -> 59420
A10: LSR>> | B10: 44531 | C10: 6Laca | D10: 4901 | E10: 96940 | F10: 33780 | G10: =E10-F10 -> 63160
A11: LSR>> | B11: 44531 | C11: 5laca | D11: 4894 | E11: 96220 | F11: 35200 | G11: =E11-F11 -> 61020
A12: LSR>> | B12: 44531 | C12: 15laca | D12: 4864 | E12: 99520 | F12: 34120 | G12: =E12-F12 -> 65400
A13: LSR>> | B13: 44531 | C13: 15laca | D13: 4849 | E13: 97180 | F13: 34340 | G13: =E13-F13 -> 62840 | H13: =SUM(G1:G13) -> 821720
A14: LSR>> | B14: 44531 | C14: 106Lasuca | D14: 11479 | E14: 95400 | F14: 25780 | G14: =E14-F14 -> 69620
A15: LSR>> | B15: 44531 | C15: 124Lasuca | D15: 11487 | E15: 99200 | F15: 25440 | G15: =E15-F15 -> 73760
A16: LSR>> | B16: 44531 | C16: 107lasuca | D16: 11486 | E16: 99980 | F16: 25880 | G16: =E16-F16 -> 74100
A17: LSR>> | B17: 44531 | C17: 113lasuca | D17: 11489 | E17: 98600 | F17: 28620 | G17: =E17-F17 -> 69980
A18: LSR>> | B18: 44531 | C18: 108Lasuca | D18: 11491 | E18: 99240 | F18: 27780 | G18: =E18-F18 -> 71460
A19: LSR>> | B19: 44531 | C19: 75Lasuca | D19: 11493 | E19: 101620 | F19: 29340 | G19: =E19-F19 -> 72280
A20: LSR>> | B20: 44531 | C20: 106Lasuca | D20: 11495 | E20: 103580 | F20: 25680 | G20: =E20-F20 -> 77900
A21: LSR>> | B21: 44531 | C21: 124Lasuca | D21: 11500 | E21: 95460 | F21: 25240 | G21: =E21-F21 -> 70220
A22: LSR>> | B22: 44531 | C22: 107lasuca | D22: 11501 | E22: 97560 | F22: 25940 | G22: =E22-F22 -> 71620
A23: LSR>> | B23: 44531 | C23: 75Lasuca | D23: 11506 | E23: 101420 | F23: 29480 | G23: =E23-F23 -> 71940
A24: LSR>> | B24: 44531 | C24: 113lasuca | D24: 11507 | E24: 99240 | F24: 27640 | G24: =E24-F24 -> 71600
A25: LSR>> | B25: 44531 | C25: 108Lasuca | D25: 11508 | E25: 97940 | F25: 29680 | G25: =E25-F25 -> 68260
A26: LSR>> | B26: 44531 | C26: 106Lasuca | D26: 11509 | E26: 100420 | F26: 25620 | G26: =E26-F26 -> 74800
A27: LSR>> | B27: 44531 | C27: 113lasuca | D27: 11530 | E27: 96240 | F27: 27740 | G27: =E27-F27 -> 68500 | H27: =SUM(G14:G27) -> 1006040
A28: INPENDNT-LSR> | B28: 44531 | C28: G1-G5trkn | D28: 11477 | E28: 79980 | F28: 30600 | G28: =E28-F28 -> 49380
A29: INPENDNT-LSR> | B29: 44531 | C29: G3-G5trkn | D29: 11485 | E29: 95600 | F29: 31280 | G29: =E29-F29 -> 64320
A30: INPENDNT-LSR> | B30: 44531 | C30: G1-G5trkn | D30: 11488 | E30: 81780 | F30: 30680 | G30: =E30-F30 -> 51100 | H30: =SUM(G28:G30) -> 164800
A31: EarlPania-LSR>> | B31: 44531 | C31: 01EP | D31: 11476 | E31: 91840 | F31: 33740 | G31: =E31-F31 -> 58100
A32: EarlPania-LSR>> | B32: 44531 | C32: 203EP | D32: 11483 | E32: 96340 | F32: 33500 | G32: =E32-F32 -> 62840
A33: EarlPania-LSR>> | B33: 44531 | C33: 01EP | D33: 11492 | E33: 91100 | F33: 33540 | G33: =E33-F33 -> 57560
A34: EarlPania-LSR>> | B34: 44531 | C34: 27EP | D34: 11494 | E34: 91600 | F34: 33020 | G34: =E34-F34 -> 58580
A35: EarlPania-LSR>> | B35: 44531 | C35: 203EP | D35: 11496 | E35: 98120 | F35: 33040 | G35: =E35-F35 -> 65080
A36: EarlPania-LSR>> | B36: 44531 | C36: 27EP | D36: 11505 | E36: 93040 | F36: 33600 | G36: =E36-F36 -> 59440 | H36: =SUM(G31:G36) -> 361600
A37: Pacer -LSR>> | B37: 44531 | C37: 105pacer | D37: 4897 | E37: 96040 | F37: 35860 | G37: =E37-F37 -> 60180
A38: Pacer -LSR>> | B38: 44531 | C38: 106pacer | D38: 11527 | E38: 90300 | F38: 32320 | G38: =E38-F38 -> 57980
A39: Pacer -LSR>> | B39: 44531 | C39: 105pacer | D39: 11480 | E39: 101800 | F39: 35740 | G39: =E39-F39 -> 66060 | H39: =SUM(G37:G39) -> 184220
A40: I&M trucking-LSR | B40: 44531 | C40: 721-I&M | D40: 11481 | E40: 93600 | F40: 33220 | G40: =E40-F40 -> 60380 | H40: =G40 -> 60380
A41: jaybradley | B41: 44531 | C41: 1jaybrad | D41: 11512 | E41: 109020 | F41: 29280 | G41: =E41-F41 -> 79740
A42: jaybradley | B42: 44531 | C42: 1jaybrad | D42: 11498 | E42: 104900 | F42: 28640 | G42: =E42-F42 -> 76260 | H42: =SUM(G41:G42) -> 156000
A43: CSC>> | B43: 44531 | C43: 9464csc | D43: 11497 | E43: 79780 | F43: 28020 | G43: =E43-F43 -> 51760
A44: CSC>> | B44: 44531 | C44: 6csc | D44: 11499 | E44: 75960 | F44: 28400 | G44: =E44-F44 -> 47560
A45: CSC>> | B45: 44531 | C45: 226csc | D45: 11502 | E45: 85540 | F45: 28440 | G45: =E45-F45 -> 57100
A46: CSC>> | B46: 44531 | C46: 193csc | D46: 11503 | E46: 82900 | F46: 30560 | G46: =E46-F46 -> 52340
A47: CSC>> | B47: 44531 | C47: 116csc | D47: 11504 | E47: 83260 | F47: 29660 | G47: =E47-F47 -> 53600
A48: CSC>> | B48: 44531 | C48: 10131csc | D48: 11510 | E48: 78380 | F48: 28700 | G48: =E48-F48 -> 49680
A49: CSC>> | B49: 44531 | C49: 305csc | D49: 11511 | E49: 77060 | F49: 26120 | G49: =E49-F49 -> 50940
A50: CSC>> | B50: 44531 | C50: 9798csc | D50: 11513 | E50: 77980 | F50: 28660 | G50: =E50-F50 -> 49320
A51: CSC>> | B51: 44531 | C51: 225csc | D51: 11514 | E51: 92720 | F51: 26960 | G51: =E51-F51 -> 65760
A52: CSC>> | B52: 44531 | C52: 9623csc | D52: 11515 | E52: 79920 | F52: 28720 | G52: =E52-F52 -> 51200
A53: CSC>> | B53: 44531 | C53: 8732csc | D53: 11516 | E53: 86960 | F53: 30640 | G53: =E53-F53 -> 56320
A54: CSC>> | B54: 44531 | C54: 42514csc | D54: 11517 | E54: 77440 | F54: 27080 | G54: =E54-F54 -> 50360
... A63: CSC>> | B63: 44531 | C63: 227csc | D63: 11529 | E63: 81060 | F63: 26440 | G63: =E63-F63 -> 54620
A64: CSC>> | B64: 44531 | C64: 228csc | D64: 11525 | E64: 78800 | F64: 28440 | G64: =E64-F64 -> 50360 | H64: =SUM(G43:G64) -> 1167160
G66: =SUM(G1:G64) -> 3921920 | H66: =SUM(H2:H64) -> 3921920 | I66: checked

Sheet 12-02-2021
A1: 44532 | B1: 16laca | C1: 4916 | D1: 94180 | E1: 34140 | F1: =D1-E1 -> 60040
A2: 44532 | B2: 15laca | C2: 4920 | D2: 98280 | E2: 34740 | F2: =D2-E2 -> 63540
A3: 44532 | B3: 16laca | C3: 4922 | D3: 98220 | E3: 34740 | F3: =D3-E3 -> 63480
A4: 44532 | B4: 14laca | C4: 4923 | D4: 98040 | E4: 35140 | F4: =D4-E4 -> 62900
A5: 44532 | B5: 2laca | C5: 4924 | D5: 98200 | E5: 35100 | F5: =D5-E5 -> 63100
A6: 44532 | B6: 11laca | C6: 4925 | D6: 99780 | E6: 33440 | F6: =D6-E6 -> 66340
A7: 44532 | B7: 6Laca | C7: 4926 | D7: 98720 | E7: 34360 | F7: =D7-E7 -> 64360
A8: 44532 | B8: 15laca | C8: 4929 | D8: 99040 | E8: 34400 | F8: =D8-E8 -> 64640
A9: 44532 | B9: 5laca | C9: 4931 | D9: 99060 | E9: 34960 | F9: =D9-E9 -> 64100
A10: 44532 | B10: 2laca | C10: 4934 | D10: 97960 | E10: 35100 | F10: =D10-E10 -> 62860
A11: 44532 | B11: 11laca | C11: 4935 | D11: 99980 | E11: 34360 | F11: =D11-E11 -> 65620
A12: 44532 | B12: 15laca | C12: 11554 | D12: 100460 | E12: 35020 | F12: =D12-E12 -> 65440 | G12: =SUM(F1:F12) -> 766420
A13: 44532 | B13: 105pacer | C13: 4918 | D13: 98040 | E13: 35960 | F13: =D13-E13 -> 62080
A14: 44532 | B14: 105pacer | C14: 4927 | D14: 99420 | E14: 36440 | F14: =D14-E14 -> 62980
A15: 44532 | B15: 107pacer | C15: 11542 | D15: 96900 | E15: 34080 | F15: =D15-E15 -> 62820
A16: 44532 | B16: 1909pacer | C16: 11539 | D16: 98660 | E16: 33700 | F16: =D16-E16 -> 64960
A17: 44532 | B17: 1909pacer | C17: 11550 | D17: 105400 | E17: 34240 | F17: =D17-E17 -> 71160
A18: 44532 | B18: 107pacer | C18: 11553 | D18: 96260 | E18: 33460 | F18: =D18-E18 -> 62800 | G18: =SUM(F13:F18) -> 386800
A19: 44532 | B19: 106-I&M trkn | C19: 11541 | D19: 93760 | E19: 31760 | F19: =D19-E19 -> 62000
A20: 44532 | B20: 106-I&M trkn | C20: 11547 | D20: 86160 | E20: 31520 | F20: =D20-E20 -> 54640 | G20: =SUM(F19:F20) -> 116640
A21: 44532 | B21: 1 JayBradley | C21: 11534 | D21: 102680 | E21: 28500 | F21: =D21-E21 -> 74180
A22: 44532 | B22: 1 JayBradley | C22: 11552 | D22: 107660 | E22: 30060 | F22: =D22-E22 -> 77600
A23: 44532 | B23: 1 JayBradley | C23: 11573 | D23: 100620 | E23: 29520 | F23: =D23-E23 -> 71100
A24: 44532 | B24: 1 JayBradley | C24: 11581 | D24: 101200 | E24: 29640 | F24: =D24-E24 -> 71560 | G24: =SUM(F21:F24) -> 294440
A25: 44532 | B25: 107lasuca | C25: 11531 | D25: 99440 | E25: 26120 | F25: =D25-E25 -> 73320
A26: 44532 | B26: 106Lasuca | C26: 11533 | D26: 96500 | E26: 26020 | F26: =D26-E26 -> 70480
A27: 44532 | B27: 108Lasuca | C27: 11535 | D27: 99400 | E27: 27940 | F27: =D27-E27 -> 71460
A28: 44532 | B28: 124Lasuca | C28: 11536 | D28: 96820 | E28: 26140 | F28: =D28-E28 -> 70680
A29: 44532 | B29: 75Lasuca | C29: 11537 | D29: 99500 | E29: 29480 | F29: =D29-E29 -> 70020
A30: 44532 | B30: 106Lasuca | C30: 11544 | D30: 97520 | E30: 26800 | F30: =D30-E30 -> 70720
A31: 44532 | B31: 107lasuca | C31: 11545 | D31: 98600 | E31: 25540 | F31: =D31-E31 -> 73060
A32: 44532 | B32: 113lasuca | C32: 11548 | D32: 92240 | E32: 26740 | F32: =D32-E32 -> 65500
A33: 44532 | B33: 124Lasuca | C33: 11551 | D33: 96700 | E33: 26620 | F33: =D33-E33 -> 70080
A34: 44532 | B34: 108Lasuca | C34: 11558 | D34: 97920 | E34: 26500 | F34: =D34-E34 -> 71420
A35: 44532 | B35: 105lasuca | C35: 11559 | D35: 97660 | E35: 25980 | F35: =D35-E35 -> 71680
A36: 44532 | B36: 113lasuca | C36: 11569 | D36: 96700 | E36: 27320 | F36: =D36-E36 -> 69380
... A38: 44532 | B38: 107lasuca | C38: 11568 | D38: 97800 | E38: 25960 | F38: =D38-E38 -> 71840
A39: 44532 | B39: 105lasuca | C39: 11580 | D39: 99900 | E39: 27040 | F39: =D39-E39 -> 72860 | G39: =SUM(F25:F39) -> 1061660
A40: 44532 | B40: 27EP | C40: 11540 | D40: 95620 | E40: 33580 | F40: =D40-E40 -> 62040
A41: 44532 | B41: 27EP | C41: 11546 | D41: 95180 | E41: 33260 | F41: =D41-E41 -> 61920
A42: 44532 | B42: 01EP | C42: 11549 | D42: 98700 | E42: 33940 | F42: =D42-E42 -> 64760
A43: 44532 | B43: 27EP | C43: 11575 | D43: 93420 | E43: 32920 | F43: =D43-E43 -> 60500 | G43: =SUM(F40:F43) -> 249220
A44: 44532 | B44: 036csc | C44: 11555 | D44: 90580 | E44: 35420 | F44: =D44-E44 -> 55160
A45: 44532 | B45: 237csc | C45: 11556 | D45: 78880 | E45: 30500 | F45: =D45-E45 -> 48380
A46: 44532 | B46: 6csc | C46: 11560 | D46: 85980 | E46: 27940 | F46: =D46-E46 -> 58040
A47: 44532 | B47: 116csc | C47: 11561 | D47: 83140 | E47: 29820 | F47: =D47-E47 -> 53320
A48: 44532 | B48: 9747csc | C48: 11562 | D48: 81620 | E48: 27960 | F48: =D48-E48 -> 53660
A49: 44532 | B49: 193csc | C49: 11563 | D49: 85060 | E49: 30720 | F49: =D49-E49 -> 54340
A50: 44532 | B50: 226csc | C50: 11564 | D50: 87500 | E50: 28560 | F50: =D50-E50 -> 58940
A51: 44532 | B51: 9711csc | C51: 11565 | D51: 81280 | E51: 28860 | F51: =D51-E51 -> 52420
A52: 44532 | B52: 9047csc | C52: 11567 | D52: 79940 | E52: 29360 | F52: =D52-E52 -> 50580
A53: 44532 | B53: 9597csc | C53: 11570 | D53: 79940 | E53: 28300 | F53: =D53-E53 -> 51640
A54: 44532 | B54: 9938csc | C54: 11571 | D54: 81360 | E54: 29160 | F54: =D54-E54 -> 52200
A55: 44532 | B55: 42514csc | C55: 11572 | D55: 80120 | E55: 28100 | F55: =D55-E55 -> 52020
... A61: 44532 | B61: 12csc | C61: 11582 | D61: 83640 | E61: 28420 | F61: =D61-E61 -> 55220
A62: 44532 | B62: 229csc | C62: 11583 | D62: 86020 | E62: 28920 | F62: =D62-E62 -> 57100 | G62: =SUM(F44:F62) -> 1032180
F64: =SUM(F1:F62) -> 3907360 | G64: =G62+G43+G39+G24+G20+G18+G12 -> 3907360 | H64: Checked

Sheet 12-03-2021
A1: LSR>> | B1: 44533 | C1: 105pacer | D1: 4940 | E1: 97600 | F1: 36100 | G1: =E1-F1 -> 61500
A2: LSR>> | B2: 44533 | C2: 105pacer | D2: 4952 | E2: 99480 | F2: 35880 | G2: =E2-F2 -> 63600
A3: LSR>> | B3: 44533 | C3: 107pacer | D3: 11591 | E3: 97720 | F3: 34440 | G3: =E3-F3 -> 63280
A4: LSR>> | B4: 44533 | C4: 1909pacer | D4: 11588 | E4: 95460 | F4: 34060 | G4: =E4-F4 -> 61400
A5: LSR>> | B5: 44533 | C5: 107pacer | D5: 11603 | E5: 98600 | F5: 34100 | G5: =E5-F5 -> 64500
A6: LSR>> | B6: 44533 | C6: 105pacer | D6: 11612 | E6: 100400 | F6: 36380 | G6: =E6-F6 -> 64020
A7: LSR>> | B7: 44533 | C7: 107pacer | D7: 11637 | E7: 95960 | F7: 33720 | G7: =E7-F7 -> 62240 | I7: =SUM(G1:G7) -> 440540
A8: LSR>> | B8: 44533 | C8: 106-I&M trkn | D8: 11585 | E8: 93360 | F8: 32100 | G8: =E8-F8 -> 61260
A9: LSR>> | B9: 44533 | C9: 106-I&M trkn | D9: 11601 | E9: 87440 | F9: 32080 | G9: =E9-F9 -> 55360
A10: LSR>> | B10: 44533 | C10: 106-I&M trkn | D10: 11608 | E10: 91000 | F10: 31820 | G10: =E10-F10 -> 59180
A11: LSR>> | B11: 44533 | C11: 106-I&M trkn | D11: 11645 | E11: 94860 | F11: 32400 | G11: =E11-F11 -> 62460 | I11: =SUM(G8:G11) -> 238260
A12: LSR>> | B12: 44533 | C12: 125lasuca | D12: 11586 | E12: 98720 | F12: 26100 | G12: =E12-F12 -> 72620
A13: LSR>> | B13: 44533 | C13: 106Lasuca | D13: 11587 | E13: 96240 | F13: 25540 | G13: =E13-F13 -> 70700
A14: LSR>> | B14: 44533 | C14: 107lasuca | D14: 11590 | E14: 98260 | F14: 25820 | G14: =E14-F14 -> 72440
A15: LSR>> | B15: 44533 | C15: 113lasuca | D15: 11592 | E15: 97800 | F15: 26900 | G15: =E15-F15 -> 70900
A16: LSR>> | B16: 44533 | C16: 108Lasuca | D16: 11597 | E16: 99000 | F16: 26200 | G16: =E16-F16 -> 72800
A17: LSR>> | B17: 44533 | C17: 105lasuca | D17: 11602 | E17: 98800 | F17: 28720 | G17: =E17-F17 -> 70080
A18: LSR>> | B18: 44533 | C18: 106Lasuca | D18: 11604 | E18: 96180 | F18: 25840 | G18: =E18-F18 -> 70340
A19: LSR>> | B19: 44533 | C19: 107lasuca | D19: 11606 | E19: 99820 | F19: 26460 | G19: =E19-F19 -> 73360
A20: LSR>> | B20: 44533 | C20: 124Lasuca | D20: 11607 | E20: 98620 | F20: 26480 | G20: =E20-F20 -> 72140
A21: LSR>> | B21: 44533 | C21: 106Lasuca | D21: 11641 | E21: 96240 | F21: 25940 | G21: =E21-F21 -> 70300
A22: LSR>> | B22: 44533 | C22: 108Lasuca | D22: 11616 | E22: 95620 | F22: 28260 | G22: =E22-F22 -> 67360
A23: LSR>> | B23: 44533 | C23: 106Lasuca | D23: 11628 | E23: 95700 | F23: 25760 | G23: =E23-F23 -> 69940
... A28: LSR>> | B28: 44533 | C28: 105lasuca | D28: 11629 | E28: 96200 | F28: 28380 | G28: =E28-F28 -> 67820
A29: LSR>> | B29: 44533 | C29: 113lasuca | D29: 11634 | E29: 97940 | F29: 27860 | G29: =E29-F29 -> 70080 | I29: =SUM(G12:G29) -> 1276940
A30: LSR>> | B30: 44533 | C30: 01EP | D30: 11594 | E30: 91200 | F30: 33680 | G30: =E30-F30 -> 57520
A31: LSR>> | B31: 44533 | C31: 27EP | D31: 11596 | E31: 100500 | F31: 32600 | G31: =E31-F31 -> 67900
A32: LSR>> | B32: 44533 | C32: 27EP | D32: 11624 | E32: 94420 | F32: 33520 | G32: =E32-F32 -> 60900
A33: LSR>> | B33: 44533 | C33: 203EP | D33: 11646 | E33: 94220 | F33: 33060 | G33: =E33-F33 -> 61160 | I33: =SUM(G30:G33) -> 247480
A34: LSR>> | B34: 44533 | C34: 15-atchafalaya | D34: 11593 | E34: 89480 | F34: 25380 | G34: =E34-F34 -> 64100
A35: LSR>> | B35: 44533 | C35: 1-atchafalaya | D35: 11598 | E35: 84560 | F35: 29040 | G35: =E35-F35 -> 55520
A36: LSR>> | B36: 44533 | C36: 104atchafalaya | D36: 11600 | E36: 88120 | F36: 28840 | G36: =E36-F36 -> 59280
A37: LSR>> | B37: 44533 | C37: 15-atchafalaya | D37: 11605 | E37: 82940 | F37: 26380 | G37: =E37-F37 -> 56560
A38: LSR>> | B38: 44533 | C38: 104-atchafalaya | D38: 11640 | E38: 91900 | F38: 29540 | G38: =E38-F38 -> 62360
A39: LSR>> | B39: 44533 | C39: 104-atchafalaya | D39: 11611 | E39: 86600 | F39: 29980 | G39: =E39-F39 -> 56620
A40: LSR>> | B40: 44533 | C40: 104-atchafalaya | D40: 11630 | E40: 87020 | F40: 29800 | G40: =E40-F40 -> 57220 | I40: =SUM(G34:G40) -> 411660
A41: Caldwell Thib>> | B41: 44533 | C41: 5laca | D41: 11589 | E41: 96400 | F41: 35320 | G41: =E41-F41 -> 61080
A42: Caldwell Thib>> | B42: 44533 | C42: 2laca | D42: 11595 | E42: 97200 | F42: 34780 | G42: =E42-F42 -> 62420
A43: Caldwell Thib>> | B43: 44533 | C43: 15laca | D43: 4938 | E43: 97760 | F43: 34840 | G43: =E43-F43 -> 62920
A44: Caldwell Thib>> | B44: 44533 | C44: 16laca | D44: 4942 | E44: 96880 | F44: 34200 | G44: =E44-F44 -> 62680
A45: Caldwell Thib>> | B45: 44533 | C45: 6Laca | D45: 4944 | E45: 97600 | F45: 33740 | G45: =E45-F45 -> 63860
A46: Caldwell Thib>> | B46: 44533 | C46: 14laca | D46: 4946 | E46: 98460 | F46: 34760 | G46: =E46-F46 -> 63700
A47: Caldwell Thib>> | B47: 44533 | C47: 15laca | D47: 4948 | E47: 98900 | F47: 34700 | G47: =E47-F47 -> 64200
A48: Caldwell Thib>> | B48: 44533 | C48: 5laca | D48: 4949 | E48: 95120 | F48: 34940 | G48: =E48-F48 -> 60180
A49: Caldwell Thib>> | B49: 44533 | C49: 16laca | D49: 4951 | E49: 94720 | F49: 34040 | G49: =E49-F49 -> 60680
A50: Caldwell Thib>> | B50: 44533 | C50: 6Laca | D50: 4954 | E50: 93460 | F50: 33620 | G50: =E50-F50 -> 59840
A51: Caldwell Thib>> | B51: 44533 | C51: 14laca | D51: 4955 | E51: 98560 | F51: 35040 | G51: =E51-F51 -> 63520
A52: Caldwell Thib>> | B52: 44533 | C52: 2laca | D52: 4956 | E52: 97840 | F52: 35040 | G52: =E52-F52 -> 62800
... A60: Caldwell Thib>> | B60: 44533 | C60: 5laca | D60: 4969 | E60: 97180 | F60: 34440 | G60: =E60-F60 -> 62740
A61: Caldwell Thib>> | B61: 44533 | C61: 16laca | D61: 4971 | E61: 96400 | F61: 34540 | G61: =E61-F61 -> 61860 | I61: =SUM(G41:G61) -> 1318740
A62: LSR>> | B62: 44533 | C62: 01D&Jfinley | D62: 11614 | E62: 86500 | F62: 27700 | G62: =E62-F62 -> 58800
A63: LSR>> | B63: 44533 | C63: 01D&Jfinley | D63: 11599 | E63: 89200 | F63: 27320 | G63: =E63-F63 -> 61880
A64: LSR>> | B64: 44533 | C64: 1kiethboone | D64: 11613 | E64: 83980 | F64: 28740 | G64: =E64-F64 -> 55240 | I64: =SUM(G62:G64) -> 175920
A65: CSC>> | B65: 44533 | C65: 001gates entprz | D65: 11615 | E65: 81480 | F65: 25300 | G65: =E65-F65 -> 56180
A66: CSC>> | B66: 44533 | C66: 275csc | D66: 11617 | E66: 78100 | F66: 29260 | G66: =E66-F66 -> 48840
A67: CSC>> | B67: 44533 | C67: 036csc | D67: 11618 | E67: 91960 | F67: 35500 | G67: =E67-F67 -> 56460
A68: CSC>> | B68: 44533 | C68: 116csc | D68: 11619 | E68: 86100 | F68: 29940 | G68: =E68-F68 -> 56160
A69: CSC>> | B69: 44533 | C69: 01csc | D69: 11620 | E69: 82840 | F69: 28700 | G69: =E69-F69 -> 54140
A70: CSC>> | B70: 44533 | C70: 1974csc | D70: 11621 | E70: 81060 | F70: 28080 | G70: =E70-F70 -> 52980
A71: CSC>> | B71: 44533 | C71: 03csc | D71: 11622 | E71: 81340 | F71: 28120 | G71: =E71-F71 -> 53220
A72: CSC>> | B72: 44533 | C72: 227csc | D72: 11623 | E72: 89640 | F72: 27440 | G72: =E72-F72 -> 62200
A73: CSC>> | B73: 44533 | C73: 9669csc | D73: 11626 | E73: 79500 | F73: 26820 | G73: =E73-F73 -> 52680
A74: CSC>> | B74: 44533 | C74: 225csc | D74: 11627 | E74: 96100 | F74: 27760 | G74: =E74-F74 -> 68340
A75: CSC>> | B75: 44533 | C75: 06csc | D75: 11632 | E75: 75960 | F75: 28860 | G75: =E75-F75 -> 47100
A76: CSC>> | B76: 44533 | C76: 305csc | D76: 11633 | E76: 78820 | F76: 26460 | G76: =E76-F76 -> 52360
... A79: CSC>> | B79: 44533 | C79: 228csc | D79: 11643 | E79: 86200 | F79: 28680 | G79: =E79-F79 -> 57520
A80: CSC>> | B80: 44533 | C80: 114csc | D80: 11644 | E80: 78340 | F80: 29300 | G80: =E80-F80 -> 49040 | I80: =SUM(G65:G80) -> 875740
G83: =SUM(G1:G80) -> 4985280 | I83: =I80+I64+I61+I40+I33+I29+I11+I7 -> 4985280 | J83: checked

Sheet 12-04-2021
A1: WH1 to LSR>> | B1: 44534 | C1: 107lasuca | D1: 11650 | E1: 95260 | F1: 26020 | G1: =E1-F1 -> 69240
A2: WH1 to LSR>> | B2: 44534 | C2: 105lasuca | D2: 11649 | E2: 99120 | F2: 27180 | G2: =E2-F2 -> 71940
A3: WH1 to LSR>> | B3: 44534 | C3: 113lasuca | D3: 11651 | E3: 98200 | F3: 28280 | G3: =E3-F3 -> 69920
A4: WH2 to LSR>> | B4: 44534 | C4: 124Lasuca | D4: 11659 | E4: 99400 | F4: 26880 | G4: =E4-F4 -> 72520
A5: WH1 to LSR>> | B5: 44534 | C5: 106Lasuca | D5: 11663 | E5: 98300 | F5: 26320 | G5: =E5-F5 -> 71980
A6: WH1 to LSR>> | B6: 44534 | C6: 107lasuca | D6: 11672 | E6: 96620 | F6: 26000 | G6: =E6-F6 -> 70620
A7: WH1 to LSR>> | B7: 44534 | C7: 108Lasuca | D7: 11665 | E7: 98560 | F7: 26700 | G7: =E7-F7 -> 71860
A8: WH2 to LSR>> | B8: 44534 | C8: 105lasuca | D8: 11666 | E8: 99080 | F8: 28760 | G8: =E8-F8 -> 70320
A9: WH2 to LSR>> | B9: 44534 | C9: 113lasuca | D9: 11674 | E9: 98280 | F9: 27400 | G9: =E9-F9 -> 70880
A10: WH2 to LSR>> | B10: 44534 | C10: 124Lasuca | D10: 11676 | E10: 97200 | F10: 27400 | G10: =E10-F10 -> 69800
A11: WH1 to LSR>> | B11: 44534 | C11: 108Lasuca | D11: 11682 | E11: 96420 | F11: 29340 | G11: =E11-F11 -> 67080
A12: WH2 to LSR>> | B12: 44534 | C12: 105lasuca | D12: 11686 | E12: 96280 | F12: 28260 | G12: =E12-F12 -> 68020
... A17: WH1 to LSR>> | B17: 44534 | C17: 106Lasuca | D17: 11678 | E17: 96760 | F17: 26060 | G17: =E17-F17 -> 70700
A18: WH2 to LSR>> | B18: 44534 | C18: 106Lasuca | D18: 11691 | E18: 96220 | F18: 26100 | G18: =E18-F18 -> 70120 | I18: =SUM(G1:G18) -> 1268120
A19: WH2 to LSR>> | B19: 44534 | C19: 27EP | D19: 11648 | E19: 100800 | F19: 33220 | G19: =E19-F19 -> 67580
A20: WH2 to LSR>> | B20: 44534 | C20: 27EP | D20: 11662 | E20: 101900 | F20: 33180 | G20: =E20-F20 -> 68720
A21: WH2 to LSR>> | B21: 44534 | C21: 01EP | D21: 11656 | E21: 93320 | F21: 33480 | G21: =E21-F21 -> 59840
A22: WH2 to LSR>> | B22: 44534 | C22: 203EP | D22: 11658 | E22: 92300 | F22: 32940 | G22: =E22-F22 -> 59360
A23: WH2 to LSR>> | B23: 44534 | C23: 01EP | D23: 11671 | E23: 95200 | F23: 34140 | G23: =E23-F23 -> 61060
A24: WH2 to LSR>> | B24: 44534 | C24: 203EP | D24: 11669 | E24: 96680 | F24: 32780 | G24: =E24-F24 -> 63900 | I24: =SUM(G19:G24) -> 380460
A25: WH2 to LSR>> | B25: 44534 | C25: 105pacer | D25: 4973 | E25: 98740 | F25: 36100 | G25: =E25-F25 -> 62640
A26: WH2 to LSR>> | B26: 44534 | C26: 107pacer | D26: 11655 | E26: 96620 | F26: 33700 | G26: =E26-F26 -> 62920
A27: WH2 to LSR>> | B27: 44534 | C27: 105pacer | D27: 11660 | E27: 99600 | F27: 35840 | G27: =E27-F27 -> 63760
A28: WH1 to LSR>> | B28: 44534 | C28: 105pacer | D28: 11670 | E28: 100800 | F28: 35220 | G28: =E28-F28 -> 65580 | I28: =SUM(G25:G28) -> 254900
A29: WH1 to LSR>> | B29: 44534 | C29: 1keithboone | D29: 11652 | E29: 81600 | F29: 28760 | G29: =E29-F29 -> 52840
A30: WH2 to LSR>> | B30: 44534 | C30: 1keithboone | D30: 11667 | E30: 84620 | F30: 29020 | G30: =E30-F30 -> 55600
A31: WH1to LSR>> | B31: 44534 | C31: 1keithboone | D31: 11681 | E31: 84380 | F31: 28940 | G31: =E31-F31 -> 55440 | I31: =SUM(G29:G31) -> 163880
A32: WH1 to LSR>> | B32: 44534 | C32: 01D&Jfinley | D32: 11653 | E32: 85020 | F32: 27480 | G32: =E32-F32 -> 57540
A33: WH1 to LSR>> | B33: 44534 | C33: 01D&Jfinley | D33: 11668 | E33: 83600 | F33: 28280 | G33: =E33-F33 -> 55320
A34: WH1 to LSR>> | B34: 44534 | C34: 01D&Jfinley | D34: 11680 | E34: 84280 | F34: 27720 | G34: =E34-F34 -> 56560 | I34: =SUM(G32:G34) -> 169420
A35: WH1 to LSR>> | B35: 44534 | C35: 106I&M trkn | D35: 11657 | E35: 95940 | F35: 32180 | G35: =E35-F35 -> 63760
A36: WH1 to LSR>> | B36: 44534 | C36: 106I&M trkn | D36: 11696 | E36: 93460 | F36: 32300 | G36: =E36-F36 -> 61160 | I36: =SUM(G35:G36) -> 124920
A37: WH1-caldwllThib | B37: 44534 | C37: 5laca | D37: 11661 | E37: 100060 | F37: 34600 | G37: =E37-F37 -> 65460
A38: WH1-caldwllThib | B38: 44534 | C38: 15laca | D38: 4977 | E38: 97920 | F38: 34780 | G38: =E38-F38 -> 63140
A39: WH1-caldwllThib | B39: 44534 | C39: 6Laca | D39: 4982 | E39: 97920 | F39: 33900 | G39: =E39-F39 -> 64020
A40: WH1-caldwllThib | B40: 44534 | C40: 14laca | D40: 4984 | E40: 98080 | F40: 35040 | G40: =E40-F40 -> 63040
A41: WH1-caldwllThib | B41: 44534 | C41: 15laca | D41: 4986 | E41: 98700 | F41: 34580 | G41: =E41-F41 -> 64120
A42: WH1-caldwllThib | B42: 44534 | C42: 16laca | D42: 4987 | E42: 99420 | F42: 34880 | G42: =E42-F42 -> 64540
A43: WH1-caldwllThib | B43: 44534 | C43: 5laca | D43: 4989 | E43: 95800 | F43: 34380 | G43: =E43-F43 -> 61420
A44: WH1-caldwllThib | B44: 44534 | C44: 16laca | D44: 4999 | E44: 97200 | F44: 34640 | G44: =E44-F44 -> 62560
A45: WH1-caldwllThib | B45: 44534 | C45: 15laca | D45: 4998 | E45: 99400 | F45: 34300 | G45: =E45-F45 -> 65100
A46: WH1-caldwllThib | B46: 44534 | C46: 14laca | D46: 4996 | E46: 98180 | F46: 34760 | G46: =E46-F46 -> 63420
A47: WH1-caldwllThib | B47: 44534 | C47: 5laca | D47: 11697 | E47: 97000 | F47: 34960 | G47: =E47-F47 -> 62040
A48: WH2-caldwllThib | B48: 44534 | C48: 2laca | D48: 11664 | E48: 101000 | F48: 35000 | G48: =E48-F48 -> 66000
... A54: WH2-caldwllThib | B54: 44534 | C54: 16laca | D54: 5005 | E54: 96760 | F54: 34380 | G54: =E54-F54 -> 62380
A55: WH2-caldwllThib | B55: 44534 | C55: 2laca | D55: 5004 | E55: 97140 | F55: 34500 | G55: =E55-F55 -> 62640 | I55: =SUM(G37:G55) -> 1219640
A56: WH2 TO LSR>> | B56: 44534 | C56: 1jaybrad | D56: 11677 | E56: 101880 | F56: 28920 | G56: =E56-F56 -> 72960
A57: WH2 TO LSR>> | B57: 44534 | C57: 1jaybrad | D57: 11687 | E57: 100980 | F57: 30080 | G57: =E57-F57 -> 70900 | I57: =SUM(G56:G57) -> 143860
A58: wh2 toCSC>> | B58: 44534 | C58: 275csc | D58: 11683 | E58: 76300 | F58: 29100 | G58: =E58-F58 -> 47200
A59: wh2 to CSC>> | B59: 44534 | C59: 036CSC | D59: 11679 | E59: 91240 | F59: 35600 | G59: =E59-F59 -> 55640
A60: wh2 toCSC>> | B60: 44534 | C60: 8732csc | D60: 11685 | E60: 98920 | F60: 30660 | G60: =E60-F60 -> 68260
A61: wh2 toCSC>> | B61: 44534 | C61: 198csc | D61: 11693 | E61: 80620 | F61: 31280 | G61: =E61-F61 -> 49340
A62: wh2 toCSC>> | B62: 44534 | C62: 229csc | D62: 11695 | E62: 84200 | F62: 28680 | G62: =E62-F62 -> 55520 | I62: =SUM(G58:G62) -> 275960
G65: =SUM(G1:G62) -> 4001160 | I65: =I62+I57+I55+I36+I34+I31+I28+I24+I18 -> 4001160 | J65: checked

Sheet 12-05-2021
A1: WH1 to LSR | B1: 44535 | C1: 105lasuca | D1: 10201 | E1: 98300 | F1: 27700 | G1: =E1-F1 -> 70600
A2: WH1 to LSR | B2: 44535 | C2: 124Lasuca | D2: 10204 | E2: 100700 | F2: 27000 | G2: =E2-F2 -> 73700
A3: WH1 to LSR | B3: 44535 | C3: 113lasuca | D3: 10205 | E3: 99420 | F3: 27960 | G3: =E3-F3 -> 71460
A4: WH1 to LSR | B4: 44535 | C4: 107lasuca | D4: 10213 | E4: 96200 | F4: 26440 | G4: =E4-F4 -> 69760
A5: WH1 to LSR | B5: 44535 | C5: 108Lasuca | D5: 10217 | E5: 100540 | F5: 27320 | G5: =E5-F5 -> 73220
A6: WH1 to LSR | B6: 44535 | C6: 105lasuca | D6: 10222 | E6: 96700 | F6: 27660 | G6: =E6-F6 -> 69040
A7: WH1 to LSR | B7: 44535 | C7: 106Lasuca | D7: 10231 | E7: 97140 | F7: 25980 | G7: =E7-F7 -> 71160
A8: WH1 to LSR | B8: 44535 | C8: 113lasuca | D8: 10232 | E8: 95260 | F8: 27500 | G8: =E8-F8 -> 67760
A9: WH1 to LSR | B9: 44535 | C9: 124Lasuca | D9: 10233 | E9: 96860 | F9: 26640 | G9: =E9-F9 -> 70220
A10: WH1 to LSR | B10: 44535 | C10: 107lasuca | D10: 10235 | E10: 98740 | F10: 26840 | G10: =E10-F10 -> 71900
A11: WH1 to LSR | B11: 44535 | C11: 105lasuca | D11: 10248 | E11: 96760 | F11: 29500 | G11: =E11-F11 -> 67260
A12: WH1 to LSR | B12: 44535 | C12: 108Lasuca | D12: 10236 | E12: 97760 | F12: 26200 | G12: =E12-F12 -> 71560
... A17: WH2 TO LSR>> | B17: 44535 | C17: 107pacer | D17: 10242 | E17: 96800 | F17: 34260 | G17: =E17-F17 -> 62540
A18: WH2 TO LSR>> | B18: 44535 | C18: 107pacer | D18: 10251 | E18: 98780 | F18: 34060 | G18: =E18-F18 -> 64720 | I18: =SUM(G1:G18) -> 1239100
A19: WH2 TO LSR>> | B19: 44535 | C19: 01EP | D19: 10203 | E19: 91360 | F19: 33880 | G19: =E19-F19 -> 57480
A20: WH2 TO LSR>> | B20: 44535 | C20: 27EP | D20: 10214 | E20: 103900 | F20: 33640 | G20: =E20-F20 -> 70260
A21: WH2 TO LSR>> | B21: 44535 | C21: 01EP | D21: 10221 | E21: 92940 | F21: 33700 | G21: =E21-F21 -> 59240
A22: WH1 TO LSR>> | B22: 44535 | C22: 27EP | D22: 10228 | E22: 94520 | F22: 33080 | G22: =E22-F22 -> 61440
A23: WH2 TO LSR>> | B23: 44535 | C23: 27EP | D23: 10241 | E23: 101640 | F23: 32740 | G23: =E23-F23 -> 68900 | I23: =SUM(G19:G23) -> 317320
A24: WH2 TO LSR>> | B24: 44535 | C24: 1jaybrad | D24: 10209 | E24: 111400 | F24: 29920 | G24: =E24-F24 -> 81480
A25: WH2 TO LSR>> | B25: 44535 | C25: 1jaybrad | D25: 10226 | E25: 100660 | F25: 30280 | G25: =E25-F25 -> 70380
A26: WH2 TO LSR>> | B26: 44535 | C26: 1jaybrad | D26: 10244 | E26: 103600 | F26: 29240 | G26: =E26-F26 -> 74360 | I26: =SUM(G24:G26) -> 226220
A27: WH2 TO LSR>> | B27: 44535 | C27: 01D&Jfinley | D27: 10211 | E27: 86240 | F27: 28160 | G27: =E27-F27 -> 58080
A28: WH2 TO LSR>> | B28: 44535 | C28: 01D&Jfinley | D28: 10230 | E28: 86800 | F28: 28120 | G28: =E28-F28 -> 58680 | I28: =SUM(G27:G28) -> 116760
A29: WH2 TO LSR>> | B29: 44535 | C29: 1keithboone | D29: 10210 | E29: 85440 | F29: 29360 | G29: =E29-F29 -> 56080
A30: WH2 TO LSR>> | B30: 44535 | C30: 1keithboone | D30: 10229 | E30: 86900 | F30: 29700 | G30: =E30-F30 -> 57200 | I30: =SUM(G29:G30) -> 113280
A31: WH2 TO LSR>> | B31: 44535 | C31: 106I&M trkn | D31: 10206 | E31: 94860 | F31: 32240 | G31: =E31-F31 -> 62620
A32: WH2 TO LSR>> | B32: 44535 | C32: 106I&M trkn | D32: 10249 | E32: 97740 | F32: 32380 | G32: =E32-F32 -> 65360 | I32: =SUM(G31:G32) -> 127980
A33: WH1 to LSR>> | B33: 44535 | C33: 24WFB | D33: 10224 | E33: 100360 | F33: 31180 | G33: =E33-F33 -> 69180
A34: WH2to LSR>> | B34: 44535 | C34: 24WFB | D34: 10243 | E34: 99680 | F34: 31480 | G34: =E34-F34 -> 68200 | I34: =SUM(G33:G34) -> 137380
A35: WH1 CarwllThib | B35: 44535 | C35: 15laca | D35: 10202 | E35: 99300 | F35: 34800 | G35: =E35-F35 -> 64500
A36: WH1 CarwllThib | B36: 44535 | C36: 6Laca | D36: 10215 | E36: 96500 | F36: 34100 | G36: =E36-F36 -> 62400
A37: WH2 CarwllThib | B37: 44535 | C37: 5laca | D37: 10250 | E37: 95960 | F37: 34380 | G37: =E37-F37 -> 61580
A38: WH1 CarwllThib | B38: 44535 | C38: 15laca | D38: 10234 | E38: 98700 | F38: 34500 | G38: =E38-F38 -> 64200
A39: WH2 CarwllThib | B39: 44535 | C39: 5laca | D39: 10245 | E39: 92320 | F39: 34000 | G39: =E39-F39 -> 58320
A40: WH2 CarwllThib | B40: 44535 | C40: 16laca | D40: 10240 | E40: 93960 | F40: 34800 | G40: =E40-F40 -> 59160
A41: WH2 CarwllThib | B41: 44535 | C41: 16laca | D41: 10218 | E41: 96520 | F41: 34140 | G41: =E41-F41 -> 62380
A42: WH2 CarwllThib | B42: 44535 | C42: 14laca | D42: 10219 | E42: 98720 | F42: 35000 | G42: =E42-F42 -> 63720
A43: WH2 CarwllThib | B43: 44535 | C43: 2laca | D43: 10220 | E43: 98060 | F43: 35000 | G43: =E43-F43 -> 63060
A44: WH2 CarwllThib | B44: 44535 | C44: 6Laca | D44: 10239 | E44: 95100 | F44: 34140 | G44: =E44-F44 -> 60960
A45: WH2 CarwllThib | B45: 44535 | C45: 5laca | D45: 10255 | E45: 97800 | F45: 34180 | G45: =E45-F45 -> 63620 | I45: =SUM(G35:G45) -> 683900
A46: WH2 TO CSC>> | B46: 44535 | C46: 226csc | D46: 10237 | E46: 83120 | F46: 28900 | G46: =E46-F46 -> 54220
A47: WH2 TO CSC>> | B47: 44535 | C47: 228csc | D47: 10238 | E47: 80700 | F47: 28040 | G47: =E47-F47 -> 52660
A48: WH2 TO CSC>> | B48: 44535 | C48: 193csc | D48: 10246 | E48: 82740 | F48: 30540 | G48: =E48-F48 -> 52200
A49: WH2 TO CSC>> | B49: 44535 | C49: 275csc | D49: 10247 | E49: 82300 | F49: 28800 | G49: =E49-F49 -> 53500
A50: WH2 TO CSC>> | B50: 44535 | C50: 229csc | D50: 10252 | E50: 81020 | F50: 28800 | G50: =E50-F50 -> 52220
A51: WH2 TO CSC>> | B51: 44535 | C51: 114csc | D51: 10253 | E51: 80420 | F51: 29980 | G51: =E51-F51 -> 50440
A52: WH2 TO CSC>> | B52: 44535 | C52: 12csc | D52: 10254 | E52: 86080 | F52: 27880 | G52: =E52-F52 -> 58200
A53: WH2 TO CSC>> | B53: 44535 | C53: D4csc | D53: 10258 | E53: 83280 | F53: 28920 | G53: =E53-F53 -> 54360 | I53: =SUM(G46:G53) -> 427800
G56: =SUM(G1:G53) -> 3389740 | I56: =I53+I45+I34+I32+I30+I28+I26+I23+I18 -> 3389740 | J56: checked

Sheet 12-06-2021
A1: WH2 CarwllThib | B1: 44536 | C1: 15laca | D1: 10260 | E1: 99900 | F1: 34660 | G1: =E1-F1 -> 65240
A2: WH2 CarwllThib | B2: 44536 | C2: 16laca | D2: 10262 | E2: 97400 | F2: 34640 | G2: =E2-F2 -> 62760
A3: WH2 CarwllThib | B3: 44536 | C3: 5laca | D3: 10263 | E3: 98200 | F3: 33920 | G3: =E3-F3 -> 64280
A4: WH2 CarwllThib | B4: 44536 | C4: 6Laca | D4: 10264 | E4: 99400 | F4: 33940 | G4: =E4-F4 -> 65460
A5: WH2 CarwllThib | B5: 44536 | C5: 14laca | D5: 10266 | E5: 99640 | F5: 35040 | G5: =E5-F5 -> 64600
A6: WH2 CarwllThib | B6: 44536 | C6: 2laca | D6: 10267 | E6: 100300 | F6: 34980 | G6: =E6-F6 -> 65320
A7: WH2 CarwllThib | B7: 44536 | C7: 15laca | D7: 10269 | E7: 100900 | F7: 34420 | G7: =E7-F7 -> 66480
A8: WH2 CarwllThib | B8: 44536 | C8: 3laca | D8: 10271 | E8: 101220 | F8: 34720 | G8: =E8-F8 -> 66500
A9: WH2 CarwllThib | B9: 44536 | C9: 6Laca | D9: 5051 | E9: 96660 | F9: 33700 | G9: =E9-F9 -> 62960
A10: WH2 CarwllThib | B10: 44536 | C10: 5laca | D10: 5050 | E10: 97340 | F10: 33660 | G10: =E10-F10 -> 63680
A11: WH2 CarwllThib | B11: 44536 | C11: 14laca | D11: 5053 | E11: 99820 | F11: 34780 | G11: =E11-F11 -> 65040
A12: WH2 CarwllThib | B12: 44536 | C12: 5laca | D12: 5081 | E12: 99080 | F12: 34420 | G12: =E12-F12 -> 64660
... A17: WH2 CarwllThib | B17: 44536 | C17: 15laca | D17: 10277 | E17: 100120 | F17: 34160 | G17: =E17-F17 -> 65960
A18: WH2 CarwllThib | B18: 44536 | C18: 3laca | D18: 10296 | E18: 97900 | F18: 33980 | G18: =E18-F18 -> 63920 | I18: =SUM(G1:G18) -> 1157500
A19: WH2 TO LSR>> | B19: 44536 | C19: 27EP | D19: 10256 | E19: 103300 | F19: 32320 | G19: =E19-F19 -> 70980
A20: WH2 TO LSR>> | B20: 44536 | C20: 27EP | D20: 10258 | E20: 101300 | F20: 33160 | G20: =E20-F20 -> 68140
A21: WH2 TO LSR>> | B21: 44536 | C21: 27EP | D21: 10284 | E21: 95860 | F21: 33560 | G21: =E21-F21 -> 62300 | I21: =SUM(G19:G21) -> 201420
A22: WH2 TO LSR>> | B22: 44536 | C22: 105pacer | D22: 10259 | E22: 103600 | F22: 36440 | G22: =E22-F22 -> 67160
A23: WH2 TO LSR>> | B23: 44536 | C23: 105pacer | D23: 10265 | E23: 103500 | F23: 36140 | G23: =E23-F23 -> 67360
A24: WH2 TO LSR>> | B24: 44536 | C24: 1909pacer | D24: 10273 | E24: 105900 | F24: 34080 | G24: =E24-F24 -> 71820
A25: WH2 TO LSR>> | B25: 44536 | C25: 105pacer | D25: 10274 | E25: 106560 | F25: 35860 | G25: =E25-F25 -> 70700
A26: WH2 TO LSR>> | B26: 44536 | C26: 107pacer | D26: 10293 | E26: 99040 | F26: 34420 | G26: =E26-F26 -> 64620 | I26: =SUM(G22:G26) -> 341660
A27: WH2 TO LSR>> | B27: 44536 | C27: 106I&M trkn | D27: 10257 | E27: 94120 | F27: 32300 | G27: =E27-F27 -> 61820
A28: WH2 TO LSR>> | B28: 44536 | C28: 106I&M trkn | D28: 10292 | E28: 95920 | F28: 32420 | G28: =E28-F28 -> 63500
A29: WH2 TO LSR>> | B29: 44536 | C29: M-05 FORTIE | D29: 10261 | E29: 101720 | F29: 34180 | G29: =E29-F29 -> 67540
A30: WH2 TO LSR>> | B30: 44536 | C30: 01D&Jfinley | D30: 10297 | E30: 85400 | F30: 29700 | G30: =E30-F30 -> 55700
A31: WH2 TO LSR>> | B31: 44536 | C31: 1keithboone | D31: 10298 | E31: 88300 | F31: 29680 | G31: =E31-F31 -> 58620 | I31: =SUM(G27:G31) -> 307180
A32: WH2 TO LSR>> | B32: 44536 | C32: 107lasuca | D32: 10295 | E32: 99200 | F32: 27000 | G32: =E32-F32 -> 72200
A33: WH2 TO LSR>> | B33: 44536 | C33: 105lasuca | D33: 10294 | E33: 98640 | F33: 28380 | G33: =E33-F33 -> 70260
A34: WH2 TO LSR>> | B34: 44536 | C34: 106Lasuca | D34: 10283 | E34: 95300 | F34: 34100 | G34: =E34-F34 -> 61200
A35: WH2 TO LSR>> | B35: 44536 | C35: 113lasuca | D35: 10289 | E35: 99600 | F35: 27060 | G35: =E35-F35 -> 72540 | I35: =SUM(G32:G35) -> 276200
A36: WH2 TO CSC>> | B36: 44536 | C36: 17CSC | D36: 10285 | E36: 84380 | F36: 30300 | G36: =E36-F36 -> 54080
A37: WH2 TO CSC>> | B37: 44536 | C37: 8732csc | D37: 10286 | E37: 82620 | F37: 31460 | G37: =E37-F37 -> 51160
A38: WH2 TO CSC>> | B38: 44536 | C38: 1974csc | D38: 10287 | E38: 81620 | F38: 28780 | G38: =E38-F38 -> 52840
A39: WH2 TO CSC>> | B39: 44536 | C39: 148csc | D39: 10288 | E39: 78740 | F39: 29840 | G39: =E39-F39 -> 48900
A40: WH2 TO CSC>> | B40: 44536 | C40: 193csc | D40: 10290 | E40: 79140 | F40: 30820 | G40: =E40-F40 -> 48320
A41: WH2 TO CSC>> | B41: 44536 | C41: 229csc | D41: 10291 | E41: 81280 | F41: 28760 | G41: =E41-F41 -> 52520
A42: WH2 TO CSC>> | B42: 44536 | C42: 03csc | D42: 10281 | E42: 83060 | F42: 25300 | G42: =E42-F42 -> 57760
A43: WH2 TO CSC>> | B43: 44536 | C43: 01csc | D43: 10280 | E43: 83440 | F43: 29660 | G43: =E43-F43 -> 53780
A44: WH2 TO CSC>> | B44: 44536 | C44: 226csc | D44: 10279 | E44: 89280 | F44: 28500 | G44: =E44-F44 -> 60780
A45: WH2 TO CSC>> | B45: 44536 | C45: 12csc | D45: 10299 | E45: 87540 | F45: 28000 | G45: =E45-F45 -> 59540
A46: WH2 TO CSC>> | B46: 44536 | C46: 1372csc | D46: 10304 | E46: 77140 | F46: 27620 | G46: =E46-F46 -> 49520 | I46: =SUM(G36:G46) -> 589200
A47: wh2 to B-BRIDGE | B47: 44536 | C47: 02 to BB | D47: 2484 | E47: 69580 | F47: 35540 | G47: =E47-F47 -> 34040 | I47: =G47 -> 34040
G50: =SUM(G1:G47) -> 2907200 | I50: =I47+I46+I35+I31+I26+I21+I18 -> 2907200 | J50: Checked

Sheet 12-07-2021
A1: WH1 CarwllThib | B1: 44537 | C1: 5laca | D1: 5084 | E1: 95480 | F1: 34000 | G1: =E1-F1 -> 61480
A2: WH1 CarwllThib | B2: 44537 | C2: 6Laca | D2: 5085 | E2: 97580 | F2: 34180 | G2: =E2-F2 -> 63400
A3: WH1 CarwllThib | B3: 44537 | C3: 15laca | D3: 5086 | E3: 97240 | F3: 34740 | G3: =E3-F3 -> 62500
A4: WH1 CarwllThib | B4: 44537 | C4: 5laca | D4: 5090 | E4: 98080 | F4: 33960 | G4: =E4-F4 -> 64120
A5: WH1 CarwllThib | B5: 44537 | C5: 6Laca | D5: 5091 | E5: 96940 | F5: 34160 | G5: =E5-F5 -> 62780
A6: WH1 CarwllThib | B6: 44537 | C6: 15laca | D6: 5092 | E6: 96900 | F6: 34440 | G6: =E6-F6 -> 62460
A7: WH1 CarwllThib | B7: 44537 | C7: 5laca | D7: 5097 | E7: 98480 | F7: 33740 | G7: =E7-F7 -> 64740
A8: WH1 CarwllThib | B8: 44537 | C8: 15laca | D8: 5099 | E8: 99660 | F8: 34160 | G8: =E8-F8 -> 65500
A9: WH1 CarwllThib | B9: 44537 | C9: 2laca | D9: 5101 | E9: 95700 | F9: 34520 | G9: =E9-F9 -> 61180
A10: WH1 CarwllThib | B10: 44537 | C10: 5laca | D10: 5103 | E10: 97020 | F10: 34440 | G10: =E10-F10 -> 62580
A11: WH2 CarwllThib | B11: 44537 | C11: 3laca | D11: 11730 | E11: 101000 | F11: 34500 | G11: =E11-F11 -> 66500
A12: WH2 CarwllThib | B12: 44537 | C12: 6Laca | D12: 5098 | E12: 98400 | F12: 33920 | G12: =E12-F12 -> 64480
... A15: WH2 CarwllThib | B15: 44537 | C15: 3laca | D15: 11702 | E15: 98500 | F15: 33780 | G15: =E15-F15 -> 64720
A16: WH2 CarwllThib | B16: 44537 | C16: 6Laca | D16: 11757 | E16: 105000 | F16: 33740 | G16: =E16-F16 -> 71260 | I16: =SUM(G1:G16) -> 1028420
A17: WH1 TO LSR>> | B17: 44537 | C17: 01EP | D17: 10301 | E17: 92400 | F17: 34140 | G17: =E17-F17 -> 58260
A18: WH2 TO LSR>> | B18: 44537 | C18: 27EP | D18: 10302 | E18: 100440 | F18: 33340 | G18: =E18-F18 -> 67100
A19: WH2 TO LSR>> | B19: 44537 | C19: 01EP | D19: 11708 | E19: 92320 | F19: 33960 | G19: =E19-F19 -> 58360
A20: WH2 TO LSR>> | B20: 44537 | C20: 27EP | D20: 11709 | E20: 103600 | F20: 32980 | G20: =E20-F20 -> 70620
A21: WH2 TO LSR>> | B21: 44537 | C21: 357EP | D21: 11712 | E21: 81380 | F21: 32840 | G21: =E21-F21 -> 48540
A22: WH2 TO LSR>> | B22: 44537 | C22: 203EP | D22: 11723 | E22: 94420 | F22: 33400 | G22: =E22-F22 -> 61020
A23: WH2 TO LSR>> | B23: 44537 | C23: 27EP | D23: 11728 | E23: 102300 | F23: 32760 | G23: =E23-F23 -> 69540
A24: WH2 TO LSR>> | B24: 44537 | C24: 203EP | D24: 11738 | E24: 90100 | F24: 33200 | G24: =E24-F24 -> 56900
A25: WH1 TO LSR | B25: 44537 | C25: 357EP | D25: 11734 | E25: 81600 | F25: 34680 | G25: =E25-F25 -> 46920
A26: WH2 TO LSR | B26: 44537 | C26: 203EP | D26: 11756 | E26: 98500 | F26: 33060 | G26: =E26-F26 -> 65440 | I26: =SUM(G17:G26) -> 602700
A27: WH2 TO LSR>> | B27: 44537 | C27: 105pacer | D27: 11701 | E27: 105000 | F27: 36200 | G27: =E27-F27 -> 68800
A28: WH2 TO LSR>> | B28: 44537 | C28: 1909pacer | D28: 11703 | E28: 101300 | F28: 34460 | G28: =E28-F28 -> 66840
A29: WH2 TO LSR>> | B29: 44537 | C29: 107pacer | D29: 11707 | E29: 95780 | F29: 34280 | G29: =E29-F29 -> 61500
A30: WH2 TO LSR>> | B30: 44537 | C30: 105pacer | D30: 11716 | E30: 103480 | F30: 36120 | G30: =E30-F30 -> 67360
A31: WH2 TO LSR>> | B31: 44537 | C31: 1909pacer | D31: 11721 | E31: 101200 | F31: 34280 | G31: =E31-F31 -> 66920
A32: WH2 TO LSR>> | B32: 44537 | C32: 107pacer | D32: 11750 | E32: 101940 | F32: 34900 | G32: =E32-F32 -> 67040 | I32: =SUM(G27:G32) -> 398460
A33: WH1 TO LSR>> | B33: 44537 | C33: 124Lasuca | D33: 10300 | E33: 95900 | F33: 28140 | G33: =E33-F33 -> 67760
A34: WH1 TO LSR>> | B34: 44537 | C34: 106Lasuca | D34: 11698 | E34: 97000 | F34: 26640 | G34: =E34-F34 -> 70360
A35: WH1 TO LSR>> | B35: 44537 | C35: 108Lasuca | D35: 11699 | E35: 99160 | F35: 26420 | G35: =E35-F35 -> 72740
A36: WH1 TO LSR>> | B36: 44537 | C36: 113lasuca | D36: 11700 | E36: 97000 | F36: 29400 | G36: =E36-F36 -> 67600
A37: WH1 TO LSR>> | B37: 44537 | C37: 107lasuca | D37: 11710 | E37: 98220 | F37: 26860 | G37: =E37-F37 -> 71360
A38: WH1 TO LSR>> | B38: 44537 | C38: 105lasuca | D38: 11711 | E38: 109700 | F38: 29960 | G38: =E38-F38 -> 79740
A39: WH1 TO LSR>> | B39: 44537 | C39: 124Lasuca | D39: 11718 | E39: 95060 | F39: 27280 | G39: =E39-F39 -> 67780
A40: WH1 TO LSR>> | B40: 44537 | C40: 106Lasuca | D40: 11720 | E40: 98220 | F40: 26200 | G40: =E40-F40 -> 72020
A41: WH2 TO LSR>> | B41: 44537 | C41: 108Lasuca | D41: 11722 | E41: 102120 | F41: 27140 | G41: =E41-F41 -> 74980
A42: WH1 TO LSR>> | B42: 44537 | C42: 113lasuca | D42: 11726 | E42: 99640 | F42: 28480 | G42: =E42-F42 -> 71160
A43: WH2 TO LSR>> | B43: 44537 | C43: 107lasuca | D43: 11736 | E43: 98100 | F43: 26700 | G43: =E43-F43 -> 71400
A44: WH2 TO LSR>> | B44: 44537 | C44: 124Lasuca | D44: 11739 | E44: 96300 | F44: 26500 | G44: =E44-F44 -> 69800
... A48: WH2 TO LSR>> | B48: 44537 | C48: 108Lasuca | D48: 11749 | E48: 96700 | F48: 29280 | G48: =E48-F48 -> 67420
A49: WH1 TO LSR>> | B49: 44537 | C49: 107lasuca | D49: 11755 | E49: 99300 | F49: 26820 | G49: =E49-F49 -> 72480 | I49: =SUM(G33:G49) -> 1212780
A50: WH2 TO LSR>> | B50: 44537 | C50: 01D&Jfinley | D50: 11704 | E50: 85940 | F50: 28620 | G50: =E50-F50 -> 57320
A51: WH1 TO LSR>> | B51: 44537 | C51: 01D&Jfinley | D51: 11724 | E51: 85280 | F51: 27820 | G51: =E51-F51 -> 57460
A52: WH1 TO LSR>> | B52: 44537 | C52: 1keithboone | D52: 11705 | E52: 86960 | F52: 29700 | G52: =E52-F52 -> 57260
A53: WH1 TO LSR>> | B53: 44537 | C53: 1keithboone | D53: 11725 | E53: 86100 | F53: 29220 | G53: =E53-F53 -> 56880
A54: WH2 TO LSR>> | B54: 44537 | C54: 106I&M trkn | D54: 11706 | E54: 96060 | F54: 32240 | G54: =E54-F54 -> 63820
A55: WH2 TO LSR>> | B55: 44537 | C55: 106I&M trkn | D55: 11751 | E55: 98460 | F55: 32480 | G55: =E55-F55 -> 65980
A56: WH2 TO LSR>> | B56: 44537 | C56: 01southprestige | D56: 10303 | E56: 108120 | F56: 27880 | G56: =E56-F56 -> 80240
A57: WH1 TO LSR>> | B57: 44537 | C57: 01southprestige | D57: 11713 | E57: 98380 | F57: 29060 | G57: =E57-F57 -> 69320
A58: WH2 TO LSR>> | B58: 44537 | C58: 01southprestige | D58: 11729 | E58: 107220 | F58: 28920 | G58: =E58-F58 -> 78300
A59: WH2 TO LSR>> | B59: 44537 | C59: 24WFB | D59: 11714 | E59: 105340 | F59: 32160 | G59: =E59-F59 -> 73180
A60: WH2 TO LSR>> | B60: 44537 | C60: 24WFB | D60: 11735 | E60: 106520 | F60: 28380 | G60: =E60-F60 -> 78140
A61: WH2 TO LSR>> | B61: 44537 | C61: 24WFB | D61: 11752 | E61: 114900 | F61: 30860 | G61: =E61-F61 -> 84040
... A65: WH2 TO LSR>> | B65: 44537 | C65: 1jaybrad | D65: 11745 | E65: 102100 | F65: 30240 | G65: =E65-F65 -> 71860
A66: WH2 TO LSR>> | B66: 44537 | C66: 1jaybrad | D66: 11758 | E66: 112000 | F66: 30600 | G66: =E66-F66 -> 81400 | I66: =SUM(G50:G66) -> 1190180
A67: WH2 TO CSC>> | B67: 44537 | C67: 226csc | D67: 11732 | E67: 93660 | F67: 28820 | G67: =E67-F67 -> 64840
A68: WH2 TO CSC>> | B68: 44537 | C68: 275csc | D68: 11733 | E68: 85140 | F68: 28900 | G68: =E68-F68 -> 56240
A69: WH2 TO CSC>> | B69: 44537 | C69: 444csc | D69: 11737 | E69: 84140 | F69: 29500 | G69: =E69-F69 -> 54640
A70: WH2 TO CSC>> | B70: 44537 | C70: 03csc | D70: 11741 | E70: 85760 | F70: 25400 | G70: =E70-F70 -> 60360
A71: WH2 TO CSC>> | B71: 44537 | C71: 305csc | D71: 11744 | E71: 82660 | F71: 27020 | G71: =E71-F71 -> 55640
A72: WH2 TO CSC>> | B72: 44537 | C72: 01csc | D72: 11747 | E72: 80860 | F72: 29520 | G72: =E72-F72 -> 51340
A73: WH2 TO CSC>> | B73: 44537 | C73: 1974csc | D73: 11748 | E73: 81440 | F73: 28400 | G73: =E73-F73 -> 53040
A74: WH2 TO CSC>> | B74: 44537 | C74: 12csc | D74: 11754 | E74: 87040 | F74: 28480 | G74: =E74-F74 -> 58560 | I74: =SUM(G67:G74) -> 454660
G77: =SUM(G1:G74) -> 4887200 | I77: =SUM(I1:I74) -> 4887200 | J77: checked

Sheet 12-08-2021
A1: WH1 TO LSR | B1: 44538 | C1: 108Lasuca | D1: 11769 | E1: 99600 | F1: 26760 | G1: =E1-F1 -> 72840
A2: WH1 TO LSR | B2: 44538 | C2: 75Lasuca | D2: 11772 | E2: 100540 | F2: 33960 | G2: =E2-F2 -> 66580
A3: WH1 TO LSR | B3: 44538 | C3: 106Lasuca | D3: 11759 | E3: 98200 | F3: 25680 | G3: =E3-F3 -> 72520
A4: WH1 TO LSR | B4: 44538 | C4: 105lasuca | D4: 11762 | E4: 96300 | F4: 27780 | G4: =E4-F4 -> 68520
A5: WH1 TO LSR | B5: 44538 | C5: 113lasuca | D5: 11763 | E5: 97000 | F5: 27240 | G5: =E5-F5 -> 69760
A6: WH2 TO LSR | B6: 44538 | C6: 105lasuca | D6: 11785 | E6: 98400 | F6: 28560 | G6: =E6-F6 -> 69840
A7: WH1 TO LSR | B7: 44538 | C7: 106Lasuca | D7: 11786 | E7: 98100 | F7: 26860 | G7: =E7-F7 -> 71240
A8: WH1 TO LSR | B8: 44538 | C8: 113lasuca | D8: 11788 | E8: 98900 | F8: 29040 | G8: =E8-F8 -> 69860
A9: WH2 TO LSR | B9: 44538 | C9: 108Lasuca | D9: 11791 | E9: 100400 | F9: 26540 | G9: =E9-F9 -> 73860
A10: WH2 TO LSR | B10: 44538 | C10: 75Lasuca | D10: 11825 | E10: 96060 | F10: 33620 | G10: =E10-F10 -> 62440
A11: WH2 TO LSR | B11: 44538 | C11: 113lasuca | D11: 11820 | E11: 98000 | F11: 38640 | G11: =E11-F11 -> 59360
A12: WH2 TO LSR | B12: 44538 | C12: 108Lasuca | D12: 11819 | E12: 99200 | F12: 26620 | G12: =E12-F12 -> 72580
... A17: WH2 TO LSR | B17: 44538 | C17: 75Lasuca | D17: 11802 | E17: 99140 | F17: 33600 | G17: =E17-F17 -> 65540
A18: WH1 TO LSR | B18: 44538 | C18: 105lasuca | D18: 11828 | E18: 101900 | F18: 27840 | G18: =E18-F18 -> 74060 | I18: =SUM(G1:G18) -> 1256500
A19: WH2 TO LSR | B19: 44538 | C19: 01EP | D19: 11775 | E19: 95240 | F19: 33820 | G19: =E19-F19 -> 61420
A20: WH2 TO LSR | B20: 44538 | C20: 27EP | D20: 11777 | E20: 104000 | F20: 32560 | G20: =E20-F20 -> 71440
A21: WH2 TO LSR | B21: 44538 | C21: 357EP | D21: 11778 | E21: 84220 | F21: 33600 | G21: =E21-F21 -> 50620
A22: WH2 TO LSR | B22: 44538 | C22: 203EP | D22: 11780 | E22: 95560 | F22: 34120 | G22: =E22-F22 -> 61440
A23: WH2 TO LSR | B23: 44538 | C23: 68ep | D23: 11805 | E23: 91860 | F23: 29020 | G23: =E23-F23 -> 62840
A24: WH2 TO LSR | B24: 44538 | C24: 27EP | D24: 11807 | E24: 98820 | F24: 33080 | G24: =E24-F24 -> 65740
A25: WH2 TO LSR | B25: 44538 | C25: 203EP | D25: 11806 | E25: 96400 | F25: 33080 | G25: =E25-F25 -> 63320
A26: WH2 TO LSR | B26: 44538 | C26: 01EP | D26: 11797 | E26: 99500 | F26: 33980 | G26: =E26-F26 -> 65520 | I26: =SUM(G19:G26) -> 502340
A27: WH2 TO LSR | B27: 44538 | C27: 107pacer | D27: 11764 | E27: 100500 | F27: 34660 | G27: =E27-F27 -> 65840
A28: WH1 TO LSR | B28: 44538 | C28: 105pacer | D28: 11773 | E28: 105060 | F28: 36460 | G28: =E28-F28 -> 68600
A29: WH2 TO LSR | B29: 44538 | C29: 105pacer | D29: 11761 | E29: 105000 | F29: 35600 | G29: =E29-F29 -> 69400
A30: WH2 TO LSR | B30: 44538 | C30: 1909pacer | D30: 11803 | E30: 101400 | F30: 34160 | G30: =E30-F30 -> 67240
A31: WH2 TO LSR | B31: 44538 | C31: 107pacer | D31: 11824 | E31: 96560 | F31: 34000 | G31: =E31-F31 -> 62560
A32: WH2 TO LSR | B32: 44538 | C32: 107pacer | D32: 11814 | E32: 91260 | F32: 34020 | G32: =E32-F32 -> 57240
A33: WH2 TO LSR | B33: 44538 | C33: 105pacer | D33: 11795 | E33: 105060 | F33: 36100 | G33: =E33-F33 -> 68960 | I33: =SUM(G27:G33) -> 459840
A34: WH1 TO LSR | B34: 44538 | C34: 1keithboone | D34: 11766 | E34: 86880 | F34: 29560 | G34: =E34-F34 -> 57320
A35: WH2 TO LSR | B35: 44538 | C35: 1keithboone | D35: 11782 | E35: 85220 | F35: 29920 | G35: =E35-F35 -> 55300 | I35: =SUM(G34:G35) -> 112620
A36: WH2 TO LSR | B36: 44538 | C36: M-05 FORTIE | D36: 11770 | E36: 104000 | F36: 34480 | G36: =E36-F36 -> 69520
A37: WH2 TO LSR | B37: 44538 | C37: M-05 FORTIE | D37: 11784 | E37: 107180 | F37: 34760 | G37: =E37-F37 -> 72420
A38: WH2 TO LSR | B38: 44538 | C38: M-05 FORTIE | D38: 11821 | E38: 104680 | F38: 35260 | G38: =E38-F38 -> 69420 | I38: =SUM(G36:G38) -> 211360
A39: WH2 TO LSR | B39: 44538 | C39: 01D&Jfinley | D39: 11767 | E39: 86800 | F39: 28420 | G39: =E39-F39 -> 58380
A40: WH2 TO LSR | B40: 44538 | C40: 01D&Jfinley | D40: 11783 | E40: 86580 | F40: 29140 | G40: =E40-F40 -> 57440 | I40: =SUM(G39:G40) -> 115820
A41: WH2 TO LSR | B41: 44538 | C41: 1southprestige | D41: 11776 | E41: 110000 | F41: 28640 | G41: =E41-F41 -> 81360
A42: WH2 TO LSR | B42: 44538 | C42: 1southprestige | D42: 11818 | E42: 110780 | F42: 29740 | G42: =E42-F42 -> 81040
A43: WH2 TO LSR | B43: 44538 | C43: 1southprestige | D43: 11798 | E43: 109060 | F43: 30000 | G43: =E43-F43 -> 79060 | I43: =SUM(G41:G43) -> 241460
A44: WH2 TO LSR | B44: 44538 | C44: 1jaybrad | D44: 11817 | E44: 109320 | F44: 29980 | G44: =E44-F44 -> 79340
A45: WH2 TO LSR | B45: 44538 | C45: 1jaybrad | D45: 11796 | E45: 105280 | F45: 30720 | G45: =E45-F45 -> 74560 | I45: =SUM(G44:G45) -> 153900
A46: WH2 TO LSR | B46: 44538 | C46: 24WFB | D46: 11827 | E46: 113400 | F46: 31120 | G46: =E46-F46 -> 82280 | I46: =G46 -> 82280
A47: WH2 TO LSR | B47: 44538 | C47: 106I&M trkn | D47: 11765 | E47: 99700 | F47: 32280 | G47: =E47-F47 -> 67420
A48: WH2 TO LSR | B48: 44538 | C48: 106I&M trkn | D48: 11815 | E48: 96240 | F48: 32680 | G48: =E48-F48 -> 63560
A49: WH2 TO LSR | B49: 44538 | C49: 106I&M trkn | D49: 11823 | E49: 98400 | F49: 32680 | G49: =E49-F49 -> 65720 | I49: =SUM(G47:G49) -> 196700
A50: WH2 TO LSR | B50: 44538 | C50: 15AtchSfd | D50: 11760 | E50: 90120 | F50: 25580 | G50: =E50-F50 -> 64540
A51: WH2 TO LSR | B51: 44538 | C51: 104AtchSfd | D51: 11774 | E51: 94100 | F51: 28880 | G51: =E51-F51 -> 65220
A52: WH2 TO LSR | B52: 44538 | C52: 104AtchSfd | D52: 11790 | E52: 96000 | F52: 30620 | G52: =E52-F52 -> 65380
A53: WH1 TO LSR | B53: 44538 | C53: 15AtchSfd | D53: 11789 | E53: 95780 | F53: 27120 | G53: =E53-F53 -> 68660
A54: wh2 to lsr | B54: 44538 | C54: 104AtchSfd | D54: 11816 | E54: 89020 | F54: 30140 | G54: =E54-F54 -> 58880
A55: wh2 to lsr | B55: 44538 | C55: 15AtchSfd | D55: 11811 | E55: 91460 | F55: 26860 | G55: =E55-F55 -> 64600 | I55: =SUM(G50:G55) -> 387280
A56: WH1caldwellthib | B56: 44538 | C56: 5laca | D56: 5108 | E56: 95980 | F56: 34320 | G56: =E56-F56 -> 61660
A57: WH1caldwellthib | B57: 44538 | C57: 15laca | D57: 5110 | E57: 99340 | F57: 34860 | G57: =E57-F57 -> 64480
A58: WH1caldwellthib | B58: 44538 | C58: 5laca | D58: 5117 | E58: 96260 | F58: 34300 | G58: =E58-F58 -> 61960
A59: WH1caldwellthib | B59: 44538 | C59: 14laca | D59: 5118 | E59: 97520 | F59: 34000 | G59: =E59-F59 -> 63520
A60: WH1caldwellthib | B60: 44538 | C60: 15laca | D60: 5119 | E60: 93800 | F60: 34860 | G60: =E60-F60 -> 58940
A61: WH1caldwellthib | B61: 44538 | C61: 2laca | D61: 5120 | E61: 96260 | F61: 35140 | G61: =E61-F61 -> 61120
A62: WH1caldwellthib | B62: 44538 | C62: 3laca | D62: 11768 | E62: 97900 | F62: 34400 | G62: =E62-F62 -> 63500
A63: WH1caldwellthib | B63: 44538 | C63: 6Laca | D63: 11771 | E63: 100400 | F63: 33380 | G63: =E63-F63 -> 67020
A64: WH1caldwellthib | B64: 44538 | C64: 3laca | D64: 11779 | E64: 96440 | F64: 34440 | G64: =E64-F64 -> 62000
A65: WH1caldwellthib | B65: 44538 | C65: 6Laca | D65: 11787 | E65: 104180 | F65: 35180 | G65: =E65-F65 -> 69000
A66: WH1caldwellthib | B66: 44538 | C66: 5laca | D66: 5125 | E66: 97400 | F66: 34020 | G66: =E66-F66 -> 63380
A67: WH1caldwellthib | B67: 44538 | C67: 15laca | D67: 11794 | E67: 100780 | F67: 34360 | G67: =E67-F67 -> 66420
... A70: WH1caldwellthib | B70: 44538 | C70: 3laca | D70: 11793 | E70: 100800 | F70: 33900 | G70: =E70-F70 -> 66900
A71: WH1caldwellthib | B71: 44538 | C71: 5laca | D71: 5150 | E71: 97880 | F71: 34480 | G71: =E71-F71 -> 63400 | I71: =SUM(G56:G71) -> 1020680
A72: CSC WH2 | B72: 44538 | C72: 226csc | D72: 11799 | E72: 87980 | F72: 28040 | G72: =E72-F72 -> 59940
A73: CSC WH2 | B73: 44538 | C73: 229csc | D73: 11800 | E73: 79740 | F73: 28860 | G73: =E73-F73 -> 50880
A74: CSC WH2 | B74: 44538 | C74: 275csc | D74: 11808 | E74: 83380 | F74: 29040 | G74: =E74-F74 -> 54340
A75: CSC WH2 | B75: 44538 | C75: 444csc | D75: 11809 | E75: 80580 | F75: 29140 | G75: =E75-F75 -> 51440
A76: CSC WH2 | B76: 44538 | C76: 308CSC | D76: 11813 | E76: 80020 | F76: 26500 | G76: =E76-F76 -> 53520 | I76: =SUM(G72:G76) -> 270120
G79: =SUM(G1:G76) -> 5010900 | I79: =SUM(I1:I76) -> 5010900 | J79: CHECKED

Sheet 12-09-2021
A1: WH1 TO LSR>> | B1: 44539 | C1: 107lasuca | D1: 11830 | E1: 98800 | F1: 26760 | G1: =E1-F1 -> 72040
A2: WH1 TO LSR>> | B2: 44539 | C2: 113lasuca | D2: 11842 | E2: 98500 | F2: 27720 | G2: =E2-F2 -> 70780
A3: WH1 TO LSR>> | B3: 44539 | C3: 108Lasuca | D3: 11843 | E3: 98900 | F3: 26180 | G3: =E3-F3 -> 72720
A4: WH1 TO LSR>> | B4: 44539 | C4: 106Lasuca | D4: 11846 | E4: 97300 | F4: 25740 | G4: =E4-F4 -> 71560
A5: WH1 TO LSR>> | B5: 44539 | C5: 107lasuca | D5: 11856 | E5: 98340 | F5: 26220 | G5: =E5-F5 -> 72120
A6: WH1 TO LSR>> | B6: 44539 | C6: 75Lasuca | D6: 11848 | E6: 94800 | F6: 34380 | G6: =E6-F6 -> 60420
A7: WH2 TO LSR>> | B7: 44539 | C7: 105lasuca | D7: 11851 | E7: 98600 | F7: 28780 | G7: =E7-F7 -> 69820
A8: WH2 TO LSR>> | B8: 44539 | C8: 75Lasuca | D8: 11869 | E8: 98820 | F8: 33980 | G8: =E8-F8 -> 64840
A9: WH2 TO LSR>> | B9: 44539 | C9: 105lasuca | D9: 11870 | E9: 96280 | F9: 27780 | G9: =E9-F9 -> 68500
A10: WH2 TO LSR>> | B10: 44539 | C10: 107lasuca | D10: 11875 | E10: 96040 | F10: 26600 | G10: =E10-F10 -> 69440
A11: WH2 TO LSR>> | B11: 44539 | C11: 108Lasuca | D11: 11877 | E11: 97440 | F11: 26160 | G11: =E11-F11 -> 71280
A12: WH2 TO LSR>> | B12: 44539 | C12: 113lasuca | D12: 11878 | E12: 98900 | F12: 28160 | G12: =E12-F12 -> 70740
... A16: WH1 TO LSR>> | B16: 44539 | C16: 108Lasuca | D16: 11862 | E16: 96780 | F16: 26920 | G16: =E16-F16 -> 69860
A17: WH1 TO LSR>> | B17: 44539 | C17: 113lasuca | D17: 11861 | E17: 96400 | F17: 27160 | G17: =E17-F17 -> 69240 | I17: =SUM(G1:G17) -> 1178020
A18: WH2 TO LSR>> | B18: 44539 | C18: 27EP | D18: 11834 | E18: 103500 | F18: 33440 | G18: =E18-F18 -> 70060
A19: WH2 TO LSR>> | B19: 44539 | C19: 68EP | D19: 11835 | E19: 91100 | F19: 29420 | G19: =E19-F19 -> 61680
A20: WH2 TO LSR>> | B20: 44539 | C20: 203EP | D20: 11840 | E20: 94960 | F20: 33100 | G20: =E20-F20 -> 61860
A21: WH2 TO LSR>> | B21: 44539 | C21: 357EP | D21: 11845 | E21: 84740 | F21: 33680 | G21: =E21-F21 -> 51060
A22: WH2 TO LSR>> | B22: 44539 | C22: 01EP | D22: 11855 | E22: 100900 | F22: 34040 | G22: =E22-F22 -> 66860
A23: WH2 TO LSR>> | B23: 44539 | C23: 27EP | D23: 11847 | E23: 102000 | F23: 33180 | G23: =E23-F23 -> 68820
A24: WH2 TO LSR>> | B24: 44539 | C24: 203EP | D24: 11884 | E24: 96260 | F24: 33600 | G24: =E24-F24 -> 62660
A25: WH2 TO LSR>> | B25: 44539 | C25: 357EP | D25: 11860 | E25: 85160 | F25: 34800 | G25: =E25-F25 -> 50360
A26: WH2 TO LSR>> | B26: 44539 | C26: 27EP | D26: 11886 | E26: 99700 | F26: 32840 | G26: =E26-F26 -> 66860 | I26: =SUM(G18:G26) -> 560220
A27: WH2 TO LSR>> | B27: 44539 | C27: 3-G5 TRKN | D27: 11836 | E27: 96700 | F27: 31060 | G27: =E27-F27 -> 65640
A28: WH2 TO LSR>> | B28: 44539 | C28: 3-G5 TRKN | D28: 11850 | E28: 95100 | F28: 30960 | G28: =E28-F28 -> 64140 | I28: =SUM(G27:G28) -> 129780
A29: WH2 TO LSR>> | B29: 44539 | C29: 105pacer | D29: 11833 | E29: 100500 | F29: 36300 | G29: =E29-F29 -> 64200
A30: WH2 TO LSR>> | B30: 44539 | C30: 105pacer | D30: 5172 | E30: 99620 | F30: 36340 | G30: =E30-F30 -> 63280
A31: WH2 TO LSR>> | B31: 44539 | C31: 107pacer | D31: 11880 | E31: 98580 | F31: 34660 | G31: =E31-F31 -> 63920 | I31: =SUM(G29:G31) -> 191400
A32: WH2 TO LSR>> | B32: 44539 | C32: 1keithboone | D32: 11844 | E32: 85800 | F32: 30200 | G32: =E32-F32 -> 55600
A33: WH2 TO LSR>> | B33: 44539 | C33: 1keithboone | D33: 11852 | E33: 87060 | F33: 29960 | G33: =E33-F33 -> 57100
A34: WH2 TO LSR>> | B34: 44539 | C34: 1keithboone | D34: 11865 | E34: 87880 | F34: 29320 | G34: =E34-F34 -> 58560 | I34: =SUM(G32:G34) -> 171260
A35: WH2 TO LSR>> | B35: 44539 | C35: M-05 FORTIE | D35: 11839 | E35: 103960 | F35: 35100 | G35: =E35-F35 -> 68860
A36: WH2 TO LSR>> | B36: 44539 | C36: M-05 FORTIE | D36: 11882 | E36: 104260 | F36: 35020 | G36: =E36-F36 -> 69240 | I36: =SUM(G35:G36) -> 138100
A37: WH2 TO LSR>> | B37: 44539 | C37: 37JBRADLEY | D37: 11829 | E37: 113000 | F37: 30340 | G37: =E37-F37 -> 82660
A38: WH2 TO LSR>> | B38: 44539 | C38: 37JBRADLEY | D38: 11857 | E38: 111080 | F38: 29960 | G38: =E38-F38 -> 81120
A39: WH2 TO LSR>> | B39: 44539 | C39: 37JBRADLEY | D39: 11873 | E39: 103980 | F39: 31340 | G39: =E39-F39 -> 72640 | I39: =SUM(G37:G39) -> 236420
A40: WH2 TO LSR>> | B40: 44539 | C40: 01southprestige | D40: 11831 | E40: 111900 | F40: 29500 | G40: =E40-F40 -> 82400 | I40: =G40 -> 82400
A41: WH2 TO LSR>> | B41: 44539 | C41: 15AtchSfd | D41: 11858 | E41: 94480 | F41: 26640 | G41: =E41-F41 -> 67840
A42: WH2 TO LSR>> | B42: 44539 | C42: 104AtchSfd | D42: 11871 | E42: 92620 | F42: 29740 | G42: =E42-F42 -> 62880
A43: WH2 TO LSR>> | B43: 44539 | C43: 15AtchSfd | D43: 11872 | E43: 90260 | F43: 26780 | G43: =E43-F43 -> 63480
A44: WH2 TO LSR>> | B44: 44539 | C44: 104AtchSfd | D44: 11883 | E44: 94200 | F44: 30220 | G44: =E44-F44 -> 63980 | I44: =SUM(G41:G44) -> 258180
A45: WH2 TO LSR>> | B45: 44539 | C45: 106I&M trkn | D45: 11879 | E45: 100300 | F45: 32980 | G45: =E45-F45 -> 67320 | I45: =G45 -> 67320
A46: WH1-CALDWELL | B46: 44539 | C46: 15laca | D46: 5164 | E46: 98580 | F46: 34720 | G46: =E46-F46 -> 63860
A47: WH1-CALDWELL | B47: 44539 | C47: 14laca | D47: 5168 | E47: 98640 | F47: 35080 | G47: =E47-F47 -> 63560
A48: WH1-CALDWELL | B48: 44539 | C48: 5laca | D48: 5170 | E48: 98900 | F48: 34000 | G48: =E48-F48 -> 64900
A49: WH1-CALDWELL | B49: 44539 | C49: 15laca | D49: 5173 | E49: 98020 | F49: 34420 | G49: =E49-F49 -> 63600
A50: WH1-CALDWELL | B50: 44539 | C50: 6Laca | D50: 5174 | E50: 98880 | F50: 33820 | G50: =E50-F50 -> 65060
A51: WH1-CALDWELL | B51: 44539 | C51: 6Laca | D51: 11837 | E51: 100500 | F51: 34060 | G51: =E51-F51 -> 66440
A52: WH1-CALDWELL | B52: 44539 | C52: 5laca | D52: 11838 | E52: 100700 | F52: 34280 | G52: =E52-F52 -> 66420
A53: WH2-CALDWELL | B53: 44539 | C53: 2laca | D53: 5175 | E53: 97380 | F53: 34820 | G53: =E53-F53 -> 62560
A54: WH2-CALDWELL | B54: 44539 | C54: 14laca | D54: 5177 | E54: 98400 | F54: 34780 | G54: =E54-F54 -> 63620
A55: WH2-CALDWELL | B55: 44539 | C55: 3laca | D55: 11849 | E55: 97300 | F55: 34000 | G55: =E55-F55 -> 63300
A56: WH2-CALDWELL | B56: 44539 | C56: 3laca | D56: 11841 | E56: 97460 | F56: 33700 | G56: =E56-F56 -> 63760
A57: WH2-CALDWELL | B57: 44539 | C57: 5laca | D57: 5179 | E57: 98080 | F57: 33700 | G57: =E57-F57 -> 64380
... A62: WH1-CALDWELL | B62: 44539 | C62: 2laca | D62: 5187 | E62: 99660 | F62: 34380 | G62: =E62-F62 -> 65280
A63: WH2-CALDWELL | B63: 44539 | C63: 6Laca | D63: 11859 | E63: 100900 | F63: 33740 | G63: =E63-F63 -> 67160 | I63: =SUM(G46:G63) -> 1160300
A64: WH1 TO CSC>> | B64: 44539 | C64: 226csc | D64: 11854 | E64: 90180 | F64: 28540 | G64: =E64-F64 -> 61640
A65: WH1 TO CSC>> | B65: 44539 | C65: 229csc | D65: 11864 | E65: 78860 | F65: 28160 | G65: =E65-F65 -> 50700
A66: WH1 TO CSC>> | B66: 44539 | C66: 01csc | D66: 11866 | E66: 83260 | F66: 29740 | G66: =E66-F66 -> 53520
A67: WH1 TO CSC>> | B67: 44539 | C67: 275csc | D67: 11868 | E67: 82080 | F67: 29240 | G67: =E67-F67 -> 52840
A68: WH2TO CSC>> | B68: 44539 | C68: 444csc | D68: 11874 | E68: 80240 | F68: 29920 | G68: =E68-F68 -> 50320
A69: WH2TO CSC>> | B69: 44539 | C69: 305csc | D69: 11876 | E69: 79460 | F69: 26960 | G69: =E69-F69 -> 52500
A70: WH2TO CSC>> | B70: 44539 | C70: 12csc | D70: 5186 | E70: 78860 | F70: 28260 | G70: =E70-F70 -> 50600 | I70: =SUM(G64:G70) -> 372120
G73: =SUM(G1:G70) -> 4545520 | I73: =SUM(I1:I70) -> 4545520 | J73: CHECKED

Sheet 12-10-2021
A1: WH2 CarwllThib | B1: 44540 | C1: 15laca | D1: 11895 | E1: 100700 | F1: 34760 | G1: =E1-F1 -> 65940
A2: WH2 CarwllThib | B2: 44540 | C2: 5laca | D2: 11905 | E2: 97200 | F2: 34520 | G2: =E2-F2 -> 62680
A3: WH2 CarwllThib | B3: 44540 | C3: 14laca | D3: 11906 | E3: 98000 | F3: 35200 | G3: =E3-F3 -> 62800
A4: WH2 CarwllThib | B4: 44540 | C4: 2laca | D4: 11907 | E4: 94700 | F4: 34960 | G4: =E4-F4 -> 59740
A5: WH1 CarwllThib | B5: 44540 | C5: 16laca | D5: 11910 | E5: 99600 | F5: 34360 | G5: =E5-F5 -> 65240
A6: WH1 CarwllThib | B6: 44540 | C6: 6Laca | D6: 11911 | E6: 98600 | F6: 33920 | G6: =E6-F6 -> 64680
A7: WH2 CarwllThib | B7: 44540 | C7: 15laca | D7: 11913 | E7: 99500 | F7: 34480 | G7: =E7-F7 -> 65020 | I7: =SUM(G1:G7) -> 446100
A8: WH1 CarwllThib | B8: 44540 | C8: 5laca | D8: 5195 | E8: 95800 | F8: 34300 | G8: =E8-F8 -> 61500
A9: WH1 CarwllThib | B9: 44540 | C9: 14laca | D9: 5196 | E9: 98640 | F9: 34780 | G9: =E9-F9 -> 63860
A10: WH1 CarwllThib | B10: 44540 | C10: 2laca | D10: 11921 | E10: 100180 | F10: 34620 | G10: =E10-F10 -> 65560 | I10: =SUM(G8:G10) -> 190920
A11: WH2 CarwllThib | B11: 44540 | C11: 15laca | D11: 11923 | E11: 100200 | F11: 34020 | G11: =E11-F11 -> 66180
A12: WH2 CarwllThib | B12: 44540 | C12: 6Laca | D12: 11924 | E12: 94440 | F12: 33580 | G12: =E12-F12 -> 60860
A13: WH1 CarwllThib | B13: 44540 | C13: 5laca | D13: 5202 | E13: 98620 | F13: 33860 | G13: =E13-F13 -> 64760
A14: WH1 CarwllThib | B14: 44540 | C14: 14laca | D14: 5204 | E14: 99200 | F14: 34580 | G14: =E14-F14 -> 64620
A15: WH2 CarwllThib | B15: 44540 | C15: 2laca | D15: 5205 | E15: 99240 | F15: 34340 | G15: =E15-F15 -> 64900
A16: WH2 CarwllThib | B16: 44540 | C16: 16laca | D16: 5206 | E16: 97820 | F16: 34120 | G16: =E16-F16 -> 63700 | I16: =SUM(G11:G16) -> 385020
A17: WH1 TO LSR>> | B17: 44540 | C17: 01EP | D17: 11890 | E17: 93080 | F17: 33780 | G17: =E17-F17 -> 59300
A18: WH1 TO LSR>> | B18: 44540 | C18: 357EP | D18: 11892 | E18: 83640 | F18: 34680 | G18: =E18-F18 -> 48960
A19: WH1 TO LSR>> | B19: 44540 | C19: 203EP | D19: 11898 | E19: 95700 | F19: 33520 | G19: =E19-F19 -> 62180
A20: WH1 TO LSR>> | B20: 44540 | C20: 01EP | D20: 11912 | E20: 92440 | F20: 33640 | G20: =E20-F20 -> 58800
A21: WH1 TO LSR>> | B21: 44540 | C21: 27EP | D21: 11916 | E21: 97800 | F21: 32540 | G21: =E21-F21 -> 65260
A22: WH2 TO LSR>> | B22: 44540 | C22: 27EP | D22: 11934 | E22: 99920 | F22: 33640 | G22: =E22-F22 -> 66280
A23: WH2 TO LSR>> | B23: 44540 | C23: 375ep | D23: 11926 | E23: 85320 | F23: 34580 | G23: =E23-F23 -> 50740 | I23: =SUM(G17:G23) -> 411520
A24: WH1 TO LSR>> | B24: 44540 | C24: 04AtchSfd | D24: 11903 | E24: 92380 | F24: 29740 | G24: =E24-F24 -> 62640
A25: WH1 TO LSR>> | B25: 44540 | C25: 104AtchSfd | D25: 11904 | E25: 87020 | F25: 29020 | G25: =E25-F25 -> 58000
A26: WH2 TO LSR>> | B26: 44540 | C26: 04AtchSfd | D26: 11943 | E26: 93240 | F26: 29860 | G26: =E26-F26 -> 63380 | I26: =SUM(G24:G26) -> 184020
A27: WH1 TO LSR>> | B27: 44540 | C27: G1-G5TRKN | D27: 11893 | E27: 91560 | F27: 28580 | G27: =E27-F27 -> 62980
A28: WH1 TO LSR>> | B28: 44540 | C28: 3-G5TRKN | D28: 11900 | E28: 99200 | F28: 31840 | G28: =E28-F28 -> 67360
A29: WH1 TO LSR>> | B29: 44540 | C29: G1-G5TRKN | D29: 11920 | E29: 95540 | F29: 29200 | G29: =E29-F29 -> 66340 | I29: =SUM(G27:G29) -> 196680
A30: WH2 TO LSR>> | B30: 44540 | C30: 107pacer | D30: 11887 | E30: 99700 | F30: 34240 | G30: =E30-F30 -> 65460
A31: WH1 TO LSR>> | B31: 44540 | C31: 105pacer | D31: 11896 | E31: 102000 | F31: 35960 | G31: =E31-F31 -> 66040
A32: WH1 TO LSR>> | B32: 44540 | C32: 107pacer | D32: 11914 | E32: 98500 | F32: 34240 | G32: =E32-F32 -> 64260
A33: WH1 TO LSR>> | B33: 44540 | C33: 105pacer | D33: 11918 | E33: 102480 | F33: 35900 | G33: =E33-F33 -> 66580
A34: WH1 TO LSR>> | B34: 44540 | C34: 107pacer | D34: 11925 | E34: 99560 | F34: 33820 | G34: =E34-F34 -> 65740
A35: WH2 TO Lsr>> | B35: 44540 | C35: 105pacer | D35: 11940 | E35: 103820 | F35: 36640 | G35: =E35-F35 -> 67180
A36: WH1 TO LSR>> | B36: 44540 | C36: 103pacer | D36: 11944 | E36: 88660 | F36: 34020 | G36: =E36-F36 -> 54640
A37: WH1 TO LSR>> | B37: 44540 | C37: 1908pacer | D37: 11945 | E37: 89620 | F37: 32480 | G37: =E37-F37 -> 57140
A38: WH1 TO LSR>> | B38: 44540 | C38: 1906pacer | D38: 11946 | E38: 94100 | F38: 33580 | G38: =E38-F38 -> 60520
A39: WH1 TO LSR>> | B39: 44540 | C39: 107pacer | D39: 11947 | E39: 98240 | F39: 34840 | G39: =E39-F39 -> 63400 | I39: =SUM(G30:G39) -> 630960
A40: WH1 TO LSR>> | B40: 44540 | C40: 24WFB | D40: 11915 | E40: 111680 | F40: 32040 | G40: =E40-F40 -> 79640
A41: WH2 TO LSR>> | B41: 44540 | C41: 24WFB | D41: 11941 | E41: 107120 | F41: 32320 | G41: =E41-F41 -> 74800 | I41: =SUM(G40:G41) -> 154440
A42: WH1 TO LSR>> | B42: 44540 | C42: 106I&M trkn | D42: 11888 | E42: 96200 | F42: 32840 | G42: =E42-F42 -> 63360 | I42: =G42 -> 63360
A43: WH1 TO LSR>> | B43: 44540 | C43: M-05 FORTIE | D43: 11891 | E43: 102500 | F43: 35100 | G43: =E43-F43 -> 67400
A44: WH2 TO LSR>> | B44: 44540 | C44: M-05 FORTIE | D44: 11942 | E44: 102400 | F44: 35420 | G44: =E44-F44 -> 66980 | I44: =SUM(G43:G44) -> 134380
A45: WH1 TO LSR>> | B45: 44540 | C45: 1keithboone | D45: 11897 | E45: 86560 | F45: 29760 | G45: =E45-F45 -> 56800
A46: WH1 TO LSR>> | B46: 44540 | C46: 1keithboone | D46: 11922 | E46: 86180 | F46: 29540 | G46: =E46-F46 -> 56640 | I46: =SUM(G45:G46) -> 113440
A47: WH1 TO LSR>> | B47: 44540 | C47: 37JBRADLEY | D47: 11909 | E47: 111700 | F47: 30600 | G47: =E47-F47 -> 81100 | I47: =G47 -> 81100
A48: WH1 TO LSR>> | B48: 44540 | C48: 107lasuca | D48: 11889 | E48: 97000 | F48: 26300 | G48: =E48-F48 -> 70700
A49: WH1 TO LSR>> | B49: 44540 | C49: 105lasuca | D49: 11894 | E49: 98220 | F49: 28360 | G49: =E49-F49 -> 69860
A50: WH1 TO LSR>> | B50: 44540 | C50: 108Lasuca | D50: 11899 | E50: 98600 | F50: 26320 | G50: =E50-F50 -> 72280
A51: WH1 TO LSR>> | B51: 44540 | C51: 75Lasuca | D51: 11917 | E51: 100840 | F51: 33760 | G51: =E51-F51 -> 67080
A52: WH2 TO LSR>> | B52: 44540 | C52: 105lasuca | D52: 11927 | E52: 101320 | F52: 28620 | G52: =E52-F52 -> 72700
A53: WH2 TO LSR>> | B53: 44540 | C53: 108Lasuca | D53: 11928 | E53: 99800 | F53: 28720 | G53: =E53-F53 -> 71080
A54: WH2 TO LSR>> | B54: 44540 | C54: 106Lasuca | D54: 11933 | E54: 98020 | F54: 26840 | G54: =E54-F54 -> 71180
A55: WH2 TO LSR>> | B55: 44540 | C55: 108Lasuca | D55: 11936 | E55: 99300 | F55: 27580 | G55: =E55-F55 -> 71720
A56: WH2 TO LSR>> | B56: 44540 | C56: 106Lasuca | D56: 11937 | E56: 95780 | F56: 26280 | G56: =E56-F56 -> 69500
A57: WH2 TO LSR>> | B57: 44540 | C57: 105lasuca | D57: 11938 | E57: 94440 | F57: 27920 | G57: =E57-F57 -> 66520 | I57: =SUM(G48:G57) -> 702620
A58: WH1 TO CSC>> | B58: 44540 | C58: 226csc | D58: 11908 | E58: 90980 | F58: 28700 | G58: =E58-F58 -> 62280
A59: WH1 TO CSC>> | B59: 44540 | C59: 01csc | D59: 11929 | E59: 82320 | F59: 28840 | G59: =E59-F59 -> 53480
A60: WH1 TO CSC>> | B60: 44540 | C60: 275csc | D60: 11930 | E60: 81260 | F60: 28420 | G60: =E60-F60 -> 52840
A61: WH1 TO CSC>> | B61: 44540 | C61: 03csc | D61: 11932 | E61: 84240 | F61: 26040 | G61: =E61-F61 -> 58200
A62: WH1 TO CSC>> | B62: 44540 | C62: 229csc | D62: 11939 | E62: 82900 | F62: 28260 | G62: =E62-F62 -> 54640 | I62: =SUM(G58:G62) -> 281440
G65: =SUM(G1:G62) -> 3976000 | I65: =SUM(I1:I62) -> 3976000 | J65: CHECKED

Sheet 12-11-2021
A1: WH1 TO LSR>> | B1: 44541 | C1: 105lasuca | D1: 11953 | E1: 98740 | F1: 27940 | G1: =E1-F1 -> 70800
A2: WH1 TO LSR>> | B2: 44541 | C2: 108Lasuca | D2: 11954 | E2: 99900 | F2: 28140 | G2: =E2-F2 -> 71760
A3: WH1 TO LSR>> | B3: 44541 | C3: 106Lasuca | D3: 11955 | E3: 97640 | F3: 26480 | G3: =E3-F3 -> 71160
A4: WH1 TO LSR>> | B4: 44541 | C4: 106Lasuca | D4: 11966 | E4: 98180 | F4: 26960 | G4: =E4-F4 -> 71220
A5: WH1 TO LSR>> | B5: 44541 | C5: 105lasuca | D5: 11979 | E5: 99480 | F5: 27920 | G5: =E5-F5 -> 71560
A6: WH1 TO LSR>> | B6: 44541 | C6: 108Lasuca | D6: 11980 | E6: 97840 | F6: 29280 | G6: =E6-F6 -> 68560 | I6: =SUM(G1:G6) -> 425060
A7: WH1 TO LSR>> | B7: 44541 | C7: 27EP | D7: 11950 | E7: 100080 | F7: 33340 | G7: =E7-F7 -> 66740
A8: WH1 TO LSR>> | B8: 44541 | C8: 01EP | D8: 11964 | E8: 92920 | F8: 34200 | G8: =E8-F8 -> 58720
A9: WH1 TO LSR>> | B9: 44541 | C9: 01EP | D9: 11969 | E9: 96900 | F9: 34020 | G9: =E9-F9 -> 62880
A10: WH1 TO LSR>> | B10: 44541 | C10: 27EP | D10: 11970 | E10: 100560 | F10: 33600 | G10: =E10-F10 -> 66960 | I10: =SUM(G7:G10) -> 255300
A11: WH1 TO LSR>> | B11: 44541 | C11: 1keithboone | D11: 11949 | E11: 87340 | F11: 29920 | G11: =E11-F11 -> 57420
A12: WH1 TO LSR>> | B12: 44541 | C12: 1keithboone | D12: 11959 | E12: 86740 | F12: 29680 | G12: =E12-F12 -> 57060
A13: WH1 TO LSR>> | B13: 44541 | C13: 1keithboone | D13: 11968 | E13: 84280 | F13: 29440 | G13: =E13-F13 -> 54840 | I13: =SUM(G11:G13) -> 169320
A14: WH1 TO LSR>> | B14: 44541 | C14: 105pacer | D14: 11951 | E14: 101800 | F14: 36380 | G14: =E14-F14 -> 65420
A15: WH1 TO LSR>> | B15: 44541 | C15: 107pacer | D15: 11958 | E15: 100100 | F15: 34700 | G15: =E15-F15 -> 65400
A16: WH1 TO LSR>> | B16: 44541 | C16: 103pacer | D16: 11960 | E16: 98500 | F16: 33740 | G16: =E16-F16 -> 64760
A17: WH1 TO LSR>> | B17: 44541 | C17: 1908pacer | D17: 11961 | E17: 99000 | F17: 32260 | G17: =E17-F17 -> 66740
A18: WH1 TO LSR>> | B18: 44541 | C18: 1906pacer | D18: 11962 | E18: 89260 | F18: 33520 | G18: =E18-F18 -> 55740
A19: WH1 TO LSR>> | B19: 44541 | C19: 105pacer | D19: 11963 | E19: 103480 | F19: 36220 | G19: =E19-F19 -> 67260
A20: WH1 TO LSR>> | B20: 44541 | C20: 107pacer | D20: 11965 | E20: 98460 | F20: 34220 | G20: =E20-F20 -> 64240
A21: WH1 TO LSR>> | B21: 44541 | C21: 107pacer | D21: 11971 | E21: 97200 | F21: 33840 | G21: =E21-F21 -> 63360
A22: WH1 TO LSR>> | B22: 44541 | C22: 103pacer | D22: 11982 | E22: 97760 | F22: 34340 | G22: =E22-F22 -> 63420
A23: WH1 TO LSR>> | B23: 44541 | C23: 103pacer | D23: 11974 | E23: 98040 | F23: 34700 | G23: =E23-F23 -> 63340
A24: WH1 TO LSR>> | B24: 44541 | C24: 1906pacer | D24: 11983 | E24: 98280 | F24: 34020 | G24: =E24-F24 -> 64260
A25: WH1 TO LSR>> | B25: 44541 | C25: 1908pacer | D25: 11981 | E25: 95700 | F25: 32640 | G25: =E25-F25 -> 63060
A26: WH1 TO LSR>> | B26: 44541 | C26: 1908pacer | D26: 11977 | E26: 98140 | F26: 32940 | G26: =E26-F26 -> 65200 | I26: =SUM(G14:G26) -> 832200
A27: WH1 TO LSR>> | B27: 44541 | C27: 24WFB | D27: 11956 | E27: 117300 | F27: 32240 | G27: =E27-F27 -> 85060
A28: WH1 TO LSR>> | B28: 44541 | C28: 24WFB | D28: 11976 | E28: 104620 | F28: 32560 | G28: =E28-F28 -> 72060 | I28: =SUM(G27:G28) -> 157120
A29: WH1 TO LSR>> | B29: 44541 | C29: 14doucet | D29: 11957 | E29: 86420 | F29: 30060 | G29: =E29-F29 -> 56360
A30: WH1 TO LSR>> | B30: 44541 | C30: 14doucet | D30: 11967 | E30: 90840 | F30: 31180 | G30: =E30-F30 -> 59660
A31: WH1 TO LSR>> | B31: 44541 | C31: 14doucet | D31: 11972 | E31: 82900 | F31: 31760 | G31: =E31-F31 -> 51140 | I31: =SUM(G29:G31) -> 167160
A32: WH2caldwellthib | B32: 44541 | C32: 6Laca | D32: 11948 | E32: 98000 | F32: 34000 | G32: =E32-F32 -> 64000
A33: WH2caldwellthib | B33: 44541 | C33: 5laca | D33: 5208 | E33: 95780 | F33: 34520 | G33: =E33-F33 -> 61260
A34: WH2caldwellthib | B34: 44541 | C34: 15laca | D34: 5209 | E34: 99720 | F34: 34840 | G34: =E34-F34 -> 64880
A35: WH2caldwellthib | B35: 44541 | C35: 16laca | D35: 5212 | E35: 98460 | F35: 34840 | G35: =E35-F35 -> 63620
A36: WH2caldwellthib | B36: 44541 | C36: 5laca | D36: 5214 | E36: 96100 | F36: 34320 | G36: =E36-F36 -> 61780
A37: WH2caldwellthib | B37: 44541 | C37: 6Laca | D37: 5216 | E37: 98800 | F37: 34620 | G37: =E37-F37 -> 64180
A38: WH2caldwellthib | B38: 44541 | C38: 15laca | D38: 5217 | E38: 99520 | F38: 34600 | G38: =E38-F38 -> 64920
A39: WH2caldwellthib | B39: 44541 | C39: 14laca | D39: 5218 | E39: 99080 | F39: 35360 | G39: =E39-F39 -> 63720
A40: WH1 CarwllThib | B40: 44541 | C40: 5laca | D40: 5221 | E40: 95320 | F40: 34040 | G40: =E40-F40 -> 61280
A41: WH1caldwellthib | B41: 44541 | C41: 15laca | D41: 5223 | E41: 98540 | F41: 34040 | G41: =E41-F41 -> 64500
A42: WH1caldwellthib | B42: 44541 | C42: 5laca | D42: 5227 | E42: 95660 | F42: 33800 | G42: =E42-F42 -> 61860
A43: WH1caldwellthib | B43: 44541 | C43: 16laca | D43: 5228 | E43: 98900 | F43: 34600 | G43: =E43-F43 -> 64300
... A46: WH1caldwellthib | B46: 44541 | C46: 16laca | D46: 11975 | E46: 96740 | F46: 34400 | G46: =E46-F46 -> 62340
A47: WH1caldwellthib | B47: 44541 | C47: 6Laca | D47: 11973 | E47: 100080 | F47: 34200 | G47: =E47-F47 -> 65880 | I47: =SUM(G32:G47) -> 1016200
A48: WH1 TO CSC>> | B48: 44541 | C48: 226csc | D48: 11952 | E48: 91480 | F48: 28680 | G48: =E48-F48 -> 62800
A49: WH1 TO CSC>> | B49: 44541 | C49: 444csc | D49: 11978 | E49: 81580 | F49: 30100 | G49: =E49-F49 -> 51480 | I49: =SUM(G48:G49) -> 114280
G51: =SUM(G1:G49) -> 3136640 | I51: =SUM(I1:I49) -> 3136640 | J51: CHECKED

Sheet 12-12-2021
A1: WH1 TO LSR>> | B1: 44542 | C1: 35333hotboytrk | D1: 12019 | E1: 106720 | F1: 29740 | G1: =E1-F1 -> 76980
A2: WH1 TO LSR>> | B2: 44542 | C2: 35333hotboytrk | D2: 12012 | E2: 104540 | F2: 29360 | G2: =E2-F2 -> 75180
A3: WH1 TO LSR>> | B3: 44542 | C3: 35333hotboytrk | D3: 12005 | E3: 123340 | F3: 28920 | G3: =E3-F3 -> 94420 | I3: =SUM(G1:G3) -> 246580
A4: WH1 TO LSR>> | B4: 44542 | C4: 37JBRADLEY | D4: 12018 | E4: 107460 | F4: 30360 | G4: =E4-F4 -> 77100
A5: WH1 TO LSR>> | B5: 44542 | C5: 37JBRADLEY | D5: 12011 | E5: 106300 | F5: 29960 | G5: =E5-F5 -> 76340
A6: WH1 TO LSR>> | B6: 44542 | C6: 37JBRADLEY | D6: 12003 | E6: 118520 | F6: 29620 | G6: =E6-F6 -> 88900 | I6: =SUM(G4:G6) -> 242340
A7: WH1 TO LSR>> | B7: 44542 | C7: 107pacer | D7: 12009 | E7: 98520 | F7: 34540 | G7: =E7-F7 -> 63980
A8: WH1 TO LSR>> | B8: 44542 | C8: 107pacer | D8: 12004 | E8: 100060 | F8: 34760 | G8: =E8-F8 -> 65300
A9: WH1 TO LSR>> | B9: 44542 | C9: 105pacer | D9: 12001 | E9: 105480 | F9: 36460 | G9: =E9-F9 -> 69020
A10: WH1 TO LSR>> | B10: 44542 | C10: 105pacer | D10: 11991 | E10: 104140 | F10: 36780 | G10: =E10-F10 -> 67360
A11: WH1 TO LSR>> | B11: 44542 | C11: 1906pacer | D11: 11990 | E11: 102200 | F11: 33940 | G11: =E11-F11 -> 68260
A12: WH1 TO LSR>> | B12: 44542 | C12: 1908pacer | D12: 11988 | E12: 95920 | F12: 32520 | G12: =E12-F12 -> 63400
A13: WH1 TO LSR>> | B13: 44542 | C13: 103pacer | D13: 11987 | E13: 97920 | F13: 34160 | G13: =E13-F13 -> 63760
A14: WH1 TO LSR>> | B14: 44542 | C14: 105pacer | D14: 11984 | E14: 101500 | F14: 36460 | G14: =E14-F14 -> 65040
A15: WH1 TO LSR>> | B15: 44542 | C15: 1906pacer | D15: 11997 | E15: 100460 | F15: 33280 | G15: =E15-F15 -> 67180
A16: WH1 TO LSR>> | B16: 44542 | C16: 105pacer | D16: 12021 | E16: 104200 | F16: 35140 | G16: =E16-F16 -> 69060 | I16: =SUM(G7:G16) -> 662360
A17: WH1 TO LSR>> | B17: 44542 | C17: M-05 FORTIE | D17: 12010 | E17: 103460 | F17: 34820 | G17: =E17-F17 -> 68640
A18: WH1 TO LSR>> | B18: 44542 | C18: M-05 FORTIE | D18: 12017 | E18: 103900 | F18: 34740 | G18: =E18-F18 -> 69160 | I18: =SUM(G17:G18) -> 137800
A19: WH1 TO LSR>> | B19: 44542 | C19: 106I&M trkn | D19: 12013 | E19: 95880 | F19: 33180 | G19: =E19-F19 -> 62700
A20: WH1 TO LSR>> | B20: 44542 | C20: 106I&M trkn | D20: 12020 | E20: 97620 | F20: 32840 | G20: =E20-F20 -> 64780 | I20: =SUM(G19:G20) -> 127480
A21: WH1 TO LSR>> | B21: 44542 | C21: 108Lasuca | D21: 12015 | E21: 97100 | F21: 27160 | G21: =E21-F21 -> 69940
A22: WH1 TO LSR>> | B22: 44542 | C22: 106Lasuca | D22: 12014 | E22: 95620 | F22: 26140 | G22: =E22-F22 -> 69480
A23: WH1 TO LSR>> | B23: 44542 | C23: 105lasuca | D23: 12016 | E23: 96300 | F23: 26380 | G23: =E23-F23 -> 69920
A24: WH1 TO LSR>> | B24: 44542 | C24: 105lasuca | D24: 11992 | E24: 95800 | F24: 26180 | G24: =E24-F24 -> 69620
A25: WH1 TO LSR>> | B25: 44542 | C25: 106Lasuca | D25: 11986 | E25: 98100 | F25: 26460 | G25: =E25-F25 -> 71640
A26: WH1 TO LSR>> | B26: 44542 | C26: 108Lasuca | D26: 11995 | E26: 99200 | F26: 26380 | G26: =E26-F26 -> 72820 | I26: =SUM(G21:G26) -> 423420
A27: WH1 TO LSR>> | B27: 44542 | C27: 24WFB | D27: 12006 | E27: 117240 | F27: 32240 | G27: =E27-F27 -> 85000 | I27: =G27 -> 85000
A28: WH2 TO LSR>> | B28: 44542 | C28: 14doucet | D28: 12002 | E28: 89360 | F28: 30800 | G28: =E28-F28 -> 58560
A29: WH1 TO LSR>> | B29: 44542 | C29: 14doucet | D29: 11996 | E29: 91420 | F29: 30840 | G29: =E29-F29 -> 60580 | I29: =SUM(G28:G29) -> 119140
A30: WH1 TO LSR>> | B30: 44542 | C30: 4-erickPrejean | D30: 12000 | E30: 108080 | F30: 29780 | G30: =E30-F30 -> 78300
A31: WH1 TO LSR>> | B31: 44542 | C31: 4-erickPrejean | D31: 11994 | E31: 97700 | F31: 28280 | G31: =E31-F31 -> 69420 | I31: =SUM(G30:G31) -> 147720
A32: WH1 TO LSR>> | B32: 44542 | C32: 14stromain trkn | D32: 11998 | E32: 93260 | F32: 27300 | G32: =E32-F32 -> 65960
A33: WH1 TO LSR>> | B33: 44542 | C33: 14stromain trkn | D33: 12008 | E33: 92260 | F33: 27780 | G33: =E33-F33 -> 64480 | I33: =SUM(G32:G33) -> 130440
A34: WH1 TO LSR>> | B34: 44542 | C34: 27EP | D34: 11993 | E34: 101500 | F34: 32880 | G34: =E34-F34 -> 68620
A35: WH1 TO LSR>> | B35: 44542 | C35: 27EP | D35: 11985 | E35: 102840 | F35: 33420 | G35: =E35-F35 -> 69420 | I35: =SUM(G34:G35) -> 138040
A36: WH1 TO LSR>> | B36: 44542 | C36: 1keithboone | D36: 11989 | E36: 87780 | F36: 30000 | G36: =E36-F36 -> 57780 | I36: =G36 -> 57780
A37: WH2caldwellthib | B37: 44542 | C37: 15laca | D37: 10306 | E37: 100280 | F37: 34600 | G37: =E37-F37 -> 65680
A38: WH2caldwellthib | B38: 44542 | C38: 6Laca | D38: 10307 | E38: 100260 | F38: 34180 | G38: =E38-F38 -> 66080
A39: WH1caldwellthib | B39: 44542 | C39: 16laca | D39: 10308 | E39: 101280 | F39: 34920 | G39: =E39-F39 -> 66360
A40: WH1caldwellthib | B40: 44542 | C40: 16laca | D40: 10309 | E40: 101660 | F40: 34680 | G40: =E40-F40 -> 66980
A41: WH1caldwellthib | B41: 44542 | C41: 6Laca | D41: 10310 | E41: 100800 | F41: 34440 | G41: =E41-F41 -> 66360
A42: WH1caldwellthib | B42: 44542 | C42: 15laca | D42: 5234 | E42: 98800 | F42: 34700 | G42: =E42-F42 -> 64100
A43: WH2caldwellthib | B43: 44542 | C43: 5laca | D43: 5237 | E43: 96040 | F43: 34320 | G43: =E43-F43 -> 61720
A44: WH2caldwellthib | B44: 44542 | C44: 16laca | D44: 5239 | E44: 96900 | F44: 34200 | G44: =E44-F44 -> 62700
A45: WH2caldwellthib | B45: 44542 | C45: 2laca | D45: 5240 | E45: 97980 | F45: 34800 | G45: =E45-F45 -> 63180
A46: WH2caldwellthib | B46: 44542 | C46: 2laca | D46: 5247 | E46: 97180 | F46: 35040 | G46: =E46-F46 -> 62140
A47: WH2caldwellthib | B47: 44542 | C47: 15laca | D47: 5249 | E47: 99640 | F47: 34200 | G47: =E47-F47 -> 65440
A48: WH2caldwellthib | B48: 44542 | C48: 6Laca | D48: 5250 | E48: 96560 | F48: 33640 | G48: =E48-F48 -> 62920
A49: WH1caldwellthib | B49: 44542 | C49: 5laca | D49: 5251 | E49: 97060 | F49: 33980 | G49: =E49-F49 -> 63080 | I49: =SUM(G37:G49) -> 836740
A50: WH1 TO CSC>> | B50: 44542 | C50: 1974csc | D50: 12007 | E50: 84080 | F50: 28640 | G50: =E50-F50 -> 55440 | I50: =G50 -> 55440
G52: =SUM(G1:G50) -> 3410280 | I52: =SUM(I1:I50) -> 3410280 | J52: CHECKED

Sheet 12-13-2021
A1: WH1caldwellthib | B1: 44543 | C1: 16laca | D1: 10311 | E1: 100400 | F1: 34000 | G1: 66400
A2: WH1caldwellthib | B2: 44543 | C2: 6Laca | D2: 10312 | E2: 101560 | F2: 34080 | G2: 67480
A3: WH2caldwellthib | B3: 44543 | C3: 16laca | D3: 10314 | E3: 101700 | F3: 33420 | G3: 68280
A4: WH1caldwellthib | B4: 44543 | C4: 6Laca | D4: 10316 | E4: 100560 | F4: 33780 | G4: 66780
A5: WH2caldwellthib | B5: 44543 | C5: 14laca | D5: 10319 | E5: 100440 | F5: 34460 | G5: 65980
A6: WH1caldwellthib | B6: 44543 | C6: 2laca | D6: 10318 | E6: 99300 | F6: 33940 | G6: 65360
A7: WH2caldwellthib | B7: 44543 | C7: 5laca | D7: 5254 | E7: 98420 | F7: 34380 | G7: 64040
A8: WH2caldwellthib | B8: 44543 | C8: 5laca | D8: 5255 | E8: 98680 | F8: 34080 | G8: 64600
A9: WH1caldwellthib | B9: 44543 | C9: 15laca | D9: 5256 | E9: 99960 | F9: 34660 | G9: 65300
A10: WH2caldwellthib | B10: 44543 | C10: 5laca | D10: 5261 | E10: 97320 | F10: 33740 | G10: 63580
A11: WH1caldwellthib | B11: 44543 | C11: 15laca | D11: 5264 | E11: 99960 | F11: 34320 | G11: 65640
A12: WH2caldwellthib | B12: 44543 | C12: 2laca | D12: 5262 | E12: 96380 | F12: 34520 | G12: 61860
... A19: WH1caldwellthib | B19: 44543 | C19: 106I&M trkn | D19: 12039 | E19: 95480 | F19: 32160 | G19: 63320
A20: WH1caldwellthib | B20: =B19 -> 44543 | C20: 105pacer | D20: 12028 | E20: 106000 | F20: 36480 | G20: 69520
A21: WH1caldwellthib | B21: =B20 -> 44543 | C21: 107pacer | D21: 12031 | E21: 96900 | F21: 34100 | G21: 62800
A22: WH1caldwellthib | B22: =B21 -> 44543 | C22: 107pacer | D22: 12038 | E22: 99580 | F22: 34040 | G22: 65540
A23: WH1caldwellthib | B23: =B22 -> 44543 | C23: 105pacer | D23: 12037 | E23: 98900 | F23: 35360 | G23: 63540
A24: WH1caldwellthib | B24: =B23 -> 44543 | C24: 105paulstransp | D24: 12030 | E24: 104120 | F24: 36200 | G24: 67920
A25: WH1caldwellthib | B25: =B24 -> 44543 | C25: 105paulstransp | D25: 12035 | E25: 102680 | F25: 35820 | G25: 66860 | I25: =SUM(G1:G25) -> 1631380
A26: WH1 TO LSR | B26: 44543 | C26: M-05 FORTIE | D26: 12027 | E26: 103300 | F26: 34320 | G26: 68980
A27: WH1 TO LSR | B27: 44543 | C27: M-05 FORTIE | D27: 12036 | E27: 105380 | F27: 35220 | G27: 70160
A28: WH1 TO LSR | B28: 44543 | C28: M-05 FORTIE | D28: 12041 | E28: 100500 | F28: 35000 | G28: 65500 | I28: =SUM(G26:G28) -> 204640
A29: WH1 TO LSR | B29: 44543 | C29: 37JBRADLEY | D29: 12034 | E29: 117320 | F29: 30300 | G29: 87020 | I29: =G29 -> 87020
A30: WH1 TO LSR | B30: 44543 | C30: 01EP | D30: 12022 | E30: 93300 | F30: 34280 | G30: 59020
A31: WH1 TO LSR | B31: 44543 | C31: 27EP | D31: 12043 | E31: 101520 | F31: 33380 | G31: 68140
A32: WH1 TO LSR | B32: 44543 | C32: 27EP | D32: 12023 | E32: 101500 | F32: 33840 | G32: 67660 | I32: =SUM(G30:G32) -> 194820
A33: WH1 TO LSR | B33: 44543 | C33: 07BIGDOGTRK | D33: 12033 | E33: 97500 | F33: 34520 | G33: 62980
A34: WH1 TO LSR | B34: 44543 | C34: 07BIGDOGTRK | D34: 12040 | E34: 93820 | F34: 34760 | G34: 59060 | I34: =SUM(G33:G34) -> 122040
A35: WH1 TO LSR | B35: 44543 | C35: 14stromain | D35: 12026 | E35: 93060 | F35: 27620 | G35: 65440 | I35: =G35 -> 65440
A36: WH1 TO LSR | B36: 44543 | C36: G1-G5 TRKN | D36: 12024 | E36: 90360 | F36: 29400 | G36: 60960 | I36: =G36 -> 60960
G39: =SUM(G1:G36) -> 2366300 | I39: =SUM(I1:I36) -> 2366300 | J39: CHECKED

Sheet 12-14-2021
A1: WH1 TO LSR Refinery>>>> | B1: 44544 | C1: 2-Erick Prejean & sons | D1: 12044 | E1: 99200 | F1: 32640 | G1: =E1-F1 -> 66560
A2: WH1 TO LSR Refinery>>>> | B2: 44544 | C2: 2-Erick Prejean & sons | D2: 12049 | E2: 92780 | F2: 33340 | G2: =E2-F2 -> 59440 | I2: =SUM(G1:G2) -> 126000
A3: WH1 TO LSR Refinery>>>> | B3: 44544 | C3: 2010-TptTrucking | D3: 12050 | E3: 95700 | F3: 34320 | G3: =E3-F3 -> 61380
A4: WH1 TO LSR Refinery>>>> | B4: 44544 | C4: 2010-TptTrucking | D4: 12045 | E4: 99260 | F4: 33420 | G4: =E4-F4 -> 65840 | I4: =SUM(G3:G4) -> 127220
A5: WH1 TO LSR Refinery>>>> | B5: 44544 | C5: 107-Pacer Trucking | D5: 12047 | E5: 101300 | F5: 34620 | G5: =E5-F5 -> 66680
A6: WH1 TO LSR Refinery>>>> | B6: 44544 | C6: 107-Pacer Trucking | D6: 12060 | E6: 100360 | F6: 34360 | G6: =E6-F6 -> 66000
A7: WH1 TO LSR Refinery>>>> | B7: 44544 | C7: 105-Pacer Trucking | D7: 12071 | E7: 105400 | F7: 35960 | G7: =E7-F7 -> 69440 | I7: =SUM(G5:G7) -> 202120
A8: WH1 TO LSR Refinery>>>> | B8: 44544 | C8: 27-Earl Pania | D8: 12051 | E8: 101200 | F8: 33600 | G8: =E8-F8 -> 67600
A9: WH1 TO LSR Refinery>>>> | B9: 44544 | C9: 203-Earl Pania | D9: 12056 | E9: 99300 | F9: 33580 | G9: =E9-F9 -> 65720
A10: WH1 TO LSR Refinery>>>> | B10: 44544 | C10: 27-Earl Pania dumped back | D10: 12058 | E10: 105460 | F10: 33340
A11: WH1 TO LSR Refinery>>>> | B11: 44544 | C11: 86-Earl Pania | D11: 12059 | E11: 107620 | F11: 34020 | G11: =E11-F11 -> 73600 | I11: =SUM(G8:G11) -> 206920
A12: WH1 TO LSR Refinery>>>> | B12: 44544 | C12: 07-Big Dog Trucking | D12: 12046 | E12: 98000 | F12: 34480 | G12: =E12-F12 -> 63520
A13: WH1 TO LSR Refinery>>>> | B13: 44544 | C13: 07-Big Dog Trucking | D13: 12053 | E13: 93860 | F13: 34240 | G13: =E13-F13 -> 59620
A14: WH1 TO LSR Refinery>>>> | B14: 44544 | C14: 07-Big Dog Trucking | D14: 12068 | E14: 98260 | F14: 34500 | G14: =E14-F14 -> 63760 | I14: =SUM(G12:G14) -> 186900
A15: WH1 TO LSR Refinery>>>> | B15: 44544 | C15: 14-St.Romain Trucking | D15: 12048 | E15: 98500 | F15: 27460 | G15: =E15-F15 -> 71040
A16: WH1 TO LSR Refinery>>>> | B16: 44544 | C16: 14-St.Romain Trucking | D16: 12069 | E16: 104560 | F16: 27240 | G16: =E16-F16 -> 77320 | I16: =SUM(G15:G16) -> 148360
A17: WH1 TO LSR Refinery>>>> | B17: 44544 | C17: 01-D&J Finley | D17: 12052 | E17: 86720 | F17: 26980 | G17: =E17-F17 -> 59740
A18: WH1 TO LSR Refinery>>>> | B18: 44544 | C18: 01-D&J Finley | D18: 12070 | E18: 86540 | F18: 28240 | G18: =E18-F18 -> 58300 | I18: =SUM(G17:G18) -> 118040
A19: WH1 TO LSR Refinery>>>> | B19: 44544 | C19: M-05 Fortie Trucking | D19: 12054 | E19: 107580 | F19: 34760 | G19: =E19-F19 -> 72820
A20: WH1 TO LSR Refinery>>>> | B20: 44544 | C20: M-05 Fortie Trucking | D20: 12062 | E20: 106240 | F20: 35340 | G20: =E20-F20 -> 70900 | I20: =SUM(G19:G20) -> 143720
A21: WH1 TO LSR Refinery>>>> | B21: 44544 | C21: 01-SouthernPrestige | D21: 12063 | E21: 107020 | F21: 29280 | G21: =E21-F21 -> 77740
A22: WH1 TO LSR Refinery>>>> | B22: 44544 | C22: 01-SouthernPrestige | D22: 12055 | E22: 114260 | F22: 28780 | G22: =E22-F22 -> 85480 | I22: =SUM(G21:G22) -> 163220
A23: WH1 TO LSR Refinery>>>> | B23: 44544 | C23: 35333HotBoy Trucking | D23: 12064 | E23: 108640 | F23: 29920 | G23: =E23-F23 -> 78720
A24: WH1 TO LSR Refinery>>>> | B24: 44544 | C24: 35333HotBoy Trucking | D24: 12057 | E24: 119960 | F24: 29080 | G24: =E24-F24 -> 90880 | I24: =SUM(G23:G24) -> 169600
A25: WH1 TO LSR Refinery>>>> | B25: 44544 | C25: 24-WFB TRUCKING | D25: 12067 | E25: 111620 | F25: 32300 | G25: =E25-F25 -> 79320 | I25: =G25 -> 79320
A26: WH1 TO LSR Refinery>>>> | B26: 44544 | C26: 14-Doucet Transport | D26: 12065 | E26: 84720 | F26: 30960 | G26: =E26-F26 -> 53760
A27: WH1 TO LSR Refinery>>>> | B27: 44544 | C27: 14-Doucet Transport | D27: 12061 | E27: 91960 | F27: 29600 | G27: =E27-F27 -> 62360 | I27: =SUM(G26:G27) -> 116120
A28: WH2 To Caldwell Thibodaux | B28: 44544 | C28: #16- LACA | D28: 10320 | E28: 100440 | F28: 34600 | G28: =E28-F28 -> 65840
A29: WH2 To Caldwell Thibodaux | B29: 44544 | C29: #15-LACA | D29: 10321 | E29: 100360 | F29: 34200 | G29: =E29-F29 -> 66160
A30: WH2 To Caldwell Thibodaux | B30: 44544 | C30: #6-LACA | D30: 5283 | E30: 98580 | F30: 33580 | G30: =E30-F30 -> 65000
A31: WH2 To Caldwell Thibodaux | B31: 44544 | C31: #5-LACA | D31: 5285 | E31: 98360 | F31: 34240 | G31: =E31-F31 -> 64120
A32: WH2 To Caldwell Thibodaux | B32: 44544 | C32: #2-LACA | D32: 5286 | E32: 99440 | F32: 35040 | G32: =E32-F32 -> 64400
A33: WH2 To Caldwell Thibodaux | B33: 44544 | C33: #14-LACA | D33: 5288 | E33: 97420 | F33: 35160 | G33: =E33-F33 -> 62260
A34: WH2 To Caldwell Thibodaux | B34: 44544 | C34: #16-LACA | D34: 5290 | E34: 99040 | F34: 34080 | G34: =E34-F34 -> 64960
A35: WH1 To Caldwell Thibodaux | B35: 44544 | C35: #6-LACA | D35: 10322 | E35: 101360 | F35: 34160 | G35: =E35-F35 -> 67200
A36: WH2 To Caldwell Thibodaux | B36: 44544 | C36: #15-LACA | D36: 5292 | E36: 98220 | F36: 34220 | G36: =E36-F36 -> 64000
A37: WH1 To Caldwell Thibodaux | B37: 44544 | C37: #5-LACA | D37: 5293 | E37: 96680 | F37: 33820 | G37: =E37-F37 -> 62860
A38: WH2 To Caldwell Thibodaux | B38: 44544 | C38: #2-LACA | D38: 5295 | E38: 95260 | F38: 34480 | G38: =E38-F38 -> 60780
A39: WH1 To Caldwell Thibodaux | B39: 44544 | C39: #14-LACA | D39: 5297 | E39: 99080 | F39: 34900 | G39: =E39-F39 -> 64180
... A44: WH1 To Caldwell Thibodaux | B44: 44544 | C44: #15-LACA | D44: 12066 | E44: 100560 | F44: 34120 | G44: =E44-F44 -> 66440
A45: WH1 To Caldwell Thibodaux | B45: 44544 | C45: #5-LACA | D45: 5305 | E45: 98340 | F45: 34300 | G45: =E45-F45 -> 64040 | I45: =SUM(G28:G45) -> 1166800
G48: =SUM(G1:G45) -> 2954340 | I48: =SUM(I1:I45) -> 2954340 | J48: CHECKED

Sheet 12-15-2021
A1: WH1 TO LSR Refinery>>>> | B1: 44545 | C1: 203-Earl Pania | D1: 12072 | E1: 94980 | F1: 33440 | G1: =E1-F1 -> 61540
A2: WH1 TO LSR Refinery>>>> | B2: 44545 | C2: 203-Earl Pania | D2: 12080 | E2: 95620 | F2: 33200 | G2: =E2-F2 -> 62420
A3: WH1 TO LSR Refinery>>>> | B3: 44545 | C3: 01-Earl Pania | D3: 12083 | E3: 92920 | F3: 33960 | G3: =E3-F3 -> 58960 | I3: =SUM(G1:G3) -> 182920
A4: WH1 TO LSR Refinery>>>> | B4: 44545 | C4: 2010-TPT | D4: 12073 | E4: 95640 | F4: 34000 | G4: =E4-F4 -> 61640
A5: WH1 TO LSR Refinery>>>> | B5: 44545 | C5: 2010-TPT | D5: 12081 | E5: 98800 | F5: 33820 | G5: =E5-F5 -> 64980 | I5: =SUM(G4:G5) -> 126620
A6: WH1 TO LSR Refinery>>>> | B6: 44545 | C6: 14-St.Romain Trucking | D6: 12075 | E6: 108500 | F6: 28860 | G6: =E6-F6 -> 79640
A7: WH1 TO LSR Refinery>>>> | B7: 44545 | C7: 14-St.Romain Trucking | D7: 12084 | E7: 98040 | F7: 28840 | G7: =E7-F7 -> 69200
A8: WH1 TO LSR Refinery>>>> | B8: 44545 | C8: 14-St.Romain Trucking | D8: 12093 | E8: 109440 | F8: 28180 | G8: =E8-F8 -> 81260 | I8: =SUM(G6:G8) -> 230100
A9: WH1 TO LSR Refinery>>>> | B9: 44545 | C9: 07-BigDawg Trucking | D9: 12074 | E9: 100300 | F9: 34500 | G9: =E9-F9 -> 65800
A10: WH1 TO LSR Refinery>>>> | B10: 44545 | C10: 07-BigDawg Trucking | D10: 12085 | E10: 90920 | F10: 34320 | G10: =E10-F10 -> 56600
A11: WH1 TO LSR Refinery>>>> | B11: 44545 | C11: 07-BigDawg Trucking | D11: 13394 | E11: 96780 | F11: 34680 | G11: =E11-F11 -> 62100 | I11: =SUM(G9:G11) -> 184500
A12: WH1 TO LSR Refinery>>>> | B12: 44545 | C12: 01-D&J Finley | D12: 12076 | E12: 88200 | F12: 27960 | G12: =E12-F12 -> 60240
A13: WH1 TO LSR Refinery>>>> | B13: 44545 | C13: 01-D&J Finley | D13: 12087 | E13: 86640 | F13: 27640 | G13: =E13-F13 -> 59000
A14: WH1 TO LSR Refinery>>>> | B14: 44545 | C14: 01-D&J Finley | D14: 13395 | E14: 87340 | F14: 27780 | G14: =E14-F14 -> 59560 | I14: =SUM(G12:G14) -> 178800
A15: WH1 TO LSR Refinery>>>> | B15: 44545 | C15: 14-Doucet Transport | D15: 12077 | E15: 83680 | F15: 30800 | G15: =E15-F15 -> 52880 | I15: =G15 -> 52880
A16: WH1 TO LSR Refinery>>>> | B16: 44545 | C16: 24-WFB Trucking | D16: 12078 | E16: 113000 | F16: 32400 | G16: =E16-F16 -> 80600
A17: WH1 TO LSR Refinery>>>> | B17: 44545 | C17: 24-WFB Trucking | D17: 12088 | E17: 119620 | F17: 31820 | G17: =E17-F17 -> 87800 | I17: =SUM(G16:G17) -> 168400
A18: WH1 TO LSR Refinery>>>> | B18: 44545 | C18: 105-Pacer Trucking | D18: 12079 | E18: 103800 | F18: 36560 | G18: =E18-F18 -> 67240
A19: WH1 TO LSR Refinery>>>> | B19: 44545 | C19: 107-Pacer Trucking | D19: 12092 | E19: 95660 | F19: 33760 | G19: =E19-F19 -> 61900
A20: WH1 TO LSR Refinery>>>> | B20: 44545 | C20: 107-Pacer Trucking | D20: 12091 | E20: 97880 | F20: 33980 | G20: =E20-F20 -> 63900
A21: WH1 TO LSR Refinery>>>> | B21: 44545 | C21: 105-Pacer Trucking | D21: 13406 | E21: 106600 | F21: 36100 | G21: =E21-F21 -> 70500 | I21: =SUM(G18:G21) -> 263540
A22: WH1 TO LSR Refinery>>>> | B22: 44545 | C22: 106-Iam Trucking | D22: 12082 | E22: 97000 | F22: 32640 | G22: =E22-F22 -> 64360
A23: WH1 TO LSR Refinery>>>> | B23: 44545 | C23: 106-Iam Trucking | D23: 12089 | E23: 98760 | F23: 33060 | G23: =E23-F23 -> 65700 | I23: =SUM(G22:G23) -> 130060
A24: WH1 TO LSR Refinery>>>> | B24: 44545 | C24: 01-Pivot Transport | D24: 12090 | E24: 98520 | F24: 33700 | G24: =E24-F24 -> 64820 | I24: =G24 -> 64820
A25: WH1 TO LSR Refinery>>>> | B25: 44545 | C25: 3533-HotBoy Trucking | D25: 13393 | E25: 104600 | F25: 29120 | G25: =E25-F25 -> 75480 | I25: =G25 -> 75480
A26: WH2 To Caldwell Thibodaux | B26: 44545 | C26: #15-LACA | D26: 10325 | E26: 101100 | F26: 34620 | G26: =E26-F26 -> 66480
A27: WH1 To Caldwell Thibodaux | B27: 44545 | C27: #2-LACA | D27: 10326 | E27: 101080 | F27: 34940 | G27: =E27-F27 -> 66140
A28: WH2 To Caldwell Thibodaux | B28: 44545 | C28: #15-LACA | D28: 10327 | E28: 100120 | F28: 34460 | G28: =E28-F28 -> 65660
A29: WH2 To Caldwell Thibodaux | B29: 44545 | C29: #16-LACA | D29: 10328 | E29: 99760 | F29: 34420 | G29: =E29-F29 -> 65340
A30: WH1 To Caldwell Thibodaux | B30: 44545 | C30: #16-LACA | D30: 5308 | E30: 98180 | F30: 34860 | G30: =E30-F30 -> 63320
A31: WH1 To Caldwell Thibodaux | B31: 44545 | C31: #6-LACA | D31: 5310 | E31: 98540 | F31: 34060 | G31: =E31-F31 -> 64480
A32: WH1 To Caldwell Thibodaux | B32: 44545 | C32: #5-LACA | D32: 5312 | E32: 97820 | F32: 34160 | G32: =E32-F32 -> 63660
A33: WH1 To Caldwell Thibodaux | B33: 44545 | C33: #6-LACA | D33: 5318 | E33: 98700 | F33: 33720 | G33: =E33-F33 -> 64980
A34: WH2 To Caldwell Thibodaux | B34: 44545 | C34: #5-LACA | D34: 5320 | E34: 98660 | F34: 33900 | G34: =E34-F34 -> 64760
A35: WH1 To Caldwell Thibodaux | B35: 44545 | C35: #2-LACA | D35: 5321 | E35: 98400 | F35: 34860 | G35: =E35-F35 -> 63540
A36: WH2 To Caldwell Thibodaux | B36: 44545 | C36: #15-LACA | D36: 10329 | E36: 100880 | F36: 34340 | G36: =E36-F36 -> 66540
A37: WH2 To Caldwell Thibodaux | B37: 44545 | C37: #16-LACA | D37: 10330 | E37: 100120 | F37: 34580 | G37: =E37-F37 -> 65540
... A42: WH2 To Caldwell Thibodaux | B42: 44545 | C42: #5-LACA | D42: 5333 | E42: 98460 | F42: 34520 | G42: =E42-F42 -> 63940
A43: WH1 To Caldwell Thibodaux | B43: 44545 | C43: #2-LACA | D43: 10331 | E43: 99300 | F43: 34700 | G43: =E43-F43 -> 64600 | I43: =SUM(G26:G43) -> 1153540
G46: =SUM(G1:G43) -> 2811660 | I46: =SUM(I1:I43) -> 2811660 | J46: CHECKED

Sheet 12-16-2021
A1: WH1 TO LSR Refinery>>>> | B1: 44546 | C1: 105-Lasuca Farms | D1: 13415 | E1: 96600 | F1: 26680 | G1: =E1-F1 -> 69920
A2: WH1 TO LSR Refinery>>>> | B2: 44546 | C2: 108-Lasuca Farms | D2: 13485 | E2: 96100 | F2: 26060 | G2: =E2-F2 -> 70040
A3: WH1 TO LSR Refinery>>>> | B3: 44546 | C3: 124-Lasuca Farms | D3: 13482 | E3: 99100 | F3: 27580 | G3: =E3-F3 -> 71520
A4: WH1 TO LSR Refinery>>>> | B4: 44546 | C4: 75-Lasuca Farms | D4: 13489 | E4: 98480 | F4: 28840 | G4: =E4-F4 -> 69640
A5: WH1 TO LSR Refinery>>>> | B5: 44546 | C5: 106-Lasuca Farms | D5: 13475 | E5: 99900 | F5: 27840 | G5: =E5-F5 -> 72060
A6: WH2 TO LSR Refinery>>>> | B6: 44546 | C6: 124-Lasuca Farms | D6: 13467 | E6: 96960 | F6: 26480 | G6: =E6-F6 -> 70480
A7: WH2 TO LSR Refinery>>>> | B7: 44546 | C7: 108-Lasuca Farms | D7: 13465 | E7: 101400 | F7: 25300 | G7: =E7-F7 -> 76100
A8: WH1 TO LSR Refinery>>>> | B8: 44546 | C8: 105-Lasuca Farms | D8: 13464 | E8: 99540 | F8: 26080 | G8: =E8-F8 -> 73460 | I8: =SUM(G1:G8) -> 573220
A9: WH1 TO LSR Refinery>>>> | B9: 44546 | C9: 01-Earl Pania | D9: 13481 | E9: 93820 | F9: 34380 | G9: =E9-F9 -> 59440
A10: WH1 TO LSR Refinery>>>> | B10: 44546 | C10: 203-Earl Pania | D10: 13407 | E10: 96600 | F10: 33580 | G10: =E10-F10 -> 63020
A11: WH1 TO LSR Refinery>>>> | B11: 44546 | C11: 203-Earl Pania | D11: 13487 | E11: 98100 | F11: 33320 | G11: =E11-F11 -> 64780
A12: WH2 TO LSR Refinery>>>> | B12: 44546 | C12: 01-Earl Pania | D12: 13401 | E12: 94060 | F12: 34100 | G12: =E12-F12 -> 59960
A13: WH1 TO LSR Refinery>>>> | B13: 44546 | C13: 27-Earl Pania | D13: 13463 | E13: 101600 | F13: 34880 | G13: =E13-F13 -> 66720
A14: WH1 TO LSR Refinery>>>> | B14: 44546 | C14: 203-Earl Pania | D14: 13466 | E14: 96160 | F14: 32940 | G14: =E14-F14 -> 63220
A15: WH1 TO LSR Refinery>>>> | B15: 44546 | C15: 203-Earl Pania | D15: 13472 | E15: 98240 | F15: 33460 | G15: =E15-F15 -> 64780
A16: WH1 TO LSR Refinery>>>> | B16: 44546 | C16: 27-Earl Pania | D16: 13493 | E16: 105600 | F16: 34700 | G16: =E16-F16 -> 70900 | I16: =SUM(G9:G16) -> 512820
A17: WH1 TO LSR Refinery>>>> | B17: 44546 | C17: 2010-TPT | D17: 13408 | E17: 101500 | F17: 33600 | G17: =E17-F17 -> 67900
A18: WH1 TO LSR Refinery>>>> | B18: 44546 | C18: 2010-TPT | D18: 13486 | E18: 98900 | F18: 33260 | G18: =E18-F18 -> 65640 | I18: =SUM(G17:G18) -> 133540
A19: WH1 TO LSR Refinery>>>> | B19: 44546 | C19: 01-D&J Finley | D19: 13483 | E19: 86220 | F19: 27960 | G19: =E19-F19 -> 58260
A20: WH1 TO LSR Refinery>>>> | B20: 44546 | C20: 01-D&J Finley | D20: 13495 | E20: 86180 | F20: 28020 | G20: =E20-F20 -> 58160 | I20: =SUM(G19:G20) -> 116420
A21: WH1 TO LSR Refinery>>>> | B21: 44546 | C21: 24-WFB Trucking | D21: 13412 | E21: 111300 | F21: 31860 | G21: =E21-F21 -> 79440
A22: WH1 TO LSR Refinery>>>> | B22: 44546 | C22: 24-WFB Trucking | D22: 13490 | E22: 121760 | F22: 31180 | G22: =E22-F22 -> 90580
A23: WH1 TO LSR Refinery>>>> | B23: 44546 | C23: 24-WFB Trucking | D23: 13470 | E23: 121600 | F23: 32180 | G23: =E23-F23 -> 89420
A24: WH1 TO LSR Refinery>>>> | B24: 44546 | C24: 24-WFB Trucking | D24: 13494 | E24: 104300 | F24: 31280 | G24: =E24-F24 -> 73020 | I24: =SUM(G21:G24) -> 332460
A25: WH1 TO LSR Refinery>>>> | B25: 44546 | C25: 35333-HotBoyTrucking | D25: 13411 | E25: 109500 | F25: 29920 | G25: =E25-F25 -> 79580
A26: WH1 TO LSR Refinery>>>> | B26: 44546 | C26: 35333-HotBoyTrucking | D26: 13405 | E26: 113120 | F26: 29300 | G26: =E26-F26 -> 83820
A27: WH1 TO LSR Refinery>>>> | B27: 44546 | C27: 35333-HotBoyTrucking | D27: 13479 | E27: 114160 | F27: 29160 | G27: =E27-F27 -> 85000
A28: WH1 TO LSR Refinery>>>> | B28: 44546 | C28: 35333-HotBoyTrucking | D28: 13471 | E28: 112160 | F28: 29200 | G28: =E28-F28 -> 82960 | I28: =SUM(G25:G28) -> 331360
A29: WH1 TO LSR Refinery>>>> | B29: 44546 | C29: 07-BigDawg Trucking | D29: 13410 | E29: 96400 | F29: 34480 | G29: =E29-F29 -> 61920
A30: WH1 TO LSR Refinery>>>> | B30: 44546 | C30: 07-BigDawg Trucking | D30: 13488 | E30: 99840 | F30: 34380 | G30: =E30-F30 -> 65460
A31: WH1 TO LSR Refinery>>>> | B31: 44546 | C31: 07-BigDawg Trucking | D31: 13478 | E31: 98440 | F31: 34660 | G31: =E31-F31 -> 63780 | I31: =SUM(G29:G31) -> 191160
A32: WH1 TO LSR Refinery>>>> | B32: 44546 | C32: 14-St.Romain Trucking | D32: 13409 | E32: 107300 | F32: 28860 | G32: =E32-F32 -> 78440
A33: WH1 TO LSR Refinery>>>> | B33: 44546 | C33: 14-St.Romain Trucking | D33: 13468 | E33: 109340 | F33: 27700 | G33: =E33-F33 -> 81640
A34: WH1 TO LSR Refinery>>>> | B34: 44546 | C34: 14-St.Romain Trucking | D34: 13476 | E34: 104860 | F34: 27820 | G34: =E34-F34 -> 77040 | I34: =SUM(G32:G34) -> 237120
A35: WH1 TO LSR Refinery>>>> | B35: 44546 | C35: 106-Iam Trucking | D35: 13413 | E35: 95300 | F35: 36640 | G35: =E35-F35 -> 58660
A36: WH1 TO LSR Refinery>>>> | B36: 44546 | C36: 106-Iam Trucking | D36: 13403 | E36: 94940 | F36: 32740 | G36: =E36-F36 -> 62200
A37: WH1 TO LSR Refinery>>>> | B37: 44546 | C37: 106-Iam Trucking | D37: 13492 | E37: 94120 | F37: 33020 | G37: =E37-F37 -> 61100 | I37: =SUM(G35:G37) -> 181960
A38: WH1 TO LSR Refinery>>>> | B38: 44546 | C38: 105-Pacer Trucking | D38: 13484 | E38: 103400 | F38: 35940 | G38: =E38-F38 -> 67460
A39: WH1 TO LSR Refinery>>>> | B39: 44546 | C39: 105-Pacer Trucking | D39: 13461 | E39: 99720 | F39: 36400 | G39: =E39-F39 -> 63320
A40: WH1 TO LSR Refinery>>>> | B40: 44546 | C40: 107-Pacer Trucking | D40: 13491 | E40: 98520 | F40: 34480 | G40: =E40-F40 -> 64040
A41: WH1 TO LSR Refinery>>>> | B41: 44546 | C41: 105-Pacer Trucking | D41: 13480 | E41: 102400 | F41: 35880 | G41: =E41-F41 -> 66520
A42: WH1 TO LSR Refinery>>>> | B42: 44546 | C42: 107-Pacer Trucking | D42: 13474 | E42: 98540 | F42: 34720 | G42: =E42-F42 -> 63820
A43: WH1 TO LSR Refinery>>>> | B43: 44546 | C43: 105-Pacer Trucking | D43: 13473 | E43: 101580 | F43: 36160 | G43: =E43-F43 -> 65420 | I43: =SUM(G38:G43) -> 390580
A44: WH1 TO LSR Refinery>>>> | B44: 44546 | C44: G3-G5 Trucking | D44: 13413 | E44: 87940 | F44: 30320 | G44: =E44-F44 -> 57620
A45: WH1 TO LSR Refinery>>>> | B45: 44546 | C45: G3-G5 Trucking | D45: 13462 | E45: 99200 | F45: 30740 | G45: =E45-F45 -> 68460 | I45: =SUM(G44:G45) -> 126080
A46: WH1 TO LSR Refinery>>>> | B46: 44546 | C46: EP4-Erick Prejean | D46: 13402 | E46: 106120 | F46: 31420 | G46: =E46-F46 -> 74700 | I46: =G46 -> 74700
A47: WH1 TO LSR Refinery>>>> | B47: 44546 | C47: 01-SouthernPrestige | D47: 13404 | E47: 109180 | F47: 29160 | G47: =E47-F47 -> 80020
A48: WH1 TO LSR Refinery>>>> | B48: 44546 | C48: 01-SouthernPrestige | D48: 13477 | E48: 111760 | F48: 29080 | G48: =E48-F48 -> 82680
A49: WH1 TO LSR Refinery>>>> | B49: 44546 | C49: 01-SouthernPrestige | D49: 13469 | E49: 106580 | F49: 29220 | G49: =E49-F49 -> 77360 | I49: =SUM(G47:G49) -> 240060
A50: WH2 To Caldwell Thibodaux | B50: 44546 | C50: #6-LACA | D50: 10332 | E50: 100900 | F50: 34020 | G50: =E50-F50 -> 66880
A51: WH2 To Caldwell Thibodaux | B51: 44546 | C51: #8-LACA | D51: 10333 | E51: 101440 | F51: 34620 | G51: =E51-F51 -> 66820
A52: WH1 To Caldwell Thibodaux | B52: 44546 | C52: #5-LACA | D52: 5336 | E52: 97280 | F52: 34220 | G52: =E52-F52 -> 63060
A53: WH2 To Caldwell Thibodaux | B53: 44546 | C53: #14-LACA | D53: 5342 | E53: 99120 | F53: 34940 | G53: =E53-F53 -> 64180
A54: WH1 To Caldwell Thibodaux | B54: 44546 | C54: #2-LACA | D54: 5343 | E54: 97560 | F54: 34980 | G54: =E54-F54 -> 62580
A55: WH2 To Caldwell Thibodaux | B55: 44546 | C55: #6-LACA | D55: 5346 | E55: 97500 | F55: 33200 | G55: =E55-F55 -> 64300
A56: WH2 To Caldwell Thibodaux | B56: 44546 | C56: #8-LACA | D56: 5347 | E56: 99460 | F56: 34360 | G56: =E56-F56 -> 65100 | I56: =SUM(G50:G56) -> 452920
A57: WH1 TO BARGE>>>>>>>> | B57: 44546 | C57: #3-LACA | D57: 10473 | E57: 95180 | F57: 32160 | G57: =E57-F57 -> 63020
A58: WH1 TO BARGE>>>>>>>> | B58: 44546 | C58: #8-LACA | D58: 10474 | E58: 100000 | F58: 34940 | G58: =E58-F58 -> 65060
A59: WH1 TO BARGE>>>>>>>> | B59: 44546 | C59: #2-LACA | D59: 5351 | E59: 95000 | F59: 33840 | G59: =E59-F59 -> 61160
A60: WH1 TO BARGE>>>>>>>> | B60: 44546 | C60: #6-LACA | D60: 5352 | E60: 98180 | F60: 34320 | G60: =E60-F60 -> 63860
A61: WH1 TO BARGE>>>>>>>> | B61: 44546 | C61: #15-LACA | D61: 5353 | E61: 98200 | F61: 34680 | G61: =E61-F61 -> 63520
A62: WH2 TO BARGE>>>>>>>> | B62: 44546 | C62: #11-LACA | D62: 5354 | E62: 100000 | F62: 34220 | G62: =E62-F62 -> 65780
A63: WH2 TO BARGE>>>>>>>> | B63: 44546 | C63: #5-LACA | D63: 5355 | E63: 96140 | F63: 34080 | G63: =E63-F63 -> 62060 | I63: =SUM(G57:G63) -> 444460
G66: =SUM(G1:G63) -> 4338860 | I66: =SUM(I1:I63) -> 4338860 | J66: CHECKED

Sheet 12-17-2021
A1: WH1 TO BARGE>>>>>>>> | B1: 44547 | C1: 106-Iam Trucking | D1: 10342 | E1: 90420 | F1: 32920 | G1: =E1-F1 -> 57500
A2: WH1 TO BARGE>>>>>>>> | B2: 44547 | C2: 106-Iam Trucking | D2: 10344 | E2: 98000 | F2: 34500 | G2: =E2-F2 -> 63500
A3: WH1 TO BARGE>>>>>>>> | B3: 44547 | C3: 105-Pacer Trucking | D3: 10341 | E3: 102000 | F3: 36520 | G3: =E3-F3 -> 65480
A4: WH1 TO BARGE>>>>>>>> | B4: 44547 | C4: 105-Pacer Trucking | D4: 10345 | E4: 101840 | F4: 36520 | G4: =E4-F4 -> 65320
A5: WH1 TO BARGE>>>>>>>> | B5: 44547 | C5: 107-Pacer Trucking | D5: 10350 | E5: 95120 | F5: 34260 | G5: =E5-F5 -> 60860
A6: WH1 TO BARGE>>>>>>>> | B6: 44547 | C6: 106-Iam Trucking | D6: 10349 | E6: 99160 | F6: 32880 | G6: =E6-F6 -> 66280
A7: WH1 TO BARGE>>>>>>>> | B7: 44547 | C7: 106-Iam Trucking | D7: 10351 | E7: 99680 | F7: 32680 | G7: =E7-F7 -> 67000
A8: WH1 TO BARGE>>>>>>>> | B8: 44547 | C8: 107-Pacer Trucking | D8: 10352 | E8: 93100 | F8: 34140 | G8: =E8-F8 -> 58960
A9: WH1 TO BARGE>>>>>>>> | B9: 44547 | C9: #8-LACA | D9: 5356 | E9: 96380 | F9: 34940 | G9: =E9-F9 -> 61440
A10: WH1 TO BARGE>>>>>>>> | B10: 44547 | C10: #2-LACA | D10: 5365 | E10: 96440 | F10: 35300 | G10: =E10-F10 -> 61140
A11: WH1 TO BARGE>>>>>>>> | B11: 44547 | C11: #14-LACA | D11: 5369 | E11: 97960 | F11: 34860 | G11: =E11-F11 -> 63100
A12: WH1 TO BARGE>>>>>>>> | B12: 44547 | C12: #8-LACA | D12: 5371 | E12: 96480 | F12: 34800 | G12: =E12-F12 -> 61680
... A43: WH2 TO BARGE>>>>>>>> | B43: 44547 | C43: #15-LACA | D43: 10483 | E43: 100520 | F43: 34480 | G43: =E43-F43 -> 66040
A44: WH2 TO BARGE>>>>>>>> | B44: 44547 | C44: #18-LACA | D44: 10484 | E44: 100320 | F44: 34280 | G44: =E44-F44 -> 66040 | I44: =SUM(G1:G44) -> 2814160
A45: WH1- Caldwell Thibodeaux | B45: 44547 | C45: #5-LACA | D45: 10358 | E45: 100100 | F45: 34300 | G45: =E45-F45 -> 65800
A46: WH1- Caldwell Thibodeaux | B46: 44547 | C46: #14-LACA | D46: 5398 | E46: 98700 | F46: 35060 | G46: =E46-F46 -> 63640
A47: WH1- Caldwell Thibodeaux | B47: 44547 | C47: #2-LACA | D47: 5399 | E47: 98900 | F47: 34860 | G47: =E47-F47 -> 64040
A48: WH2- Caldwell Thibodeaux | B48: 44547 | C48: #15-LACA | D48: 5400 | E48: 98280 | F48: 34280 | G48: =E48-F48 -> 64000 | I48: =SUM(G45:G48) -> 257480
A49: WH1 TO LSR Refinery>>>> | B49: 44547 | C49: 2010-TPT | D49: 10338 | E49: 100900 | F49: 34280 | G49: =E49-F49 -> 66620
A50: WH1 TO LSR Refinery>>>> | B50: 44547 | C50: 2010-TPT | D50: 10343 | E50: 99800 | F50: 33820 | G50: =E50-F50 -> 65980 | I50: =SUM(G49:G50) -> 132600
A51: WH1 TO LSR Refinery>>>> | B51: 44547 | C51: 01-Earl Pania | D51: 10336 | E51: 92020 | F51: 33900 | G51: =E51-F51 -> 58120
A52: WH1 TO LSR Refinery>>>> | B52: 44547 | C52: 203-Earl Pania | D52: 10340 | E52: 96740 | F52: 33320 | G52: =E52-F52 -> 63420
A53: WH1 TO LSR Refinery>>>> | B53: 44547 | C53: 357-Earll Pania | D53: 10353 | E53: 84560 | F53: 33340 | G53: =E53-F53 -> 51220 | I53: =SUM(G51:G53) -> 172760
A54: WH1 TO LSR Refinery>>>> | B54: 44547 | C54: 07-BigDawg Trucking | D54: 10339 | E54: 97600 | F54: 34420 | G54: =E54-F54 -> 63180
A55: WH1 TO LSR Refinery>>>> | B55: 44547 | C55: 07-BigDawg Trucking | D55: 10347 | E55: 97600 | F55: 34560 | G55: =E55-F55 -> 63040 | I55: =SUM(G54:G55) -> 126220
A56: WH1 TO LSR Refinery>>>> | B56: 44547 | C56: EP2-EmickPrejean | D56: 10337 | E56: 99300 | F56: 28880 | G56: =E56-F56 -> 70420
A57: WH1 TO LSR Refinery>>>> | B57: 44547 | C57: EP2-EmickPrejean | D57: 10346 | E57: 105340 | F57: 28880 | G57: =E57-F57 -> 76460 | I57: =SUM(G56:G57) -> 146880
A58: WH1 TO LSR Refinery>>>> | B58: 44547 | C58: 01-D&J Finley | D58: 10348 | E58: 86320 | F58: 28360 | G58: =E58-F58 -> 57960
A59: WH1 TO LSR Refinery>>>> | B59: 44547 | C59: 01-D&J Finley | D59: 10360 | E59: 85860 | F59: 28580 | G59: =E59-F59 -> 57280 | I59: =SUM(G58:G59) -> 115240
A60: WH1 TO LSR Refinery>>>> | B60: 44547 | C60: 01-SouthernPrestige | D60: 10354 | E60: 109480 | F60: 28960 | G60: =E60-F60 -> 80520 | I60: =G60 -> 80520
A61: WH1 TO LSR Refinery>>>> | B61: 44547 | C61: 106-Iam Trucking | D61: 10355 | E61: 95880 | F61: 32580 | G61: =E61-F61 -> 63300 | I61: =G61 -> 63300
A62: WH1 TO LSR Refinery>>>> | B62: 44547 | C62: 107-Pacer Trucking | D62: 10356 | E62: 92080 | F62: 34060 | G62: =E62-F62 -> 58020 | I62: =G62 -> 58020
A63: WH1 TO LSR Refinery>>>> | B63: 44547 | C63: 14-St.Romain Trucking | D63: 10357 | E63: 119140 | F63: 28200 | G63: =E63-F63 -> 90940 | I63: =G63 -> 90940
A64: WH1 TO LSR Refinery>>>> | B64: 44547 | C64: 24-WFB Trucking | D64: 10359 | E64: 111660 | F64: 30780 | G64: =E64-F64 -> 80880 | I64: =G64 -> 80880
G66: =SUM(G1:G64) -> 4139000 | I66: =SUM(I1:I64) -> 4139000 | J66: CHECKED
A68: Remark: | B68: ='12-16-2021'!B16 -> 44546 | C68: ='12-16-2021'!C16 -> 27-Earl Pania | D68: ='12-16-2021'!D16 -> 13493 | E68: ='12-16-2021'!E16 -> 105600 | F68: ='12-16-2021'!F16 -> 34700 | G68: =E68-F68 -> 70900
B69: 44547 | C69: 27-Earl Pania | D69: 10361 | E69: 63600 | F69: 36460 | G69: =E69-F69 -> 27140 | H69: dumped at wh#1 due to unloading problem at LSR
D70: new ticket | G70: GAINED THIS WT…I will explain

Sheet 12-18-2021
A1: WH2 TO LSR Refinery>>>> | B1: 44548 | C1: 27-Earl Pania | D1: 10362 | E1: 105800 | F1: 36460 | G1: =E1-F1 -> 69340
A2: WH2 TO LSR Refinery>>>> | B2: 44548 | C2: 203-Earl Pania | D2: 10366 | E2: 94000 | F2: 33600 | G2: =E2-F2 -> 60400
A3: WH2 TO LSR Refinery>>>> | B3: 44548 | C3: 357-Earl Pania | D3: 10367 | E3: 89100 | F3: 33320 | G3: =E3-F3 -> 55780
A4: WH2 TO LSR Refinery>>>> | B4: 44548 | C4: 203-Earl Pania | D4: 10376 | E4: 93980 | F4: 33080 | G4: =E4-F4 -> 60900
A5: WH2 TO LSR Refinery>>>> | B5: 44548 | C5: 27-Earl Pania | D5: 10380 | E5: 100120 | F5: 35480 | G5: =E5-F5 -> 64640
A6: WH2 TO LSR Refinery>>>> | B6: 44548 | C6: 203-Earl Pania | D6: 10383 | E6: 97840 | F6: 33000 | G6: =E6-F6 -> 64840 | I6: =SUM(G1:G6) -> 375900
A7: WH2 TO LSR Refinery>>>> | B7: 44548 | C7: 107-Pacer Trucking | D7: 10363 | E7: 99900 | F7: 34960 | G7: =E7-F7 -> 64940
A8: WH2 TO LSR Refinery>>>> | B8: 44548 | C8: 105-Pacer Trucking | D8: 10370 | E8: 105800 | F8: 36420 | G8: =E8-F8 -> 69380
A9: WH2 TO LSR Refinery>>>> | B9: 44548 | C9: 107-Pacer Trucking | D9: 10373 | E9: 94160 | F9: 34620 | G9: =E9-F9 -> 59540
A10: WH2 TO LSR Refinery>>>> | B10: 44548 | C10: 107-Pacer Trucking | D10: 10387 | E10: 102500 | F10: 34220 | G10: =E10-F10 -> 68280 | I10: =SUM(G7:G10) -> 262140
A11: WH2 TO LSR Refinery>>>> | B11: 44548 | C11: 24-WFB Trucking | D11: 10364 | E11: 117800 | F11: 31540 | G11: =E11-F11 -> 86260
A12: WH2 TO LSR Refinery>>>> | B12: 44548 | C12: 24-WFB Trucking | D12: 10375 | E12: 120860 | F12: 32560 | G12: =E12-F12 -> 88300 | I12: =SUM(G11:G12) -> 174560
A13: WH2 TO LSR Refinery>>>> | B13: 44548 | C13: 01-D&J Finley | D13: 10365 | E13: 87120 | F13: 28680 | G13: =E13-F13 -> 58440
A14: WH2 TO LSR Refinery>>>> | B14: 44548 | C14: 01-D&J Finley | D14: 10381 | E14: 86820 | F14: 28360 | G14: =E14-F14 -> 58460 | I14: =SUM(G13:G14) -> 116900
A15: WH2 TO LSR Refinery>>>> | B15: 44548 | C15: EP2-EmickPrejean | D15: 10369 | E15: 98000 | F15: 28220 | G15: =E15-F15 -> 69780 | I15: =G15 -> 69780
A16: WH1 TO LSR Refinery>>>> | B16: 44548 | C16: 07-BigDawg Trucking | D16: 10371 | E16: 99100 | F16: 34700 | G16: =E16-F16 -> 64400
A17: WH2 TO LSR Refinery>>>> | B17: 44548 | C17: 07-BigDawg Trucking | D17: 10378 | E17: 89600 | F17: 34360 | G17: =E17-F17 -> 55240 | I17: =SUM(G16:G17) -> 119640
A18: WH2 TO LSR Refinery>>>> | B18: 44548 | C18: 35333-HotBoyTrucking | D18: 10374 | E18: 111460 | F18: 29100 | G18: =E18-F18 -> 82360
A19: WH2 TO LSR Refinery>>>> | B19: 44548 | C19: 35333-HotBoyTrucking | D19: 10385 | E19: 113060 | F19: 29640 | G19: =E19-F19 -> 83420 | I19: =SUM(G18:G19) -> 165780
A20: WH2 To Caldwell Thibodaux | B20: 44548 | C20: #15-LACA | D20: 5405 | E20: 98680 | F20: 34700 | G20: =E20-F20 -> 63980
A21: WH1 To Caldwell Thibodaux | B21: 44548 | C21: #5-LACA | D21: 5406 | E21: 97300 | F21: 33760 | G21: =E21-F21 -> 63540
A22: WH2 To Caldwell Thibodaux | B22: 44548 | C22: #15-LACA | D22: 5412 | E22: 99880 | F22: 34340 | G22: =E22-F22 -> 65540
A23: WH2 To Caldwell Thibodaux | B23: 44548 | C23: #5-LACA | D23: 5413 | E23: 97920 | F23: 33800 | G23: =E23-F23 -> 64120
A24: WH2 To Caldwell Thibodaux | B24: 44548 | C24: 107-Pacer Trucking | D24: 10379 | E24: 96280 | F24: 34500 | G24: =E24-F24 -> 61780
A25: WH2 To Caldwell Thibodaux | B25: 44548 | C25: 105-Pacer Trucking | D25: 10382 | E25: 103420 | F25: 36600 | G25: =E25-F25 -> 66820
A26: WH2 To Caldwell Thibodaux | B26: 44548 | C26: 105-Pacer Trucking | D26: 10377 | E26: 106140 | F26: 35920 | G26: =E26-F26 -> 70220
A27: WH1 To Caldwell Thibodaux | B27: 44548 | C27: #15-LACA | D27: 5419 | E27: 98680 | F27: 34040 | G27: =E27-F27 -> 64640
A28: WH2 To Caldwell Thibodaux | B28: 44548 | C28: #5-LACA | D28: 5420 | E28: 98680 | F28: 33480 | G28: =E28-F28 -> 65200
A29: WH2 To Caldwell Thibodaux | B29: 44548 | C29: 106-Iam Trucking | D29: 10372 | E29: 99500 | F29: 32680 | G29: =E29-F29 -> 66820 | I29: =SUM(G20:G29) -> 652660
A30: WH2 TO BARGE>>>>>>>> | B30: 44548 | C30: #14-LACA | D30: 5409 | E30: 97320 | F30: 35160 | G30: =E30-F30 -> 62160
A31: WH2 TO BARGE>>>>>>>> | B31: 44548 | C31: #7-LACA | D31: 10384 | E31: 100020 | F31: 34420 | G31: =E31-F31 -> 65600
A32: WH2 TO BARGE>>>>>>>> | B32: 44548 | C32: #11-LACA | D32: 5421 | E32: 97340 | F32: 33860 | G32: =E32-F32 -> 63480
A33: WH2 TO BARGE>>>>>>>> | B33: 44548 | C33: #18-LACA | D33: 5423 | E33: 97120 | F33: 33980 | G33: =E33-F33 -> 63140
A34: WH2 TO BARGE>>>>>>>> | B34: 44548 | C34: 106-Iam Trucking | D34: 10386 | E34: 98660 | F34: 33080 | G34: =E34-F34 -> 65580
A35: WH2 TO BARGE>>>>>>>> | B35: 44548 | C35: #2-LACA | D35: 10485 | E35: 104100 | F35: 35040 | G35: =E35-F35 -> 69060
A36: WH1To BARGE | B36: 44548 | C36: #10-LACA | D36: 5418 | E36: 99940 | F36: 35080 | G36: =E36-F36 -> 64860 | I36: =SUM(G30:G36) -> 453880
G39: =SUM(G1:G36) -> 2391240 | I39: =SUM(I1:I36) -> 2391240 | J39: CHECKED

Sheet 12-19-2021
A1: WH1 TO BARGE>>>>>>>> | B1: 44549 | C1: #15-LACA | D1: 5425 | E1: 99220 | F1: 34680 | G1: 64540
A2: WH1 TO BARGE>>>>>>>> | B2: 44549 | C2: #5-LACA | D2: 5427 | E2: 95200 | F2: 34480 | G2: 60720
A3: WH2 TO BARGE>>>>>>>> | B3: 44549 | C3: #7-LACA | D3: 5430 | E3: 97880 | F3: 34200 | G3: 63680
A4: WH1 TO BARGE>>>>>>>> | B4: 44549 | C4: #18-LACA | D4: 5431 | E4: 97180 | F4: 35040 | G4: 62140
A5: WH1 TO BARGE>>>>>>>> | B5: 44549 | C5: #2-LACA | D5: 5434 | E5: 99700 | F5: 35220 | G5: 64480
A6: WH2 TO BARGE>>>>>>>> | B6: 44549 | C6: #6-LACA | D6: 5435 | E6: 99440 | F6: 33820 | G6: 65620
A7: WH2 TO BARGE>>>>>>>> | B7: 44549 | C7: #18-LACA | D7: 5441 | E7: 97680 | F7: 35060 | G7: 62620
A8: WH2 TO BARGE>>>>>>>> | B8: 44549 | C8: #15-LACA | D8: 5442 | E8: 98820 | F8: 34560 | G8: 64260
A9: WH1 TO BARGE>>>>>>>> | B9: 44549 | C9: #6-LACA | D9: 5444 | E9: 97200 | F9: 33800 | G9: 63400
A10: WH2 TO BARGE>>>>>>>> | B10: 44549 | C10: #2-LACA | D10: 5445 | E10: 99760 | F10: 35120 | G10: 64640
A11: WH1 TO BARGE>>>>>>>> | B11: 44549 | C11: #5-LACA | D11: 5447 | E11: 93540 | F11: 34240 | G11: 59300
A12: WH1 TO BARGE>>>>>>>> | B12: 44549 | C12: #10-LACA | D12: 5448 | E12: 95840 | F12: 34820 | G12: 61020
... A46: WH2 TO BARGE>>>>>>>> | B46: 44549 | C46: 106-Iam Trucking | D46: 10403 | E46: 98900 | F46: 32760 | G46: 66140
A47: WH2 TO BARGE>>>>>>>> | B47: 44549 | C47: 105-Pacer Trucking | D47: 10404 | E47: 105340 | F47: 35940 | G47: 69400 | I47: =SUM(G1:G47) -> 3030480
A48: WH1 Caldwell Thibodeaux | B48: 44549 | C48: #10-LACA | D48: 5471 | E48: 99640 | F48: 34440 | G48: 65200
A49: WH1 Caldwell Thibodeaux | B49: 44549 | C49: #5-LACA | D49: 5473 | E49: 98200 | F49: 34480 | G49: 63720
A50: WH2 Caldwell Thibodeaux | B50: 44549 | C50: #11-LACA | D50: 10408 | E50: 100100 | F50: 34680 | G50: 65420
A51: WH2 Caldwell Thibodeaux | B51: 44549 | C51: #7-LACA | D51: 10409 | E51: 102420 | F51: 34520 | G51: 67900
A52: WH2 Caldwell Thibodeaux | B52: 44549 | C52: #18-LACA | D52: 10410 | E52: 101280 | F52: 35020 | G52: 66260 | I52: =SUM(G48:G52) -> 328500
A53: WH2 TO LSR Refinery>>>> | B53: 44549 | C53: 27-Earl Pania | D53: 10389 | E53: 103900 | F53: 34760 | G53: 69140
A54: WH2 TO LSR Refinery>>>> | B54: 44549 | C54: 01-Earl Pania | D54: 10390 | E54: 92520 | F54: 33660 | G54: 58860
A55: WH2 TO LSR Refinery>>>> | B55: 44549 | C55: 204-Earl Pania | D55: 10391 | E55: 90560 | F55: 34320 | G55: 56240
A56: WH2 TO LSR Refinery>>>> | B56: 44549 | C56: 203-Earl Pania | D56: 10394 | E56: 96940 | F56: 33640 | G56: 63300
A57: WH2 TO LSR Refinery>>>> | B57: 44549 | C57: 204-Earl Pania | D57: 10398 | E57: 90160 | F57: 33940 | G57: 56220
A58: WH2 TO LSR Refinery>>>> | B58: 44549 | C58: 27-Earl Pania | D58: 10399 | E58: 104460 | F58: 34400 | G58: 70060
A59: WH2 TO LSR Refinery>>>> | B59: 44549 | C59: 01-Earl Pania | D59: 10400 | E59: 93660 | F59: 34360 | G59: 59300
A60: WH2 TO LSR Refinery>>>> | B60: 44549 | C60: 27-Earl Pania | D60: 10407 | E60: 106560 | F60: 34140 | G60: 72420
A61: WH2 TO LSR Refinery>>>> | B61: 44549 | C61: 27-Earl Pania | D61: 10412 | E61: 104000 | F61: 33820 | G61: 70180 | I61: =SUM(G53:G61) -> 575720
A62: WH2 TO LSR Refinery>>>> | B62: 44549 | C62: 07-BigDawg Trucking | D62: 10397 | E62: 98200 | F62: 34520 | G62: 63680
A63: WH2 TO LSR Refinery>>>> | B63: 44549 | C63: 07-BigDawg Trucking | D63: 10388 | E63: 97100 | F63: 34820 | G63: 62280
A64: WH2 TO LSR Refinery>>>> | B64: 44549 | C64: 07-BigDawg Trucking | D64: 10406 | E64: 101700 | F64: 34580 | G64: 67120
A65: WH2 TO LSR Refinery>>>> | B65: 44549 | C65: 07-BigDawg Trucking | D65: 10411 | E65: 94180 | F65: 34800 | G65: 59380
A66: WH2 TO LSR Refinery>>>> | B66: 44549 | C66: 107-Pacer Trucking | D66: 10405 | E66: 99400 | F66: 34100 | G66: 65300 | I66: =SUM(G62:G66) -> 317760
G69: =SUM(G1:G66) -> 4252460 | I69: =SUM(I1:I66) -> 4252460 | J69: CHECKED

Sheet 12-20-2021
A1: WH2 TO LSR Refinery>>>> | B1: 44550 | C1: 105-Pacer Trucking | D1: 10414 | E1: 103300 | F1: 36800 | G1: =E1-F1 -> 66500
A2: WH2 TO LSR Refinery>>>> | B2: 44550 | C2: 105-Pacer Trucking | D2: 10420 | E2: 106400 | F2: 36540 | G2: =E2-F2 -> 69860
A3: WH2 TO LSR Refinery>>>> | B3: 44550 | C3: 203-Earl Pania | D3: 10416 | E3: 95880 | F3: 33700 | G3: =E3-F3 -> 62180
A4: WH1 TO LSR Refinery>>>> | B4: 44550 | C4: 01-Earl Pania | D4: 10419 | E4: 93340 | F4: 34540 | G4: =E4-F4 -> 58800
A5: WH2 TO LSR Refinery>>>> | B5: 44550 | C5: 203-Earl Pania | D5: 10422 | E5: 98300 | F5: 33460 | G5: =E5-F5 -> 64840
A6: WH1 TO LSR Refinery>>>> | B6: 44550 | C6: 27-Earl Pania | D6: 10423 | E6: 102940 | F6: 35500 | G6: =E6-F6 -> 67440
A7: WH2 TO LSR Refinery>>>> | B7: 44550 | C7: 357-Earl Pania | D7: 10424 | E7: 92560 | F7: 33980 | G7: =E7-F7 -> 58580
A8: WH2 TO LSR Refinery>>>> | B8: 44550 | C8: 203-Earl Pania | D8: 10426 | E8: 99680 | F8: 33320 | G8: =E8-F8 -> 66360
A9: WH2 TO LSR Refinery>>>> | B9: 44550 | C9: 357-Earl Pania | D9: 10434 | E9: 89520 | F9: 33760 | G9: =E9-F9 -> 55760
A10: WH2 TO LSR Refinery>>>> | B10: 44550 | C10: 203-Earl Pania | D10: 10436 | E10: 98700 | F10: 33500 | G10: =E10-F10 -> 65200
A11: WH2 TO LSR Refinery>>>> | B11: 44550 | C11: 07-BigDawg Trucking | D11: 10415 | E11: 95100 | F11: 34560 | G11: =E11-F11 -> 60540
A12: WH1 TO LSR Refinery>>>> | B12: 44550 | C12: 07-BigDawg Trucking | D12: 10421 | E12: 94420 | F12: 34620 | G12: =E12-F12 -> 59800
... A23: WH2 TO LSR Refinery>>>> | B23: 44550 | C23: 24-WFB Trucking | D23: 10432 | E23: 117120 | F23: 31180 | G23: =E23-F23 -> 85940
A24: WH2 TO LSR Refinery>>>> | B24: 44550 | C24: 01-SouthernPrestige | D24: 10431 | E24: 116380 | F24: 29540 | G24: =E24-F24 -> 86840 | I24: =SUM(G1:G24) -> 1631940
A25: WH2 To Caldwell Thibodaux | B25: 44550 | C25: #15-LACA | D25: 10498 | E25: 101560 | F25: 34680 | G25: =E25-F25 -> 66880
A26: WH2 To Caldwell Thibodaux | B26: 44550 | C26: #5-LACA | D26: 5480 | E26: 97440 | F26: 34260 | G26: =E26-F26 -> 63180
A27: WH2 To Caldwell Thibodaux | B27: 44550 | C27: #6-LACA | D27: 5482 | E27: 99220 | F27: 33820 | G27: =E27-F27 -> 65400
A28: WH2 To Caldwell Thibodaux | B28: 44550 | C28: #3-LACA | D28: 10499 | E28: 95720 | F28: 34340 | G28: =E28-F28 -> 61380
A29: WH2 To Caldwell Thibodaux | B29: 44550 | C29: #10-LACA | D29: 10500 | E29: 100640 | F29: 35220 | G29: =E29-F29 -> 65420
A30: WH2 To Caldwell Thibodaux | B30: 44550 | C30: #3-LACA | D30: 10501 | E30: 96280 | F30: 34200 | G30: =E30-F30 -> 62080
A31: WH2 To Caldwell Thibodaux | B31: 44550 | C31: #10-LACA | D31: 5495 | E31: 99760 | F31: 34800 | G31: =E31-F31 -> 64960
A32: WH2 To Caldwell Thibodaux | B32: 44550 | C32: #5-LACA | D32: 5496 | E32: 97360 | F32: 34000 | G32: =E32-F32 -> 63360
A33: WH1 To Caldwell Thibodaux | B33: 44550 | C33: #2-LACA | D33: 5479 | E33: 95400 | F33: 35200 | G33: =E33-F33 -> 60200
A34: WH2 To Caldwell Thibodaux | B34: 44550 | C34: #14-LACA | D34: 5478 | E34: 98780 | F34: 35560 | G34: =E34-F34 -> 63220 | I34: =SUM(G25:G34) -> 636080
A35: WH1 TO BARGE>>>>>>>> | B35: 44550 | C35: #7-LACA | D35: 5469 | E35: 95480 | F35: 33760 | G35: =E35-F35 -> 61720
A36: WH1 TO BARGE>>>>>>>> | B36: 44550 | C36: #18-LACA | D36: 5470 | E36: 96640 | F36: 34580 | G36: =E36-F36 -> 62060
A37: WH2 TO BARGE>>>>>>>> | B37: 44550 | C37: #14-LACA | D37: 5486 | E37: 98740 | F37: 34960 | G37: =E37-F37 -> 63780
A38: WH1 TO BARGE>>>>>>>> | B38: 44550 | C38: #2-LACA | D38: 5487 | E38: 95700 | F38: 34960 | G38: =E38-F38 -> 60740
A39: WH2 TO BARGE>>>>>>>> | B39: 44550 | C39: #18-LACA | D39: 5497 | E39: 97200 | F39: 34200 | G39: =E39-F39 -> 63000
A40: WH2 TO BARGE>>>>>>>> | B40: 44550 | C40: #7-LACA | D40: 5498 | E40: 97920 | F40: 33880 | G40: =E40-F40 -> 64040
A41: WH2 TO BARGE>>>>>>>> | B41: 44550 | C41: #10-LACA | D41: 5499 | E41: 96180 | F41: 34740 | G41: =E41-F41 -> 61440
A42: WH1 TO BARGE>>>>>>>> | B42: 44550 | C42: #5-LACA | D42: 5500 | E42: 96920 | F42: 33760 | G42: =E42-F42 -> 63160
A43: WH2 TO BARGE>>>>>>>> | B43: 44550 | C43: #15-LACA | D43: 5490 | E43: 99740 | F43: 34340 | G43: =E43-F43 -> 65400 | I43: =SUM(G35:G43) -> 565340
G46: =SUM(G1:G43) -> 2833360 | I46: =SUM(I1:I43) -> 2833360 | J46: CHECKED

Sheet 12-21-2021
A1: WH1 TO BARGE>>>>>>>> | B1: 44551 | C1: #7-LACA | D1: 5469 | E1: 95480 | F1: 33760 | G1: 61720
A2: WH1 TO BARGE>>>>>>>> | B2: 44551 | C2: #18-LACA | D2: 5470 | E2: 96640 | F2: 34580 | G2: 62060
A3: WH2 TO BARGE>>>>>>>> | B3: 44551 | C3: #14-LACA | D3: 5486 | E3: 98740 | F3: 34960 | G3: 63780
A4: WH1 TO BARGE>>>>>>>> | B4: 44551 | C4: #2-LACA | D4: 5487 | E4: 95700 | F4: 34960 | G4: 60740
A5: WH2 TO BARGE>>>>>>>> | B5: 44551 | C5: #18-LACA | D5: 5497 | E5: 97200 | F5: 34200 | G5: 63000
A6: WH2 TO BARGE>>>>>>>> | B6: 44551 | C6: #7-LACA | D6: 5498 | E6: 97920 | F6: 33880 | G6: 64040
A7: WH2 TO BARGE>>>>>>>> | B7: 44551 | C7: #10-LACA | D7: 5499 | E7: 96180 | F7: 34740 | G7: 61440
A8: WH1 TO BARGE>>>>>>>> | B8: 44551 | C8: #5-LACA | D8: 5500 | E8: 96920 | F8: 33760 | G8: 63160
A9: WH2 TO BARGE>>>>>>>> | B9: 44551 | C9: #15-LACA | D9: 5490 | E9: 99740 | F9: 34340 | G9: 65400
A10: WH1TO BARGE>>>>>>>> | B10: 44551 | C10: #7-LACA | D10: 10502 | E10: 101920 | F10: 34500 | G10: 67420
A11: WH2 TO BARGE>>>>>>>> | B11: 44551 | C11: #18-LACA | D11: 10503 | E11: 97780 | F11: 35200 | G11: 62580
A12: WH1 TO BARGE>>>>>>>> | B12: 44551 | C12: #11-LACA | D12: 10504 | E12: 100320 | F12: 34080 | G12: 66240
... A50: WH2 TO BARGE>>>>>>>> | B50: 44551 | C50: 105-Pacer Trucking | D50: 10441 | E50: 99900 | F50: 35820 | G50: 64080
A51: WH1 TO BARGE>>>>>>>> | B51: 44551 | C51: 105-Pacer Trucking | D51: 10446 | E51: 108700 | F51: 36560 | G51: 72140 | I51: =SUM(G1:G51) -> 3276300
A52: WH2 Caldwell Thibodeaux | B52: 44551 | C52: #5-LACA | D52: 5551 | E52: 98520 | F52: 34660 | G52: 63860
A53: WH2 Caldwell Thibodeaux | B53: 44551 | C53: #11-LACA | D53: 10545 | E53: 100060 | F53: 33880 | G53: 66180
A54: WH2 Caldwell Thibodeaux | B54: 44551 | C54: #10-LACA | D54: 10544 | E54: 100440 | F54: 33880 | G54: 66560
A55: WH1 Caldwell Thibodeaux | B55: 44551 | C55: 07-BigDawg Trucking | D55: 10451 | E55: 104680 | F55: 36160 | G55: 68520
A56: WH2 Caldwell Thibodeaux | B56: 44551 | C56: 07-BigDawg Trucking | D56: 10452 | E56: 102940 | F56: 35920 | G56: 67020 | I56: =SUM(G52:G56) -> 332140
A57: WH1 TO LSR Refinery>>>> | B57: 44551 | C57: 07-BigDawg Trucking | D57: 10440 | E57: 100060 | F57: 34560 | G57: 65500
A58: WH1 TO LSR Refinery>>>> | B58: 44551 | C58: 01-Earl Pania | D58: 10438 | E58: 93320 | F58: 33940 | G58: 59380
A59: WH2 TO LSR Refinery>>>> | B59: 44551 | C59: 203-Earl Pania | D59: 10442 | E59: 97800 | F59: 33240 | G59: 64560
A60: WH2 TO LSR Refinery>>>> | B60: 44551 | C60: 357-Earl Pania | D60: 10443 | E60: 83680 | F60: 33600 | G60: 50080
A61: WH2 TO LSR Refinery>>>> | B61: 44551 | C61: 01-Earl Pania | D61: 10450 | E61: 93560 | F61: 34000 | G61: 59560
A62: WH1 TO LSR Refinery>>>> | B62: 44551 | C62: 2010-TPT | D62: 10437 | E62: 95300 | F62: 33420 | G62: 61880
A63: WH2 TO LSR Refinery>>>> | B63: 44551 | C63: 2010-TPT | D63: 10449 | E63: 97000 | F63: 33320 | G63: 63680
A64: WH2 TO LSR Refinery>>>> | B64: 44551 | C64: 24WFB | D64: 10439 | E64: 114000 | F64: 32100 | G64: 81900
A65: WH2 TO LSR Refinery>>>> | B65: 44551 | C65: EP2-EmickPrejean | D65: 10444 | E65: 100800 | F65: 29500 | G65: 71300
A66: WH2 TO LSR Refinery>>>> | B66: 44551 | C66: G3-G5 Trucking | D66: 10445 | E66: 93700 | F66: 30900 | G66: 62800
A67: WH2 TO LSR Refinery>>>> | B67: 44551 | C67: 35333Hotboy Trucking | D67: 10448 | E67: 114020 | F67: 30140 | G67: 83880 | I67: =SUM(G57:G67) -> 724520
G69: =SUM(G1:G67) -> 4332960 | I69: =SUM(I1:I67) -> 4332960 | J69: CHECKED

Sheet 12-22-2021
A1: WH2 Caldwell Thibodeaux | B1: 44552 | C1: 2010-TPT | D1: 10457 | E1: 97800 | F1: 34300 | G1: =E1-F1 -> 63500
A2: WH1 Caldwell Thibodeaux | B2: 44552 | C2: 2010-TPT | D2: 10464 | E2: 95900 | F2: 34200 | G2: =E2-F2 -> 61700
A3: WH2 Caldwell Thibodeaux | B3: 44552 | C3: 105-Pacer Trucking | D3: 10455 | E3: 101600 | F3: 35920 | G3: =E3-F3 -> 65680
A4: WH1 Caldwell Thibodeaux | B4: 44552 | C4: 1905-Pacer Trucking | D4: 10456 | E4: 94580 | F4: 31820 | G4: =E4-F4 -> 62760
A5: WH2 Caldwell Thibodeaux | B5: 44552 | C5: 1905-Pacer Trucking | D5: 10469 | E5: 93740 | F5: 31560 | G5: =E5-F5 -> 62180
A6: WH2 Caldwell Thibodeaux | B6: 44552 | C6: 1905-Pacer Trucking,dump | D6: 10516 | E6: 31420 | F6: 74980 | G6: =E6-F6 -> -43560
A7: WH2 Caldwell Thibodeaux | B7: 44552 | C7: 1906-Pacer Trucking | D7: 10513 | E7: 101940 | F7: 33460 | G7: =E7-F7 -> 68480
A8: WH2 Caldwell Thibodeaux | B8: 44552 | C8: 200-Pacer Trucking | D8: 10471 | E8: 93320 | F8: 34160 | G8: =E8-F8 -> 59160
A9: WH2 Caldwell Thibodeaux | B9: 44552 | C9: 123-Pacer Trucking | D9: 10512 | E9: 98480 | F9: 34800 | G9: =E9-F9 -> 63680
A10: WH2 Caldwell Thibodeaux | B10: 44552 | C10: 1905-Pacer Trucking | D10: 10517 | E10: 96000 | F10: 31420 | G10: =E10-F10 -> 64580
A11: WH2 Caldwell Thibodeaux | B11: 44552 | C11: 1903-Pacer Trucking | D11: 10519 | E11: 98640 | F11: 35580 | G11: =E11-F11 -> 63060
A12: WH2 Caldwell Thibodeaux | B12: 44552 | C12: EP2-EmickPrejean | D12: 10458 | E12: 95480 | F12: 33540 | G12: =E12-F12 -> 61940
... A22: WH2 Caldwell Thibodeaux | B22: 44552 | C22: 1901-Pacer Trucking | D22: 10520 | E22: 98760 | F22: 33540 | G22: =E22-F22 -> 65220
A23: WH2 Caldwell Thibodeaux | B23: 44552 | C23: A28-AOA | D23: 10521 | E23: 99300 | F23: 33420 | G23: =E23-F23 -> 65880 | I23: =SUM(G1:G23) -> 1366660
A24: WH2 TO BARGE>>>>>>>> | B24: 44552 | C24: #2-LACA | D24: 5549 | E24: 98320 | F24: 35140 | G24: =E24-F24 -> 63180
A25: WH2 TO BARGE>>>>>>>> | B25: 44552 | C25: #15-LACA | D25: 5550 | E25: 98240 | F25: 34740 | G25: =E25-F25 -> 63500
A26: WH2 TO BARGE>>>>>>>> | B26: 44552 | C26: #14-LACA | D26: 5554 | E26: 98520 | F26: 35260 | G26: =E26-F26 -> 63260
A27: WH2 TO BARGE>>>>>>>> | B27: 44552 | C27: #10-LACA | D27: 5571 | E27: 98920 | F27: 35140 | G27: =E27-F27 -> 63780
A28: WH2 TO BARGE>>>>>>>> | B28: 44552 | C28: #18-LACA | D28: 5573 | E28: 98980 | F28: 35140 | G28: =E28-F28 -> 63840
A29: WH2 TO BARGE>>>>>>>> | B29: 44552 | C29: #11-LACA | D29: 5578 | E29: 95680 | F29: 33520 | G29: =E29-F29 -> 62160
A30: WH2 TO BARGE>>>>>>>> | B30: 44552 | C30: #7-LACA | D30: 10453 | E30: 100220 | F30: 34820 | G30: =E30-F30 -> 65400
A31: WH2 TO BARGE>>>>>>>> | B31: 44552 | C31: #2-LACA | D31: 10546 | E31: 102900 | F31: 35040 | G31: =E31-F31 -> 67860
A32: WH2 TO BARGE>>>>>>>> | B32: 44552 | C32: #5-LACA | D32: 10547 | E32: 101460 | F32: 33880 | G32: =E32-F32 -> 67580
A33: WH1 TO BARGE>>>>>>>> | B33: 44552 | C33: #16-LACA | D33: 5594 | E33: 96040 | F33: 34560 | G33: =E33-F33 -> 61480
A34: WH2 TO BARGE>>>>>>>> | B34: 44552 | C34: #11-LACA | D34: 10548 | E34: 101740 | F34: 33960 | G34: =E34-F34 -> 67780
A35: WH1 TO BARGE>>>>>>>> | B35: 44552 | C35: #12-LACA | D35: 10459 | E35: 99880 | F35: 34500 | G35: =E35-F35 -> 65380
... A76: WH2 TO BARGE>>>>>>>> | B76: 44552 | C76: #2-LACA | D76: 10605 | E76: 100900 | F76: 35420 | G76: =E76-F76 -> 65480
A77: WH2 TO BARGE>>>>>>>> | B77: 44552 | C77: #7-LACA | D77: 10551 | E77: 101000 | F77: 34500 | G77: =E77-F77 -> 66500 | I77: =SUM(G24:G77) -> 3443400
G80: =SUM(G1:G77) -> 4810060 | I80: =SUM(I1:I77) -> 4810060 | J80: CHECKED

Sheet 12-23-2021
A1: WH1 To Caldwell Thibodaux | B1: 44553 | C1: EP4-EmickPrejean | D1: 10554 | E1: 95200 | F1: 34020 | G1: =E1-F1 -> 61180
A2: WH2 To Caldwell Thibodaux | B2: 44553 | C2: EP4-EmickPrejean | D2: 10522 | E2: 94000 | F2: 34080 | G2: =E2-F2 -> 59920
A3: WH2 To Caldwell Thibodaux | B3: 44553 | C3: 2010-TPT | D3: 10525 | E3: 95040 | F3: 33820 | G3: =E3-F3 -> 61220
A4: WH1 To Caldwell Thibodaux | B4: 44553 | C4: 2010-TPT | D4: 10555 | E4: 100760 | F4: 33740 | G4: =E4-F4 -> 67020
A5: WH1 To Caldwell Thibodaux | B5: 44553 | C5: 07-BigDawg Trucking | D5: 10539 | E5: 99900 | F5: 35060 | G5: =E5-F5 -> 64840
A6: WH1 To Caldwell Thibodaux | B6: 44553 | C6: 07-BigDawg Trucking | D6: 10574 | E6: 89560 | F6: 34740 | G6: =E6-F6 -> 54820
A7: WH1 To Caldwell Thibodaux | B7: 44553 | C7: 1905-Pacer Trucking | D7: 10528 | E7: 101940 | F7: 33140 | G7: =E7-F7 -> 68800
A8: WH2 To Caldwell Thibodaux | B8: 44553 | C8: 1906 Pacer Trucking | D8: 10530 | E8: 94280 | F8: 33120 | G8: =E8-F8 -> 61160
A9: WH1 To Caldwell Thibodaux | B9: 44553 | C9: 103-Pacer Trucking | D9: 10531 | E9: 101940 | F9: 34420 | G9: =E9-F9 -> 67520
A10: WH2 To Caldwell Thibodaux | B10: 44553 | C10: 1910-Pacer Trucking | D10: 10532 | E10: 100900 | F10: 33330 | G10: =E10-F10 -> 67570
A11: WH2 To Caldwell Thibodaux | B11: 44553 | C11: 1902-Pacer Trucking | D11: 10537 | E11: 104840 | F11: 33280 | G11: =E11-F11 -> 71560
A12: WH1 To Caldwell Thibodaux | B12: 44553 | C12: 1907-Pacer Trucking | D12: 10538 | E12: 98100 | F12: 33800 | G12: =E12-F12 -> 64300
... A37: WH2 To Caldwell Thibodaux | B37: 44553 | C37: #6-LACA | D37: 10614 | E37: 100060 | F37: 33920 | G37: =E37-F37 -> 66140
A38: WH2 To Caldwell Thibodaux | B38: 44553 | C38: #11-LACA | D38: 5696 | E38: 94920 | F38: 34040 | G38: =E38-F38 -> 60880 | I38: =SUM(G1:G38) -> 2492730
A39: WH2 TO BARGE>>>>>>>> | B39: 44553 | C39: 105-Pacer Trucking | D39: 10533 | E39: 106940 | F39: 36880 | G39: =E39-F39 -> 70060
A40: WH1 TO BARGE>>>>>>>> | B40: 44553 | C40: 105-Pacer Trucking | D40: 10560 | E40: 100900 | F40: 36980 | G40: =E40-F40 -> 63920
A41: WH1 TO BARGE>>>>>>>> | B41: 44553 | C41: 106-Iam Trucking | D41: 10566 | E41: 97160 | F41: 32920 | G41: =E41-F41 -> 64240
A42: WH2 TO BARGE>>>>>>>> | B42: 44553 | C42: 105-Pacer Trucking | D42: 10572 | E42: 104360 | F42: 36720 | G42: =E42-F42 -> 67640
A43: WH2 TO BARGE>>>>>>>> | B43: 44553 | C43: 106-Iam Trucking | D43: 10575 | E43: 103440 | F43: 32840 | G43: =E43-F43 -> 70600
A44: WH2 TO BARGE to w2 | B44: 44553 | C44: 105-Pacer Trucking | D44: 10576 | E44: 105260 | F44: 36620 | G44: 0 | H44: dumped back
A45: WH1 TO BARGE>>>>>>>> | B45: 44553 | C45: 106-Iam Trucking | D45: 10577 | E45: 99320 | F45: 32800 | G45: =E45-F45 -> 66520
A46: WH2 TO BARGE>>>>>>>> | B46: 44553 | C46: #12-LACA | D46: 10550 | E46: 100580 | F46: 34280 | G46: =E46-F46 -> 66300
A47: WH1 TO BARGE>>>>>>>> | B47: 44553 | C47: #14-LACA | D47: 5659 | E47: 98800 | F47: 35380 | G47: =E47-F47 -> 63420
A48: WH2 TO BARGE>>>>>>>> | B48: 44553 | C48: #15-LACA | D48: 5643 | E48: 98080 | F48: 35020 | G48: =E48-F48 -> 63060
A49: WH2 TO BARGE>>>>>>>> | B49: 44553 | C49: #6-LACA | D49: 5644 | E49: 96980 | F49: 34420 | G49: =E49-F49 -> 62560
A50: WH1 TO BARGE>>>>>>>> | B50: 44553 | C50: #11-LACA | D50: 5645 | E50: 99380 | F50: 33860 | G50: =E50-F50 -> 65520
A51: WH1 TO BARGE>>>>>>>> | B51: 44553 | C51: #8-LACA | D51: 5646 | E51: 99800 | F51: 35160 | G51: =E51-F51 -> 64640
A52: WH2 TO BARGE>>>>>>>> | B52: 44553 | C52: #5-LACA | D52: 5647 | E52: 98100 | F52: 34780 | G52: =E52-F52 -> 63320
A53: WH1 TO BARGE>>>>>>>> | B53: 44553 | C53: #16-LACA | D53: 5650 | E53: 97640 | F53: 35020 | G53: =E53-F53 -> 62620
A54: WH1 TO BARGE>>>>>>>> | B54: 44553 | C54: #10-LACA | D54: 5652 | E54: 99080 | F54: 35340 | G54: =E54-F54 -> 63740
A55: WH2 TO BARGE>>>>>>>> | B55: 44553 | C55: #12-LACA | D55: 5653 | E55: 97380 | F55: 34520 | G55: =E55-F55 -> 62860
A56: WH1 TO BARGE>>>>>>>> | B56: 44553 | C56: #15-LACA | D56: 5655 | E56: 98460 | F56: 34980 | G56: =E56-F56 -> 63480
... A89: WH1 TO BARGE>>>>>>>> | B89: 44553 | C89: #16-LACA | D89: 5693 | E89: 97540 | F89: 34200 | G89: =E89-F89 -> 63340
A90: WH2 TO BARGE>>>>>>>> | B90: 44553 | C90: #10-LACA | D90: 5691 | E90: 99920 | F90: 34540 | G90: =E90-F90 -> 65380 | I90: =SUM(G39:G90) -> 3289380
G93: =SUM(G1:G90) -> 5782110 | I93: =SUM(I1:I90) -> 5782110 | J93: CHECKED

Sheet 12-24-2021
A1: WH1 To Caldwell Thibodaux | B1: 44554 | C1: AG1-AOA Service | D1: 10579 | E1: 100800 | F1: 33360 | G1: =E1-F1 -> 67440
A2: WH2 To Caldwell Thibodaux | B2: 44554 | C2: A29-AOA Service | D2: 10580 | E2: 97140 | F2: 32560 | G2: =E2-F2 -> 64580
A3: WH2 To Caldwell Thibodaux | B3: 44554 | C3: LS2-AOA Service | D3: 10581 | E3: 99040 | F3: 33540 | G3: =E3-F3 -> 65500
A4: WH1 To Caldwell Thibodaux | B4: 44554 | C4: DS03-AOA Service | D4: 10582 | E4: 91580 | F4: 31820 | G4: =E4-F4 -> 59760
A5: WH1 To Caldwell Thibodaux | B5: 44554 | C5: E28-AOA Service | D5: 10584 | E5: 97200 | F5: 33200 | G5: =E5-F5 -> 64000
A6: WH2 To Caldwell Thibodaux | B6: 44554 | C6: AG1-AOA Service | D6: 10585 | E6: 101700 | F6: 33420 | G6: =E6-F6 -> 68280
A7: WH2 To Caldwell Thibodaux | B7: 44554 | C7: A29-AOA Service | D7: 10586 | E7: 100400 | F7: 32300 | G7: =E7-F7 -> 68100
A8: WH1 To Caldwell Thibodaux | B8: 44554 | C8: LS2-AOA Service | D8: 10587 | E8: 99000 | F8: 35000 | G8: =E8-F8 -> 64000
A9: WH2 To Caldwell Thibodaux | B9: 44554 | C9: DS03-AOA Service | D9: 10588 | E9: 97540 | F9: 31640 | G9: =E9-F9 -> 65900
A10: WH2 To Caldwell Thibodaux | B10: 44554 | C10: E28-AOA Service | D10: 10591 | E10: 104220 | F10: 32900 | G10: =E10-F10 -> 71320
A11: WH1 To Caldwell Thibodaux | B11: 44554 | C11: 1905-Pacer Trucking | D11: 10583 | E11: 103600 | F11: 32000 | G11: =E11-F11 -> 71600
A12: WH2 To Caldwell Thibodaux | B12: 44554 | C12: 1905-Pacer Trucking | D12: 10592 | E12: 99920 | F12: 31480 | G12: =E12-F12 -> 68440
A13: WH2 To Caldwell Thibodaux | B13: 44554 | C13: 1905-Pacer Trucking | D13: 10590 | E13: 102800 | F13: 31700 | G13: =E13-F13 -> 71100
A14: WH2 To Caldwell Thibodaux | B14: 44554 | C14: 07-BigDawg Trucking | D14: 10589 | E14: 105040 | F14: 34520 | G14: =E14-F14 -> 70520 | I14: =SUM(G1:G14) -> 940540
G16: =SUM(G1:G14) -> 940540 | I16: =SUM(I1:I14) -> 940540 | J16: CHECKED

Sheet 12-25-2021
A1: WH2 Caldwell Thibodeaux | B1: 44555 | C1: EP4-EmickPrejean | D1: 10593 | E1: 94260 | F1: 33680 | G1: =E1-F1 -> 60580
A2: WH2 Caldwell Thibodeaux | B2: 44555 | C2: AG1-AOA Service | D2: 10594 | E2: 102760 | F2: 33360 | G2: =E2-F2 -> 69400 | I2: =SUM(G1:G2) -> 129980
G4: =SUM(G1:G2) -> 129980 | I4: =SUM(I1:I2) -> 129980 | J4: checked

Sheet 12-26-2021
A1: WH2 Caldwell Thibodeaux | B1: 44556 | C1: EP4-EmickPrejean | D1: 10615 | E1: 101500 | F1: 33560 | G1: 67940
A2: WH1 Caldwell Thibodeaux | B2: 44556 | C2: EP4-EmickPrejean | D2: 10640 | E2: 87560 | F2: 33980 | G2: 53580 | I2: =SUM(G1:G2) -> 121520
A3: WH2 Caldwell Thibodeaux | B3: 44556 | C3: A29-AOA Service | D3: 10595 | E3: 94540 | F3: 32780 | G3: 61760
A4: WH2 Caldwell Thibodeaux | B4: 44556 | C4: LS2-AOA Service | D4: 10596 | E4: 97940 | F4: 34600 | G4: 63340
A5: WH2 Caldwell Thibodeaux | B5: 44556 | C5: E28-AOA Service | D5: 10602 | E5: 102000 | F5: 33980 | G5: 68020
A6: WH2 Caldwell Thibodeaux | B6: 44556 | C6: AG1-AOA Service | D6: 10616 | E6: 103800 | F6: 33340 | G6: 70460
A7: WH2 Caldwell Thibodeaux | B7: 44556 | C7: A29-AOA Service | D7: 10617 | E7: 101080 | F7: 32620 | G7: 68460
A8: WH2 Caldwell Thibodeaux | B8: 44556 | C8: LS2-AOA Service | D8: 10618 | E8: 96700 | F8: 34180 | G8: 62520
A9: WH2 Caldwell Thibodeaux | B9: 44556 | C9: E28-AOA Service | D9: 10624 | E9: 100500 | F9: 33860 | G9: 66640
A10: WH2 Caldwell Thibodeaux | B10: 44556 | C10: A28-AOA Service | D10: 10630 | E10: 106600 | F10: 33660 | G10: 72940
A11: WH2 Caldwell Thibodeaux | B11: 44556 | C11: LS2-AOA Service | D11: 10631 | E11: 97420 | F11: 33860 | G11: 63560
A12: WH2 Caldwell Thibodeaux | B12: 44556 | C12: A21-AOA Service | D12: 10632 | E12: 98200 | F12: 34080 | G12: 64120
A13: WH2 Caldwell Thibodeaux | B13: 44556 | C13: AG1-AOA Service | D13: 10635 | E13: 101320 | F13: 33480 | G13: 67840
A14: WH2 Caldwell Thibodeaux | B14: 44556 | C14: A30-AOA Service | D14: 10636 | E14: 99920 | F14: 34900 | G14: 65020
A15: WH2 Caldwell Thibodeaux | B15: 44556 | C15: 828-AOA Service | D15: 10637 | E15: 101480 | F15: 46300 | G15: 55180
A16: WH2 Caldwell Thibodeaux | B16: 44556 | C16: A30-AOA Service | D16: 10639 | E16: 98840 | F16: 34420 | G16: 64420 | I16: =SUM(G3:G16) -> 914280
A17: WH2 Caldwell Thibodeaux | B17: 44556 | C17: 200-Pacer Trucking | D17: 10597 | E17: 98800 | F17: 34940 | G17: 63860
A18: WH2 Caldwell Thibodeaux | B18: 44556 | C18: 123-Pacer Trucking | D18: 10598 | E18: 95760 | F18: 35220 | G18: 60540
A19: WH2 Caldwell Thibodeaux | B19: 44556 | C19: 1906-Pacer Trucking | D19: 10599 | E19: 102920 | F19: 33680 | G19: 69240
A20: WH2 Caldwell Thibodeaux | B20: 44556 | C20: 1909-Pacer Trucking | D20: 10600 | E20: 102180 | F20: 33280 | G20: 68900
A21: WH2 Caldwell Thibodeaux | B21: 44556 | C21: 1904-Pacer Trucking | D21: 10601 | E21: 102020 | F21: 33400 | G21: 68620
A22: WH2 Caldwell Thibodeaux | B22: 44556 | C22: 105-Pacer Trucking | D22: 10603 | E22: 104000 | F22: 36200 | G22: 67800
A23: WH2 Caldwell Thibodeaux | B23: 44556 | C23: 200-Pacer Trucking | D23: 10619 | E23: 100900 | F23: 34980 | G23: 65920
A24: WH2 Caldwell Thibodeaux | B24: 44556 | C24: 123-Pacer Trucking | D24: 10620 | E24: 103500 | F24: 35100 | G24: 68400
A25: WH2 Caldwell Thibodeaux | B25: 44556 | C25: 1906-Pacer Trucking | D25: 10621 | E25: 103620 | F25: 33440 | G25: 70180
A26: WH2 Caldwell Thibodeaux | B26: 44556 | C26: 1904-Pacer Trucking | D26: 10622 | E26: 104640 | F26: 33080 | G26: 71560
A27: WH2 Caldwell Thibodeaux | B27: 44556 | C27: 1909-Pacer Trucking | D27: 10623 | E27: 102740 | F27: 33580 | G27: 69160
A28: WH2 Caldwell Thibodeaux | B28: 44556 | C28: 105-Pacer Trucking | D28: 10625 | E28: 104800 | F28: 36040 | G28: 68760
... A33: WH2 Caldwell Thibodeaux | B33: 44556 | C33: 1904-Pacer Trucking | D33: 10633 | E33: 107820 | F33: 33720 | G33: 74100
A34: WH2 Caldwell Thibodeaux | B34: 44556 | C34: 1909-Pacer Trucking | D34: 10634 | E34: 103540 | F34: 33400 | G34: 70140 | I34: =SUM(G17:G34) -> 1216500
G36: =SUM(G1:G34) -> 2252300 | I36: =SUM(I1:I34) -> 2252300 | J36: checked

Sheet 12-27-2021
A1: WH1 Caldwell Thibodeaux | B1: 44557 | C1: DS03-AOA Service | D1: 10647 | E1: 97600 | F1: 32400 | G1: 65200
A2: WH2 Caldwell Thibodeaux | B2: 44557 | C2: LS2-AOA Service | D2: 10652 | E2: 97500 | F2: 35800 | G2: 61700
A3: WH2 Caldwell Thibodeaux | B3: 44557 | C3: AG1-AOA Service | D3: 10655 | E3: 97600 | F3: 33820 | G3: 63780
A4: WH1 Caldwell Thibodeaux | B4: 44557 | C4: A28-AOA Service | D4: 10656 | E4: 100940 | F4: 33380 | G4: 67560
A5: WH1 Caldwell Thibodeaux | B5: 44557 | C5: A21-AOA Service | D5: 10658 | E5: 99500 | F5: 34520 | G5: 64980
A6: WH2 Caldwell Thibodeaux | B6: 44557 | C6: E28-AOA Service | D6: 10659 | E6: 96800 | F6: 33440 | G6: 63360
A7: WH1 Caldwell Thibodeaux | B7: 44557 | C7: DS03-AOA Service | D7: 10677 | E7: 98900 | F7: 32200 | G7: 66700
A8: WH1 Caldwell Thibodeaux | B8: 44557 | C8: LS2-AOA Service | D8: 10683 | E8: 97340 | F8: 34580 | G8: 62760
A9: WH2 Caldwell Thibodeaux | B9: 44557 | C9: AG1-AOA Service | D9: 10689 | E9: 99560 | F9: 33540 | G9: 66020
A10: WH1 Caldwell Thibodeaux | B10: 44557 | C10: A28-AOA Service | D10: 10690 | E10: 96060 | F10: 33760 | G10: 62300
A11: WH1 Caldwell Thibodeaux | B11: 44557 | C11: E28-AOA Service | D11: 10691 | E11: 98440 | F11: 33260 | G11: 65180
A12: WH1 Caldwell Thibodeaux | B12: 44557 | C12: A30-AOA Service | D12: 10697 | E12: 103300 | F12: 35060 | G12: 68240
... A59: WH1 Caldwell Thibodeaux | B59: 44557 | C59: 200-Pacer Trucking | D59: 10717 | E59: 94260 | F59: 34580 | G59: 59680
A60: WH2 Caldwell Thibodeaux | B60: 44557 | C60: 123-Pacer Trucking | D60: 10718 | E60: 95000 | F60: 35520 | G60: 59480 | I60: =SUM(G1:G60) -> 3835140
A61: WH1 CSC TO DALLAS | B61: 44557 | C61: 15-CSC-(maluva) | D61: 10714 | E61: 82540 | F61: 28100 | G61: 54440 | I61: =G61 -> 54440
A62: WH1 To Barge#6>>>>>>>> | B62: 44557 | C62: 106-Iam Trucking | D62: 10648 | E62: 94900 | F62: 32940 | G62: 61960
A63: WH1 To Barge#6>>>>>>>>>> | B63: 44557 | C63: 106-Iam Trucking | D63: 10661 | E63: 99500 | F63: 32980 | G63: 66520
A64: WH1 To Barge#6>>>>>>>>>> | B64: 44557 | C64: 106-Iam Trucking | D64: 10667 | E64: 102800 | F64: 32980 | G64: 69820
A65: WH1 To Barge#6>>>>>>>>>> | B65: 44557 | C65: 106-Iam Trucking | D65: 10688 | E65: 94300 | F65: 32880 | G65: 61420
A66: WH1 To Barge#6>>>>>>>>>> | B66: 44557 | C66: 106-Iam Trucking | D66: 10695 | E66: 99120 | F66: 32800 | G66: 66320
A67: WH2 To Barge#6>>>>>>>>>> | B67: 44557 | C67: 105-Pacer Trucking | D67: 10660 | E67: 98840 | F67: 35600 | G67: 63240
A68: WH1 To Barge#6>>>>>>>>>> | B68: 44557 | C68: 105-Pacer Trucking | D68: 10664 | E68: 102540 | F68: 36860 | G68: 65680
A69: WH2 To Barge#6>>>>>>>>>> | B69: 44557 | C69: 105-Pacer Trucking | D69: 10684 | E69: 105420 | F69: 36720 | G69: 68700
A70: WH1 To Barge#6>>>>>>>>>> | B70: 44557 | C70: 105-Pacer Trucking | D70: 10694 | E70: 103960 | F70: 36660 | G70: 67300
A71: WH2 To Barge#6>>>>>>>>>> | B71: 44557 | C71: #4-LACA | D71: 10672 | E71: 102920 | F71: 33560 | G71: 69360
A72: WH2 To Barge#6>>>>>>>>>> | B72: 44557 | C72: #15-LACA | D72: 10673 | E72: 101320 | F72: 35040 | G72: 66280
A73: WH2 To Barge#6>>>>>>>>>> | B73: 44557 | C73: #7-LACA | D73: 10638 | E73: 101220 | F73: 33860 | G73: 67360
... A115: WH1 To Barge#6>>>>>>>>>> | B115: 44557 | C115: #10-LACA | D115: 5758 | E115: 99700 | F115: 33920 | G115: 65780
A116: WH1 To Barge#6>>>>>>>>>> | B116: 44557 | C116: #15-LACA | D116: 5759 | E116: 99260 | F116: 34480 | G116: 64780 | I116: =SUM(G62:G116) -> 3528580
G118: =SUM(G1:G116) -> 7418160 | I118: =SUM(I1:I116) -> 7418160 | J118: checked

Sheet 12-28-2021
A1: WH1 Caldwell Thibodeaux | B1: 44558 | C1: 103-Pacer Trucking | D1: 10719 | E1: 93000 | F1: 34260 | G1: =E1-F1 -> 58740
A2: WH1 Caldwell Thibodeaux | B2: 44558 | C2: 1910-Pacer Trucking | D2: 10722 | E2: 101280 | F2: 33940 | G2: =E2-F2 -> 67340
A3: WH1 Caldwell Thibodeaux | B3: 44558 | C3: 1905-Pacer Trucking | D3: 10723 | E3: 97500 | F3: 31840 | G3: =E3-F3 -> 65660
A4: WH1 Caldwell Thibodeaux | B4: 44558 | C4: 1907-Pacer Trucking | D4: 10725 | E4: 95340 | F4: 33860 | G4: =E4-F4 -> 61480
A5: WH1 Caldwell Thibodeaux | B5: 44558 | C5: 1902-Pacer Trucking | D5: 10726 | E5: 102760 | F5: 33220 | G5: =E5-F5 -> 69540
A6: WH1 Caldwell Thibodeaux | B6: 44558 | C6: 1901-Pacer Trucking | D6: 10727 | E6: 100620 | F6: 33860 | G6: =E6-F6 -> 66760
A7: WH1 Caldwell Thibodeaux | B7: 44558 | C7: 1903-Pacer Trucking | D7: 10728 | E7: 106600 | F7: 34380 | G7: =E7-F7 -> 72220
A8: WH2 Caldwell Thibodeaux | B8: 44558 | C8: 105-Pacer Trucking | D8: 10731 | E8: 102240 | F8: 36140 | G8: =E8-F8 -> 66100
A9: WH1 Caldwell Thibodeaux | B9: 44558 | C9: JT003-Pacer Trucking | D9: 10732 | E9: 97780 | F9: 34460 | G9: =E9-F9 -> 63320
A10: WH2 Caldwell Thibodeaux | B10: 44558 | C10: 123-Pacer Trucking | D10: 10733 | E10: 94500 | F10: 34840 | G10: =E10-F10 -> 59660
A11: WH2 Caldwell Thibodeaux | B11: 44558 | C11: 107-Pacer Trucking | D11: 10734 | E11: 96620 | F11: 34600 | G11: =E11-F11 -> 62020
A12: WH1 Caldwell Thibodeaux | B12: 44558 | C12: 103-Pacer Trucking | D12: 10735 | E12: 99380 | F12: 33660 | G12: =E12-F12 -> 65720
... A21: WH2 Caldwell Thibodeaux | B21: 44558 | C21: 1906-Pacer Trucking | D21: 10770 | E21: 98360 | F21: 33920 | G21: =E21-F21 -> 64440
A22: WH1 Caldwell Thibodeaux | B22: 44558 | C22: 1908-Pacer Trucking | D22: 10771 | E22: 96760 | F22: 32540 | G22: =E22-F22 -> 64220 | I22: =SUM(G1:G22) -> 1425240
A23: WH2 Caldwell Thibodeaux | B23: 44558 | C23: A28-AOA | D23: 10724 | E23: 96020 | F23: 33460 | G23: =E23-F23 -> 62560
A24: WH2 Caldwell Thibodeaux | B24: 44558 | C24: E-28-AOA | D24: 10729 | E24: 97920 | F24: 34060 | G24: =E24-F24 -> 63860
A25: WH1 Caldwell Thibodeaux | B25: 44558 | C25: DS03-AOA Service | D25: 10736 | E25: 100960 | F25: 32520 | G25: =E25-F25 -> 68440
A26: WH1 Caldwell Thibodeaux | B26: 44558 | C26: A28-AOA | D26: 10746 | E26: 100340 | F26: 33080 | G26: =E26-F26 -> 67260
A27: WH1 Caldwell Thibodeaux | B27: 44558 | C27: A21-AOA | D27: 10748 | E27: 95040 | F27: 35640 | G27: =E27-F27 -> 59400
A28: WH2 Caldwell Thibodeaux | B28: 44558 | C28: E-28-AOA | D28: 10749 | E28: 100360 | F28: 33600 | G28: =E28-F28 -> 66760
A29: WH1 Caldwell Thibodeaux | B29: 44558 | C29: LS2-AOA Service | D29: 10752 | E29: 98920 | F29: 33860 | G29: =E29-F29 -> 65060
A30: WH1 Caldwell Thibodeaux | B30: 44558 | C30: A-30 | D30: 10756 | E30: 101460 | F30: 34960 | G30: =E30-F30 -> 66500
A31: WH1 Caldwell Thibodeaux | B31: 44558 | C31: DS03-AOA Service | D31: 10721 | E31: 94860 | F31: 32760 | G31: =E31-F31 -> 62100 | I31: =SUM(G23:G31) -> 581940
A32: WH1 Caldwell Thibodeaux | B32: 44558 | C32: I AM TRUCKING | D32: 10730 | E32: 90460 | F32: 32200 | G32: =E32-F32 -> 58260 | I32: =G32 -> 58260
A33: WH2 Caldwell Thibodeaux | B33: 44558 | C33: 357-Earl Pania | D33: 10737 | E33: 84260 | F33: 34100 | G33: =E33-F33 -> 50160
A34: WH2 Caldwell Thibodeaux | B34: 44558 | C34: 27-Earl Pania | D34: 10751 | E34: 106120 | F34: 36940 | G34: =E34-F34 -> 69180
A35: WH1 Caldwell Thibodeaux | B35: 44558 | C35: 27-Earl Pania | D35: 10762 | E35: 104880 | F35: 34020 | G35: =E35-F35 -> 70860
A36: WH1 Caldwell Thibodeaux | B36: 44558 | C36: 357-Earl Pania | D36: 10769 | E36: 88140 | F36: 33840 | G36: =E36-F36 -> 54300 | I36: =SUM(G33:G36) -> 244500
A37: WH1 Caldwell Thibodeaux | B37: 44558 | C37: 07-BigDawg Trucking | D37: 10739 | E37: 105760 | F37: 35720 | G37: =E37-F37 -> 70040
A38: WH1 Caldwell Thibodeaux | B38: 44558 | C38: 07-BigDawg Trucking | D38: 10760 | E38: 92280 | F38: 35660 | G38: =E38-F38 -> 56620 | I38: =SUM(G37:G38) -> 126660
A39: WH1 CSC TO DALLAS | B39: 44558 | C39: 444-MALUVA | D39: 10754 | E39: 83280 | F39: 29780 | G39: =E39-F39 -> 53500
A40: WH1 CSC TO DALLAS | B40: 44558 | C40: 275-MALUVA | D40: 10757 | E40: 82880 | F40: 29080 | G40: =E40-F40 -> 53800
A41: WH1 CSC TO DALLAS | B41: 44558 | C41: 305-MALUVA | D41: 10758 | E41: 82020 | F41: 27220 | G41: =E41-F41 -> 54800
A42: WH1 CSC TO DALLAS | B42: 44558 | C42: 226-MALUVA | D42: 10759 | E42: 88360 | F42: 28560 | G42: =E42-F42 -> 59800
A43: WH1 CSC TO DALLAS | B43: 44558 | C43: 12-MALUVA | D43: 10763 | E43: 84840 | F43: 28160 | G43: =E43-F43 -> 56680
A44: WH1 CSC TO DALLAS | B44: 44558 | C44: 01-MALUVA | D44: 10764 | E44: 80620 | F44: 25980 | G44: =E44-F44 -> 54640
A45: WH1 CSC TO DALLAS | B45: 44558 | C45: 1974-MALUVA | D45: 10765 | E45: 83820 | F45: 29160 | G45: =E45-F45 -> 54660
A46: WH1 CSC TO DALLAS | B46: 44558 | C46: 229-MALUVA | D46: 10766 | E46: 80880 | F46: 28800 | G46: =E46-F46 -> 52080
A47: WH1 CSC TO DALLAS | B47: 44558 | C47: 03-MALUVA | D47: 10767 | E47: 84360 | F47: 29380 | G47: =E47-F47 -> 54980
A48: WH1 CSC TO DALLAS | B48: 44558 | C48: 15-MALUVA | D48: 10768 | E48: 84360 | F48: 28500 | G48: =E48-F48 -> 55860 | I48: =SUM(G39:G48) -> 550800
G50: =SUM(G1:G48) -> 2987400 | I50: =SUM(I1:I48) -> 2987400 | J50: checked

Sheet 12-29-2021
A1: WH2 Caldwell Thibodeaux | B1: 44559 | C1: 1905-Pacer Trucking | D1: 10777 | E1: 94740 | F1: 32420 | G1: =E1-F1 -> 62320
A2: WH1 Caldwell Thibodeaux | B2: =B1 -> 44559 | C2: 1904-Pacer Trucking | D2: 10778 | E2: 100280 | F2: 33320 | G2: =E2-F2 -> 66960
A3: WH1 Caldwell Thibodeaux | B3: =B2 -> 44559 | C3: 1906-Pacer Trucking | D3: 10784 | E3: 100200 | F3: 34560 | G3: =E3-F3 -> 65640
A4: WH1 Caldwell Thibodeaux | B4: =B3 -> 44559 | C4: 1908-Pacer Trucking | D4: 10785 | E4: 93180 | F4: 32180 | G4: =E4-F4 -> 61000
A5: WH2 Caldwell Thibodeaux | B5: =B4 -> 44559 | C5: 1909-Pacer Trucking | D5: 10792 | E5: 97120 | F5: 33580 | G5: =E5-F5 -> 63540
A6: WH2 Caldwell Thibodeaux | B6: =B5 -> 44559 | C6: 1904-Pacer Trucking | D6: 10795 | E6: 103160 | F6: 33020 | G6: =E6-F6 -> 70140
A7: WH1 Caldwell Thibodeaux | B7: =B6 -> 44559 | C7: 1905-Pacer Trucking | D7: 10796 | E7: 95260 | F7: 32020 | G7: =E7-F7 -> 63240
A8: WH1 Caldwell Thibodeaux | B8: =B7 -> 44559 | C8: 1906-Pacer Trucking | D8: 10805 | E8: 100900 | F8: 33660 | G8: =E8-F8 -> 67240
A9: WH1 Caldwell Thibodeaux | B9: =B8 -> 44559 | C9: 1905-Pacer Trucking | D9: 10810 | E9: 97160 | F9: 32260 | G9: =E9-F9 -> 64900
A10: WH1 Caldwell Thibodeaux | B10: =B9 -> 44559 | C10: 1905-Pacer Trucking | D10: 10815 | E10: 96620 | F10: 32440 | G10: =E10-F10 -> 64180
A11: WH1 Caldwell Thibodeaux | B11: =B10 -> 44559 | C11: 1906-Pacer Trucking | D11: 10814 | E11: 102800 | F11: 33800 | G11: =E11-F11 -> 69000
A12: WH1 Caldwell Thibodeaux | B12: =B11 -> 44559 | C12: DS03-AOA Service | D12: 10772 | E12: 95300 | F12: 33900 | G12: =E12-F12 -> 61400
A13: WH1 Caldwell Thibodeaux | B13: =B12 -> 44559 | C13: A21-AOA | D13: 10774 | E13: 96620 | F13: 34520 | G13: =E13-F13 -> 62100
... A36: WH1 Caldwell Thibodeaux | B36: =B35 -> 44559 | C36: 357-Earl Pania | D36: 10803 | E36: 94040 | F36: 33640 | G36: =E36-F36 -> 60400
A37: WH2 Caldwell Thibodeaux | B37: =B36 -> 44559 | C37: 27-Earl Pania | D37: 10806 | E37: 104220 | F37: 35640 | G37: =E37-F37 -> 68580 | I37: =SUM(G1:G37) -> 2359250
A38: WH1 Caldwell Thibodeaux | B38: =B37 -> 44559 | C38: CSC-275 | D38: 10800 | E38: 82140 | F38: 29140 | G38: =E38-F38 -> 53000
A39: WH1 Caldwell Thibodeaux | B39: =B38 -> 44559 | C39: CSC-BO5 | D39: 10801 | E39: 81800 | F39: 27160 | G39: =E39-F39 -> 54640
A40: WH1 Caldwell Thibodeaux | B40: =B39 -> 44559 | C40: CSC-226 | D40: 10804 | E40: 90540 | F40: 28520 | G40: =E40-F40 -> 62020
A41: WH1 Caldwell Thibodeaux | B41: =B40 -> 44559 | C41: CSC-12 | D41: 10811 | E41: 84300 | F41: 28120 | G41: =E41-F41 -> 56180 | I41: =SUM(G38:G41) -> 225840
G43: =SUM(G1:G41) -> 2585090 | I43: =SUM(I1:I41) -> 2585090 | J43: checked

Sheet 12-30-2021
A1: WH1 Caldwell Thibodeaux | B1: 44560 | C1: DS03-AOA Service | D1: 10816 | E1: 98120 | F1: 32800 | G1: 65320
A2: WH2 Caldwell Thibodeaux | B2: 44560 | C2: E-28-AOA | D2: 10825 | E2: 92440 | F2: 34180 | G2: 58260
A3: WH1 Caldwell Thibodeaux | B3: 44560 | C3: A-28-AOA | D3: 10828 | E3: 102060 | F3: 33340 | G3: 68720
A4: WH1 Caldwell Thibodeaux | B4: 44560 | C4: LS2-AOA Service | D4: 10836 | E4: 95080 | F4: 34060 | G4: 61020
A5: WH1 Caldwell Thibodeaux | B5: 44560 | C5: A-12-AOA | D5: 10839 | E5: 99760 | F5: 33540 | G5: 66220
A6: WH1 Caldwell Thibodeaux | B6: 44560 | C6: 106-Iam Trucking | D6: 10817 | E6: 93540 | F6: 32780 | G6: 60760
A7: WH1 Caldwell Thibodeaux | B7: 44560 | C7: 1909-Pacer Trucking | D7: 10821 | E7: 101140 | F7: 33380 | G7: 67760
A8: WH2 Caldwell Thibodeaux | B8: 44560 | C8: 1904-Pacer Trucking | D8: 10820 | E8: 100400 | F8: 33660 | G8: 66740
A9: WH1 Caldwell Thibodeaux | B9: 44560 | C9: 01-Earl Pania | D9: 10819 | E9: 94520 | F9: 33180 | G9: 61340
A10: WH1 Caldwell Thibodeaux | B10: 44560 | C10: 27-Earl Pania | D10: 10818 | E10: 104460 | F10: 35920 | G10: 68540
A11: WH1 Caldwell Thibodeaux | B11: 44560 | C11: 24-WFB Trucking | D11: 10838 | E11: 103380 | F11: 34520 | G11: 68860
A12: WH1 Caldwell Thibodeaux | B12: 44560 | C12: 24-WFB Trucking | D12: 10834 | E12: 99540 | F12: 35160 | G12: 64380 | I12: =SUM(G1:G12) -> 777920
A13: WH1 DOMINO | B13: 44560 | C13: A12-AOA | D13: 10822 | E13: 98140 | F13: 32600 | G13: 65540
A14: WH1 DOMINO | B14: 44560 | C14: A-28-AOA | D14: 10823 | E14: 102180 | F14: 33880 | G14: 68300
A15: WH1 DOMINO | B15: 44560 | C15: DS03-AOA Service | D15: 10824 | E15: 99360 | F15: 32960 | G15: 66400
A16: WH1 DOMINO | B16: 44560 | C16: A-30-AOA | D16: 10826 | E16: 101240 | F16: 35320 | G16: 65920
A17: WH1 DOMINO | B17: 44560 | C17: A-30-AOA | D17: 10832 | E17: 99720 | F17: 35180 | G17: 64540 | I17: =SUM(G13:G17) -> 330700
A18: WH1 TO CSC | B18: 44560 | C18: 15-MALUVA | D18: 10827 | E18: 82900 | F18: 27820 | G18: 55080
A19: WH1 TO CSC | B19: 44560 | C19: 226-MALUVA | D19: 10829 | E19: 89200 | F19: 29320 | G19: 59880
A20: WH1 TO CSC | B20: 44560 | C20: 24-MALUVA | D20: 10830 | E20: 82700 | F20: 26500 | G20: 56200
A21: WH1 TO CSC | B21: 44560 | C21: 03-MALUVA | D21: 10831 | E21: 82540 | F21: 25960 | G21: 56580
A22: WH1 TO CSC | B22: 44560 | C22: 229-MALUVA | D22: 10833 | E22: 84380 | F22: 29240 | G22: 55140
A23: WH1 TO CSC | B23: 44560 | C23: 12-MALUVA | D23: 10835 | E23: 84200 | F23: 29300 | G23: 54900 | I23: =SUM(G18:G23) -> 337780
G25: =SUM(G1:G23) -> 1446400 | I25: =SUM(I1:I23) -> 1446400 | J25: checked

Sheet 12-31-2021
A1: WH1 Caldwell Thibodeaux | B1: 44561 | C1: 24-WFB Trucking | D1: 10841 | E1: 105100 | F1: 35500 | G1: 69600
A2: WH1 Caldwell Thibodeaux | B2: 44561 | C2: 24-WFB Trucking | D2: 10847 | E2: 102520 | F2: 33940 | G2: 68580
A3: WH1 Caldwell Thibodeaux | B3: 44561 | C3: DS03-AOA Service | D3: 10840 | E3: 101380 | F3: 32860 | G3: 68520
A4: WH1 Caldwell Thibodeaux | B4: 44561 | C4: A12-AOA | D4: 10842 | E4: 97700 | F4: 33300 | G4: 64400
A5: WH1 Caldwell Thibodeaux | B5: 44561 | C5: E28-AOA Service | D5: 10843 | E5: 99320 | F5: 34380 | G5: 64940
A6: WH1 Caldwell Thibodeaux | B6: 44561 | C6: A28-AOA Service | D6: 10844 | E6: 101940 | F6: 33860 | G6: 68080
A7: WH2 Caldwell Thibodeaux | B7: 44561 | C7: A30-AOA Service | D7: 10845 | E7: 97840 | F7: 34980 | G7: 62860
A8: WH1 Caldwell Thibodeaux | B8: 44561 | C8: DS03-AOA Service | D8: 10846 | E8: 97760 | F8: 32460 | G8: 65300
A9: WH1 Caldwell Thibodeaux | B9: 44561 | C9: LS2-AOA Service | D9: 10848 | E9: 94540 | F9: 32720 | G9: 61820
A10: WH1 Caldwell Thibodeaux | B10: 44561 | C10: A12-AOA Service | D10: 10849 | E10: 95540 | F10: 30940 | G10: 64600
A11: WH1 Caldwell Thibodeaux | B11: 44561 | C11: E28-AOA Service | D11: 10850 | E11: 98800 | F11: 32480 | G11: 66320
A12: WH1 Caldwell Thibodeaux | B12: 44561 | C12: E28-AOA Service | D12: 10851 | E12: 98940 | F12: 33060 | G12: 65880 | I12: =SUM(G1:G12) -> 790900
G14: =SUM(G1:G12) -> 790900 | I14: =SUM(I1:I12) -> 790900 | J14: checked

Sheet 1-1-2022
A1: WH1 Caldwell Thibodeaux | B1: 44562 | C1: 24-WFB Trucking | D1: 10853 | E1: 102100 | F1: 34180 | G1: 67920
A2: WH1 Caldwell Thibodeaux | B2: 44562 | C2: 24-WFB Trucking | D2: 10854 | E2: 100840 | F2: 35680 | G2: 65160
A3: WH1 Caldwell Thibodeaux | B3: 44562 | C3: 24-WFB Trucking | D3: 10855 | E3: 102600 | F3: 35400 | G3: 67200 | I3: =SUM(G1:G3) -> 200280
A4: WH1 Caldwell Thibodeaux | B4: 44562 | C4: AG1-AOA Service | D4: 10856 | E4: 101140 | F4: 33440 | G4: 67700 | I4: =G4 -> 67700
A5: WH1 Caldwell Thibodeaux | B5: 44562 | C5: 1905-Pacer Trucking | D5: 10857 | E5: 101300 | F5: 32860 | G5: 68440
A6: WH1 Caldwell Thibodeaux | B6: 44562 | C6: 1906-Pacer Trucking | D6: 10858 | E6: 101200 | F6: 33500 | G6: 67700
A7: WH1 Caldwell Thibodeaux | B7: 44562 | C7: 1908-Pacer Trucking | D7: 10859 | E7: 93100 | F7: 31660 | G7: 61440
A8: WH1 Caldwell Thibodeaux | B8: 44562 | C8: 1904-Pacer Trucking | D8: 10860 | E8: 102000 | F8: 33600 | G8: 68400 | I8: =SUM(G5:G8) -> 265980
G10: =SUM(G1:G8) -> 533960 | I10: =SUM(I3:I8) -> 533960 | J10: checked

Sheet 1-2-2022
A1: WH1 Caldwell Thibodeaux | B1: 44563 | C1: 24-WFB Trucking | D1: 10866 | E1: 103400 | F1: 35240 | G1: 68160
A2: WH1 Caldwell Thibodeaux | B2: 44563 | C2: 24-WFB Trucking | D2: 10879 | E2: 102540 | F2: 34920 | G2: 67620
A3: WH1 Caldwell Thibodeaux | B3: 44563 | C3: 24-WFB Trucking | D3: 10887 | E3: 101240 | F3: 34600 | G3: 66640 | I3: =SUM(G1:G3) -> 202420
A4: WH1 Caldwell Thibodeaux | B4: 44563 | C4: 1909-Pacer Trucking | D4: 10863 | E4: 100200 | F4: 33260 | G4: 66940
A5: WH1 Caldwell Thibodeaux | B5: 44563 | C5: 1906-Pacer Trucking | D5: 10870 | E5: 101000 | F5: 33640 | G5: 67360
A6: WH1 Caldwell Thibodeaux | B6: 44563 | C6: 1904-Pacer Trucking | D6: 10872 | E6: 101080 | F6: 34520 | G6: 66560
A7: WH1 Caldwell Thibodeaux | B7: 44563 | C7: 1909-Pacer Trucking | D7: 10873 | E7: 103380 | F7: 33620 | G7: 69760
A8: WH1 Caldwell Thibodeaux | B8: 44563 | C8: 1908-Pacer Trucking | D8: 10874 | E8: 92000 | F8: 31260 | G8: 60740
A9: WH1 Caldwell Thibodeaux | B9: 44563 | C9: 1904-Pacer Trucking | D9: 10882 | E9: 99880 | F9: 33720 | G9: 66160
A10: WH1 Caldwell Thibodeaux | B10: 44563 | C10: 1909-Pacer Trucking | D10: 10883 | E10: 99400 | F10: 33600 | G10: 65800
A11: WH1 Caldwell Thibodeaux | B11: 44563 | C11: 1908-Pacer Trucking | D11: 10891 | E11: 94580 | F11: 30880 | G11: 63700
A12: WH1 Caldwell Thibodeaux | B12: 44563 | C12: 1906-Pacer Trucking | D12: 10889 | E12: 96260 | F12: 32220 | G12: 64040 | I12: =SUM(G4:G12) -> 591060
A13: WH1 Caldwell Thibodeaux | B13: 44563 | C13: A12-AOA Service | D13: 10864 | E13: 97700 | F13: 32400 | G13: 65300
A14: WH1 Caldwell Thibodeaux | B14: 44563 | C14: LS2-AOA Service | D14: 10865 | E14: 97800 | F14: 34960 | G14: 62840
A15: WH1 Caldwell Thibodeaux | B15: 44563 | C15: E28-AOA Service | D15: 10867 | E15: 98200 | F15: 33920 | G15: 64280
A16: WH1 Caldwell Thibodeaux | B16: 44563 | C16: AG1-AOA Service | D16: 10868 | E16: 101720 | F16: 33460 | G16: 68260
A17: WH1 Caldwell Thibodeaux | B17: 44563 | C17: A28-AOA Service | D17: 10869 | E17: 100500 | F17: 33660 | G17: 66840
A18: WH1 Caldwell Thibodeaux | B18: 44563 | C18: A30-AOA Service | D18: 10871 | E18: 100600 | F18: 35000 | G18: 65600
A19: WH1 Caldwell Thibodeaux | B19: 44563 | C19: A12-AOA Service | D19: 10875 | E19: 97960 | F19: 32420 | G19: 65540
A20: WH1 Caldwell Thibodeaux | B20: 44563 | C20: LS2-AOA Service | D20: 10876 | E20: 96660 | F20: 34760 | G20: 61900
A21: WH1 Caldwell Thibodeaux | B21: 44563 | C21: E28-AOA Service | D21: 10877 | E21: 98240 | F21: 33560 | G21: 64680
A22: WH1 Caldwell Thibodeaux | B22: 44563 | C22: AG1-AOA Service | D22: 10878 | E22: 100080 | F22: 32900 | G22: 67180
A23: WH1 Caldwell Thibodeaux | B23: 44563 | C23: A28-AOA Service | D23: 10880 | E23: 101160 | F23: 33400 | G23: 67760
A24: WH1 Caldwell Thibodeaux | B24: 44563 | C24: A30-AOA Service | D24: 10881 | E24: 98740 | F24: 34940 | G24: 63800
... A27: WH1 Caldwell Thibodeaux | B27: 44563 | C27: DS03-AOA Service | D27: 10888 | E27: 97500 | F27: 32220 | G27: 65280
A28: WH1 Caldwell Thibodeaux | B28: 44563 | C28: AG1-AOA Service | D28: 10892 | E28: 102560 | F28: 33440 | G28: 69120 | I28: =SUM(G13:G28) -> 1041400
G30: =SUM(G1:G28) -> 1834880 | I30: =SUM(I1:I28) -> 1834880 | J30: checked

Sheet 1-3-2022
A1: WH1 To Caldwell Thibodaux | B1: 44564 | C1: A28-AOA Service | D1: 10906 | E1: 101650 | F1: 33480 | G1: =E1-F1 -> 68170
A2: WH1 To Caldwell Thibodaux | B2: 44564 | C2: DS03-AOA Service | D2: 10910 | E2: 97920 | F2: 32180 | G2: =E2-F2 -> 65740
A3: WH1 To Caldwell Thibodaux | B3: 44564 | C3: A30-AOA Service | D3: 10901 | E3: 99220 | F3: 35260 | G3: =E3-F3 -> 63960
A4: WH1 To Caldwell Thibodaux | B4: 44564 | C4: A12-AOA Service | D4: 10902 | E4: 96820 | F4: 32500 | G4: =E4-F4 -> 64320
A5: WH1 To Caldwell Thibodaux | B5: 44564 | C5: A30-AOA Service | D5: 10919 | E5: 96460 | F5: 34900 | G5: =E5-F5 -> 61560
A6: WH1 To Caldwell Thibodaux | B6: 44564 | C6: AG1-AOA Service | D6: 10914 | E6: 99540 | F6: 32860 | G6: =E6-F6 -> 66680
A7: WH1 To Caldwell Thibodaux | B7: 44564 | C7: LS2-AOA Service | D7: 10916 | E7: 93760 | F7: 33360 | G7: =E7-F7 -> 60400
A8: WH1 To Caldwell Thibodaux | B8: 44564 | C8: E28-AOA Service | D8: 10900 | E8: 101800 | F8: 33280 | G8: =E8-F8 -> 68520
A9: WH1 To Caldwell Thibodaux | B9: 44564 | C9: E28-AOA Service | D9: 10911 | E9: 100840 | F9: 33120 | G9: =E9-F9 -> 67720
A10: WH1 To Caldwell Thibodaux | B10: 44564 | C10: DS03-AOA Service | D10: 10930 | E10: 96500 | F10: 32420 | G10: =E10-F10 -> 64080
A11: WH1 To Caldwell Thibodaux | B11: 44564 | C11: AG1-AOA Service | D11: 10931 | E11: 100640 | F11: 33520 | G11: =E11-F11 -> 67120
A12: WH1 To Caldwell Thibodaux | B12: 44564 | C12: AG1-AOA Service | D12: 10899 | E12: 100960 | F12: 33180 | G12: =E12-F12 -> 67780
... A14: WH1 To Caldwell Thibodaux | B14: 44564 | C14: A12-AOA Service | D14: 10894 | E14: 96320 | F14: 32720 | G14: =E14-F14 -> 63600
A15: WH1 To Caldwell Thibodaux | B15: 44564 | C15: A12-AOA Service | D15: 10917 | F15: 31900
A16: WH1 To Caldwell Thibodaux | B16: 44564 | C16: LS2-AOA Service | D16: 10895 | E16: 95040 | F16: 34100 | G16: =E16-F16 -> 60940
A17: WH1 To Caldwell Thibodaux | B17: 44564 | C17: LS2-AOA Service | D17: 10904 | E17: 94960 | F17: 33740 | G17: =E17-F17 -> 61220
A18: WH1 To Caldwell Thibodaux | B18: 44564 | C18: A28-AOA Service | D18: 10896 | E18: 98580 | F18: 33820 | G18: =E18-F18 -> 64760
A19: WH1 To Caldwell Thibodaux | B19: 44564 | C19: DS03-AOA Service | D19: 10897 | E19: 98760 | F19: 33000 | G19: =E19-F19 -> 65760
A20: WH1 To Caldwell Thibodaux | B20: 44564 | C20: LS2-AOA Service | D20: 10933 | E20: 97580 | F20: 34640 | G20: =E20-F20 -> 62940 | I20: =SUM(G1:G20) -> 1228610
A21: WH1 To Caldwell Thibodaux | B21: 44564 | C21: 24-WFB Trucking | D21: 10922 | E21: 99000 | F21: 34680 | G21: =E21-F21 -> 64320
A22: WH1 To Caldwell Thibodaux | B22: 44564 | C22: 24-WFB Trucking | D22: 10909 | E22: 101640 | F22: 35000 | G22: =E22-F22 -> 66640 | I22: =SUM(G21:G22) -> 130960
A23: WH1 To Caldwell Thibodaux | B23: 44564 | C23: 1908-Pacer Trucking | D23: 10898 | E23: 91640 | F23: 30580 | G23: =E23-F23 -> 61060
A24: WH1 To Caldwell Thibodaux | B24: 44564 | C24: 1905-Pacer Trucking | D24: 10920 | E24: 96660 | F24: 32160 | G24: =E24-F24 -> 64500
A25: WH1 To Caldwell Thibodaux | B25: 44564 | C25: 1905-Pacer Trucking | D25: 10903 | E25: 99600 | F25: 33520 | G25: =E25-F25 -> 66080
A26: WH1 To Caldwell Thibodaux | B26: 44564 | C26: 1905-Pacer Trucking | D26: 10905 | E26: 94560 | F26: 32340 | G26: =E26-F26 -> 62220
A27: WH1 To Caldwell Thibodaux | B27: 44564 | C27: 1909-Pacer Trucking | D27: 10918 | E27: 97980 | F27: 33000 | G27: =E27-F27 -> 64980
A28: WH1 To Caldwell Thibodaux | B28: 44564 | C28: 1908-Pacer Trucking | D28: 10927 | E28: 94840 | F28: 31380 | G28: =E28-F28 -> 63460
A29: WH1 To Caldwell Thibodaux | B29: 44564 | C29: 1906-Pacer Trucking | D29: 10928 | E29: 93940 | F29: 33700 | G29: =E29-F29 -> 60240
A30: WH1 To Caldwell Thibodaux | B30: 44564 | C30: 1905-Pacer Trucking | D30: 10929 | E30: 91120 | F30: 32760 | G30: =E30-F30 -> 58360
A31: WH1 To Caldwell Thibodaux | B31: 44564 | C31: 1904-Pacer Trucking | D31: 10934 | E31: 99180 | F31: 33360 | G31: =E31-F31 -> 65820
A32: WH1 To Caldwell Thibodaux | B32: 44564 | C32: 1909-Pacer Trucking | D32: 10893 | E32: 96540 | F32: 33280 | G32: =E32-F32 -> 63260 | I32: =SUM(G23:G32) -> 629980
A33: WH1 TO CSC-DALLAS >> | B33: 44564 | C33: 15-Maluva- Load#211864 | D33: 10913 | E33: 81820 | F33: 27880 | G33: =E33-F33 -> 53940
A34: WH1 TO CSC-DALLAS >> | B34: 44564 | C34: 305-Maluva-Load#211861 | D34: 10915 | E34: 83780 | F34: 27280 | G34: =E34-F34 -> 56500
A35: WH1 TO CSC-DALLAS >> | B35: 44564 | C35: 444-Maluva-Load#211849 | D35: 10921 | E35: 83640 | F35: 30000 | G35: =E35-F35 -> 53640
A36: WH1 TO CSC-DALLAS >> | B36: 44564 | C36: 1974-Maluva-Load#210002 | D36: 10923 | E36: 90260 | F36: 27260 | G36: =E36-F36 -> 63000
A37: WH1 TO CSC-DALLAS >> | B37: 44564 | C37: 226-Maluva-Load#211863 | D37: 10924 | E37: 94440 | F37: 28480 | G37: =E37-F37 -> 65960
A38: WH1 TO CSC-DALLAS >> | B38: 44564 | C38: 12-Maluva-Load#211862 | D38: 10925 | E38: 81940 | F38: 28720 | G38: =E38-F38 -> 53220
A39: WH1 TO CSC-DALLAS >> | B39: 44564 | C39: 229-Maluva-Load#220005 | D39: 10926 | E39: 81740 | F39: 29280 | G39: =E39-F39 -> 52460 | I39: =SUM(G33:G39) -> 398720
G41: =SUM(G1:G39) -> 2388270 | I41: =SUM(I1:I39) -> 2388270 | J41: checked

Sheet 1-4-2022
A1: WH1 To Caldwell Thibodaux | B1: 44565 | C1: DS03-AOA Service | D1: 10938 | E1: 96380 | F1: 33100 | G1: 63280
A2: WH1 To Caldwell Thibodaux | B2: 44565 | C2: AG1-AOA Service | D2: 10939 | E2: 96620 | F2: 33060 | G2: 63560
A3: WH1 To Caldwell Thibodaux | B3: 44565 | C3: E28-AOA Service | D3: 10940 | E3: 98900 | F3: 33880 | G3: 65020
A4: WH1 To Caldwell Thibodaux | B4: 44565 | C4: A30-AOA Service | D4: 10941 | E4: 94800 | F4: 35180 | G4: 59620
A5: WH1 To Caldwell Thibodaux | B5: 44565 | C5: A12-AOA Service | D5: 10942 | E5: 94360 | F5: 32560 | G5: 61800
A6: WH1 To Caldwell Thibodaux | B6: 44565 | C6: LS2-AOA Service | D6: 10943 | E6: 94920 | F6: 34560 | G6: 60360
A7: WH1 To Caldwell Thibodaux | B7: 44565 | C7: DS03-AOA Service | D7: 10945 | E7: 99760 | F7: 32820 | G7: 66940
A8: WH1 To Caldwell Thibodaux | B8: 44565 | C8: AG1-AOA Service | D8: 10947 | E8: 98260 | F8: 33080 | G8: 65180
A9: WH1 To Caldwell Thibodaux | B9: 44565 | C9: E28-AOA Service | D9: 10948 | E9: 98680 | F9: 33700 | G9: 64980
A10: WH1 To Caldwell Thibodaux | B10: 44565 | C10: A30-AOA Service | D10: 10949 | E10: 97240 | F10: 34920 | G10: 62320
A11: WH1 To Caldwell Thibodaux | B11: 44565 | C11: A12-AOA Service | D11: 10951 | E11: 91980 | F11: 32380 | G11: 59600
A12: WH1 To Caldwell Thibodaux | B12: 44565 | C12: AG1-AOA Service | D12: 10964 | E12: 102180 | F12: 33600 | G12: 68580
A13: WH1 To Caldwell Thibodaux | B13: 44565 | C13: DS03-AOA Service | D13: 10965 | E13: 97900 | F13: 32500 | G13: 65400 | I13: =SUM(G1:G13) -> 826640
A14: WH1 To Caldwell Thibodaux | B14: 44565 | C14: 1906-Pacer Trucking | D14: 10935 | E14: 95140 | F14: 33440 | G14: 61700
A15: WH1 To Caldwell Thibodaux | B15: 44565 | C15: 1908-Pacer Trucking | D15: 10936 | E15: 90920 | F15: 31160 | G15: 59760
A16: WH1 To Caldwell Thibodaux | B16: 44565 | C16: 1905-Pacer Trucking | D16: 10937 | E16: 94580 | F16: 32540 | G16: 62040
A17: WH1 To Caldwell Thibodaux | B17: 44565 | C17: 1904-Pacer Trucking | D17: 10944 | E17: 100040 | F17: 33540 | G17: 66500
A18: WH1 To Caldwell Thibodaux | B18: 44565 | C18: 1905-pacer Trucking | D18: 10946 | E18: 97460 | F18: 32220 | G18: 65240
A19: WH1 To Caldwell Thibodaux | B19: 44565 | C19: 1905-pacer Trucking | D19: 10961 | E19: 93640 | F19: 32900 | G19: 60740
A20: WH1 To Caldwell Thibodaux | B20: 44565 | C20: 1906-Pacer Trucking | D20: 10962 | E20: 97040 | F20: 34180 | G20: 62860
A21: WH1 To Caldwell Thibodaux | B21: 44565 | C21: 1908-Pacer Trucking | D21: 10963 | E21: 93620 | F21: 30940 | G21: 62680 | I21: =SUM(G14:G21) -> 501520
A22: WH1 To Caldwell Thibodaux | B22: 44565 | C22: #15-LACA(PAT) | D22: 11007 | E22: 100520 | F22: 35700 | G22: 64820
A23: WH1 To Caldwell Thibodaux | B23: 44565 | C23: #14-LACA | D23: 5760 | E23: 98620 | F23: 36200 | G23: 62420
A24: WH1 To Caldwell Thibodaux | B24: 44565 | C24: #2-LACA | D24: 5761 | E24: 99420 | F24: 35700 | G24: 63720 | I24: =SUM(G22:G24) -> 190960
A25: WH1 TO CSC DALLAS,TX | B25: 44565 | C25: 305-Maluva-Load#220008 | D25: 10950 | E25: 81480 | F25: 27400 | G25: 54080
A26: WH1 TO CSC DALLAS,TX | B26: 44565 | C26: 444-Maluva-Load#220009 | D26: 10952 | E26: 82200 | F26: 29900 | G26: 52300
A27: WH1 TO CSC DALLAS,TX | B27: 44565 | C27: 15-Maluva- Load#220004 | D27: 10953 | E27: 80220 | F27: 27860 | G27: 52360
A28: WH2 TO CSC DALLAS,TX | B28: 44565 | C28: 1974-Maluva-Load#211854 | D28: 10954 | E28: 84040 | F28: 29020 | G28: 55020
A29: WH1 TO CSC DALLAS,TX | B29: 44565 | C29: 226-Maluva-Load#220006 | D29: 10955 | E29: 86320 | F29: 28500 | G29: 57820
A30: WH2 TO CSC DALLAS,TX | B30: 44565 | C30: 12-Maluva-Load#220007 | D30: 10957 | E30: 84460 | F30: 28580 | G30: 55880
A31: WH1 TO CSC DALLAS,TX | B31: 44565 | C31: 24-Maluva-Load#211865 | D31: 10958 | E31: 81480 | F31: 28660 | G31: 52820
A32: WH1 TO CSC DALLAS,TX | B32: 44565 | C32: 03-Maluva-Load#210001 | D32: 10959 | E32: 81720 | F32: 27960 | G32: 53760
A33: WH1 TO CSC DALLAS,TX | B33: 44565 | C33: 229-Maluva-Load#211858 | D33: 10960 | E33: 82920 | F33: 29580 | G33: 53340 | I33: =SUM(G25:G33) -> 487380
G35: =SUM(G1:G33) -> 2006500 | I35: =SUM(I1:I33) -> 2006500 | J35: checked

Sheet 1-5-2022
A1: WH2 To Caldwell Thibodaux | B1: 44566 | C1: A12-AOA Service | D1: 10966 | E1: 95000 | F1: 32600 | G1: 62400
A2: WH2 To Caldwell Thibodaux | B2: 44566 | C2: LS2-AOA Service | D2: 10969 | E2: 96280 | F2: 34980 | G2: 61300
A3: WH2 To Caldwell Thibodaux | B3: 44566 | C3: A30-AOA Service | D3: 10970 | E3: 96800 | F3: 35280 | G3: 61520
A4: WH2 To Caldwell Thibodaux | B4: 44566 | C4: E28-AOA Service | D4: 10971 | E4: 99400 | F4: 33480 | G4: 65920
A5: WH2 To Caldwell Thibodaux | B5: 44566 | C5: AG1-AOA Service | D5: 10975 | E5: 97260 | F5: 33560 | G5: 63700
A6: WH2 To Caldwell Thibodaux | B6: 44566 | C6: DS03-AOA Service | D6: 10976 | E6: 96560 | F6: 32360 | G6: 64200
A7: WH2 To Caldwell Thibodaux | B7: 44566 | C7: A12-AOA Service | D7: 10977 | E7: 95140 | F7: 32640 | G7: 62500
A8: WH2 To Caldwell Thibodaux | B8: 44566 | C8: LS2-AOA Service | D8: 10979 | E8: 95280 | F8: 34700 | G8: 60580
A9: WH2 To Caldwell Thibodaux | B9: 44566 | C9: A30-AOA Service | D9: 10981 | E9: 102100 | F9: 35000 | G9: 67100
A10: WH2 To Caldwell Thibodaux | B10: 44566 | C10: E28-AOA Service | D10: 10982 | E10: 99740 | F10: 33260 | G10: 66480
A11: WH2 To Caldwell Thibodaux | B11: 44566 | C11: AG1-AOA Service | D11: 10983 | E11: 100880 | F11: 33360 | G11: 67520
A12: WH2 To Caldwell Thibodaux | B12: 44566 | C12: A12-AOA Service | D12: 10986 | E12: 93880 | F12: 32340 | G12: 61540
... A14: WH2 To Caldwell Thibodaux | B14: 44566 | C14: LS2-AOA Service | D14: 10995 | E14: 96640 | F14: 34200 | G14: 62440
A15: WH2 To Caldwell Thibodaux | B15: 44566 | C15: DS03-AOA Service | D15: 10984 | E15: 96740 | F15: 33160 | G15: 63580 | I15: =SUM(G1:G15) -> 951960
A16: WH2 To Caldwell Thibodaux | B16: 44566 | C16: 1904-Pacer Trucking | D16: 10967 | E16: 98020 | F16: 33740 | G16: 64280
A17: WH2 To Caldwell Thibodaux | B17: 44566 | C17: 1909-Pacer Trucking | D17: 10968 | E17: 94220 | F17: 33080 | G17: 61140
A18: WH2 To Caldwell Thibodaux | B18: 44566 | C18: 1906-Pacer Trucking | D18: 10973 | E18: 92000 | F18: 33000 | G18: 59000
A19: WH2 To Caldwell Thibodaux | B19: 44566 | C19: 1908-Pacer Trucking | D19: 10972 | E19: 92340 | F19: 30700 | G19: 61640
A20: WH2 To Caldwell Thibodaux | B20: 44566 | C20: 1905-Pacer Trucking | D20: 10974 | E20: 98100 | F20: 33120 | G20: 64980
A21: WH2 To Caldwell Thibodaux | B21: 44566 | C21: 1904-Pacer Trucking | D21: 10978 | E21: 98260 | F21: 33560 | G21: 64700
A22: WH2 To Caldwell Thibodaux | B22: 44566 | C22: 1904-Pacer Trucking | D22: 10988 | E22: 103160 | F22: 33180 | G22: 69980
A23: WH2 To Caldwell Thibodaux | B23: 44566 | C23: 1905-Pacer Trucking | D23: 10994 | E23: 97420 | F23: 32620 | G23: 64800
A24: WH2 To Caldwell Thibodaux | B24: 44566 | C24: 1905-Pacer Trucking | D24: 11001 | E24: 92460 | F24: 32280 | G24: 60180
A25: WH2 To Caldwell Thibodaux | B25: 44566 | C25: 1906-Pacer Trucking | D25: 11002 | E25: 97760 | F25: 33640 | G25: 64120
A26: WH2 To Caldwell Thibodaux | B26: 44566 | C26: 1908-Pacer Trucking | D26: 11004 | E26: 95060 | F26: 31400 | G26: 63660 | I26: =SUM(G16:G26) -> 698480
A27: WH2 TO CSC DALLAS,TX | B27: 44566 | C27: 305-Maluva-Load#220010 | D27: 10980 | E27: 77780 | F27: 27000 | G27: 50780
A28: WH2 TO CSC DALLAS,TX | B28: 44566 | C28: 226-Maluva-Load#220012 | D28: 10989 | E28: 84020 | F28: 28380 | G28: 55640
A29: WH2 TO CSC DALLAS,TX | B29: 44566 | C29: 15-Maluva-Load#220016 | D29: 10992 | E29: 83880 | F29: 27960 | G29: 55920
A30: WH2 TO CSC DALLAS,TX | B30: 44566 | C30: 1974-Maluva-Load#220014 | D30: 10991 | E30: 85280 | F30: 28760 | G30: 56520
A31: WH1 TO CSC DALLAS,TX | B31: 44566 | C31: 444-Maluva-Load#220017 | D31: 10993 | E31: 82740 | F31: 30100 | G31: 52640
A32: WH2 TO CSC DALLAS,TX | B32: 44566 | C32: 12-Maluva-Load#220011 | D32: 10996 | E32: 85080 | F32: 28540 | G32: 56540
A33: WH2 TO CSC DALLAS,TX | B33: 44566 | C33: 229-Maluva-Load#220022 | D33: 10997 | E33: 79720 | F33: 29180 | G33: 50540
A34: WH2 TO CSC DALLAS,TX | B34: 44566 | C34: 03-Maluva-Load#220015 | D34: 10998 | E34: 82940 | F34: 26460 | G34: 56480
A35: WH2 TO CSC DALLAS,TX | B35: 44566 | C35: 24-Maluva-Load#220013 | D35: 10999 | E35: 81960 | F35: 28600 | G35: 53360
A36: WH2 TO CSC DALLAS,TX | B36: 44566 | C36: 227-Maluva-Load#220020 | D36: 11000 | E36: 78000 | F36: 26140 | G36: 51860 | I36: =SUM(G27:G36) -> 540280
G38: =SUM(G1:G36) -> 2190720 | I38: =SUM(I1:I36) -> 2190720 | J38: checked

Sheet 1-6-2022
A1: WH2 TO BARGE7>>>>>>>> | B1: 44567 | C1: 14-LACA | D1: 5764 | E1: 99720 | F1: 35380 | G1: =E1-F1 -> 64340
A2: WH2 TO BARGE7>>>>>>>> | B2: 44567 | C2: 2-LACA | D2: 5765 | E2: 96580 | F2: 35340 | G2: =E2-F2 -> 61240
A3: WH2 TO BARGE7>>>>>>>> | B3: 44567 | C3: 8-LACA | D3: 5766 | E3: 99460 | F3: 35120 | G3: =E3-F3 -> 64340
A4: WH2 TO BARGE7>>>>>>>> | B4: 44567 | C4: 10-LACA | D4: 5767 | E4: 98860 | F4: 34940 | G4: =E4-F4 -> 63920
A5: WH1 TO BARGE7>>>>>>>> | B5: 44567 | C5: 5-LACA | D5: 5768 | E5: 96520 | F5: 35280 | G5: =E5-F5 -> 61240
A6: WH2 TO BARGE7>>>>>>>> | B6: 44567 | C6: 5-LACA | D6: 5770 | E6: 96080 | F6: 35300 | G6: =E6-F6 -> 60780
A7: WH2 TO BARGE7>>>>>>>> | B7: 44567 | C7: 8-LACA | D7: 5771 | E7: 94020 | F7: 35860 | G7: =E7-F7 -> 58160
A8: WH2 TO BARGE7>>>>>>>> | B8: 44567 | C8: 14-LACA | D8: 5772 | E8: 96840 | F8: 35780 | G8: =E8-F8 -> 61060
A9: WH2 TO BARGE7>>>>>>>> | B9: 44567 | C9: 3-LACA | D9: 11114 | E9: 98240 | F9: 34460 | G9: =E9-F9 -> 63780
A10: WH2 TO BARGE7>>>>>>>> | B10: 44567 | C10: 10-LACA | D10: 11115 | E10: 100840 | F10: 35060 | G10: =E10-F10 -> 65780
A11: WH1 TO BARGE7>>>>>>>> | B11: 44567 | C11: 2-LACA | D11: 11116 | E11: 100100 | F11: 35820 | G11: =E11-F11 -> 64280
A12: WH1 TO BARGE7>>>>>>>> | B12: 44567 | C12: 3-LACA | D12: 11117 | E12: 96080 | F12: 34340 | G12: =E12-F12 -> 61740
... A23: WH2 TO BARGE7>>>>>>>> | B23: 44567 | C23: 8-LACA | D23: 5784 | E23: 97620 | F23: 35640 | G23: =E23-F23 -> 61980
A24: WH2 TO BARGE7>>>>>>>> | B24: 44567 | C24: 3-LACA | D24: 11118 | E24: 97220 | F24: 33940 | G24: =E24-F24 -> 63280 | I24: =+SUM(G1:G24) -> 1489460
A25: WH2 TO BARGE7>>>>>>>> | B25: 44567 | C25: 01-Earl Pania | D25: 11005 | E25: 92280 | F25: 33660 | G25: =E25-F25 -> 58620
A26: WH2 TO BARGE7>>>>>>>> | B26: 44567 | C26: 86-Earl Pania | D26: 11006 | E26: 100100 | F26: 33460 | G26: =E26-F26 -> 66640
A27: WH2 TO BARGE7>>>>>>>> | B27: 44567 | C27: 357-Earl Pania | D27: 11009 | E27: 92240 | F27: 33920 | G27: =E27-F27 -> 58320
A28: WH2 TO BARGE7>>>>>>>> | B28: 44567 | C28: 203-Earl Pania | D28: 11010 | E28: 97400 | F28: 33720 | G28: =E28-F28 -> 63680
A29: WH2 TO BARGE7>>>>>>>> | B29: 44567 | C29: 204-Earl Pania | D29: 11011 | E29: 90620 | F29: 34820 | G29: =E29-F29 -> 55800
A30: WH2 TO BARGE7>>>>>>>> | B30: 44567 | C30: 86-Earl Pania | D30: 11015 | E30: 101300 | F30: 33500 | G30: =E30-F30 -> 67800
A31: WH2 TO BARGE7>>>>>>>> | B31: 44567 | C31: 01-Earl Pania | D31: 11016 | E31: 94600 | F31: 33620 | G31: =E31-F31 -> 60980
A32: WH2 TO BARGE7>>>>>>>> | B32: 44567 | C32: 357-Earl Pania | D32: 11018 | E32: 91740 | F32: 33900 | G32: =E32-F32 -> 57840
A33: WH2 TO BARGE7>>>>>>>> | B33: 44567 | C33: 203-Earl Pania | D33: 11019 | E33: 92940 | F33: 33620 | G33: =E33-F33 -> 59320
A34: WH2 TO BARGE7>>>>>>>> | B34: 44567 | C34: 204-Earl Pania | D34: 11020 | E34: 82780 | F34: 34640 | G34: =E34-F34 -> 48140
A35: WH2 TO BARGE7>>>>>>>> | B35: 44567 | C35: 01-Earl Pania | D35: 11028 | E35: 95080 | F35: 33520 | G35: =E35-F35 -> 61560
A36: WH2 TO BARGE7>>>>>>>> | B36: 44567 | C36: 357-Earl Pania | D36: 11029 | E36: 92540 | F36: 33780 | G36: =E36-F36 -> 58760
... A38: WH2 TO BARGE7>>>>>>>> | B38: 44567 | C38: 204-Earl Pania | D38: 11031 | E38: 83500 | F38: 34880 | G38: =E38-F38 -> 48620
A39: WH2 TO BARGE7>>>>>>>> | B39: 44567 | C39: 86-Earl Pania | D39: 11027 | E39: 101060 | F39: 33420 | G39: =E39-F39 -> 67640 | I39: =+SUM(G25:G39) -> 891780
A40: WH2 TO BARGE7>>>>>>>> | B40: 44567 | C40: 5-LACA | D40: 5785 | E40: 95920 | F40: 35140 | G40: =E40-F40 -> 60780
A41: WH2 TO BARGE7>>>>>>>> | B41: 44567 | C41: 3-LACA | D41: 11119 | E41: 94620 | F41: 34280 | G41: =E41-F41 -> 60340
A42: WH2 TO BARGE7>>>>>>>> | B42: 44567 | C42: 5-LACA | D42: 5786 | E42: 95860 | F42: 35040 | G42: =E42-F42 -> 60820
A43: WH2 TO BARGE7>>>>>>>> | B43: 44567 | C43: 10-LACA | D43: 5787 | E43: 97100 | F43: 34720 | G43: =E43-F43 -> 62380
A44: WH2 TO BARGE7>>>>>>>> | B44: 44567 | C44: 8-LACA | D44: 5788 | E44: 96920 | F44: 35580 | G44: =E44-F44 -> 61340
A45: WH1 TO BARGE7>>>>>>>> | B45: 44567 | C45: 2-LACA | D45: 5789 | E45: 95660 | F45: 35500 | G45: =E45-F45 -> 60160
A46: WH2 TO BARGE7>>>>>>>> | B46: 44567 | C46: 14-LACA | D46: 5790 | E46: 97240 | F46: 35620 | G46: =E46-F46 -> 61620 | I46: =+SUM(G40:G46) -> 427440
A47: WH2 TO BARGE7>>>>>>>> | B47: 44567 | C47: 86-Earl Pania | D47: 11061 | E47: 95520 | F47: 33260 | G47: =E47-F47 -> 62260
A48: WH2 TO BARGE7>>>>>>>> | B48: 44567 | C48: 203-Earl Pania | D48: 11065 | E48: 97980 | F48: 35180 | G48: =E48-F48 -> 62800
A49: WH2 TO BARGE7>>>>>>>> | B49: 44567 | C49: 357-Earl Pania | D49: 11066 | E49: 91480 | F49: 33960 | G49: =E49-F49 -> 57520
A50: WH2 TO BARGE7>>>>>>>> | B50: 44567 | C50: 01-Earl Pania | D50: 11068 | E50: 94240 | F50: 33660 | G50: =E50-F50 -> 60580
A51: WH2 TO BARGE7>>>>>>>> | B51: 44567 | C51: 86-Earl Pania | D51: 11071 | E51: 100100 | F51: 33240 | G51: =E51-F51 -> 66860
A52: WH1TO BARGE>>>>>>>> | B52: 44567 | C52: 357-Earl Pania | D52: 11074 | E52: 90500 | F52: 33920 | G52: =E52-F52 -> 56580
A53: WH2 TO BARGE7>>>>>>>> | B53: 44567 | C53: 01-Earl Pania | D53: 11075 | E53: 93340 | F53: 33560 | G53: =E53-F53 -> 59780 | I53: =+SUM(G47:G53) -> 426380 | J53: =SUM(G1:G53) -> 3235060 | K53: Barge7
A54: WH2 To Caldwell Thibodaux | B54: 44567 | C54: 07-BigDawg Trucking | D54: 11052 | E54: 97140 | F54: 36980 | G54: =E54-F54 -> 60160 | I54: =G54 -> 60160
A55: WH2 To Caldwell Thibodaux | B55: 44567 | C55: 24-WFB Trucking | D55: 11021 | E55: 103440 | F55: 34480 | G55: =E55-F55 -> 68960
A56: WH1 To Caldwell Thibodaux | B56: 44567 | C56: 24-WFB Trucking | D56: 11047 | E56: 100720 | F56: 35460 | G56: =E56-F56 -> 65260 | I56: =SUM(G55:G56) -> 134220
A57: WH2 To Caldwell Thibodaux | B57: 44567 | C57: 1909-Pacer Trucking | D57: 11008 | E57: 100100 | F57: 33640 | G57: =E57-F57 -> 66460
A58: WH2 To Caldwell Thibodaux | B58: 44567 | C58: 1904-Pacer Trucking | D58: 11012 | E58: 101700 | F58: 33840 | G58: =E58-F58 -> 67860
A59: WH2 To Caldwell Thibodaux | B59: 44567 | C59: 1908-Pacer Trucking | D59: 11023 | E59: 90900 | F59: 32180 | G59: =E59-F59 -> 58720
A60: WH2 To Caldwell Thibodaux | B60: 44567 | C60: 1905-Pacer Trucking | D60: 11024 | E60: 97780 | F60: 31960 | G60: =E60-F60 -> 65820
A61: WH2 To Caldwell Thibodaux | B61: 44567 | C61: 1906-Pacer Trucking | D61: 11025 | E61: 99100 | F61: 35440 | G61: =E61-F61 -> 63660
A62: WH2 To Caldwell Thibodaux | B62: 44567 | C62: 1904-Pacer Trucking | D62: 11033 | E62: 97500 | F62: 35860 | G62: =E62-F62 -> 61640
A63: WH2 To Caldwell Thibodaux | B63: 44567 | C63: 1909-Pacer Trucking | D63: 11036 | E63: 99160 | F63: 34500 | G63: =E63-F63 -> 64660
A64: WH2 To Caldwell Thibodaux | B64: 44567 | C64: 1905-Pacer Trucking | D64: 11056 | E64: 96220 | F64: 33720 | G64: =E64-F64 -> 62500
A65: WH2 To Caldwell Thibodaux | B65: 44567 | C65: 1908-Pacer Trucking | D65: 11057 | E65: 96240 | F65: 32840 | G65: =E65-F65 -> 63400
A66: WH2 To Caldwell Thibodaux | B66: 44567 | C66: 1906-Pacer Trucking | D66: 11058 | E66: 95680 | F66: 33660 | G66: =E66-F66 -> 62020 | I66: =+SUM(G57:G66) -> 636740
A67: WH2 To Caldwell Thibodaux | B67: 44567 | C67: DS03-AOA Service | D67: 11013 | E67: 95460 | F67: 32220 | G67: =E67-F67 -> 63240
A68: WH2 To Caldwell Thibodaux | B68: 44567 | C68: A12-AOA Service | D68: 11014 | E68: 98460 | F68: 32560 | G68: =E68-F68 -> 65900
A69: WH2 To Caldwell Thibodaux | B69: 44567 | C69: E28-AOA Service | D69: 11017 | E69: 99040 | F69: 34020 | G69: =E69-F69 -> 65020
A70: WH1 To Caldwell Thibodaux | B70: 44567 | C70: AG1-AOA Service | D70: 11026 | E70: 99100 | F70: 33640 | G70: =E70-F70 -> 65460
A71: WH2 To Caldwell Thibodaux | B71: 44567 | C71: A30-AOA Service | D71: 11032 | E71: 96000 | F71: 34580 | G71: =E71-F71 -> 61420
A72: WH2 To Caldwell Thibodaux | B72: 44567 | C72: A12-AOA Service | D72: 11034 | E72: 98660 | F72: 32700 | G72: =E72-F72 -> 65960
A73: WH2 To Caldwell Thibodaux | B73: 44567 | C73: DS03-AOA Service | D73: 11035 | E73: 96060 | F73: 32520 | G73: =E73-F73 -> 63540
A74: WH2 To Caldwell Thibodaux | B74: 44567 | C74: E28-AOA Service | D74: 11037 | E74: 99940 | F74: 33780 | G74: =E74-F74 -> 66160
A75: WH2 To Caldwell Thibodaux | B75: 44567 | C75: AG1-AOA Service | D75: 11048 | E75: 101600 | F75: 33080 | G75: =E75-F75 -> 68520
A76: WH2 To Caldwell Thibodaux | B76: 44567 | C76: LS2-AOA Service | D76: 11050 | E76: 92800 | F76: 33520 | G76: =E76-F76 -> 59280 | I76: =+SUM(G67:G76) -> 644500
A77: WH2 CSC TO DALLAS,TX | B77: 44567 | C77: 305-Maluva-Load#220021 | D77: 11022 | E77: 80800 | F77: 27260 | G77: =E77-F77 -> 53540
A78: WH2 CSC TO DALLAS,TX | B78: 44567 | C78: 275-Maluva-Load#211860 | D78: 11038 | E78: 82580 | F78: 29620 | G78: =E78-F78 -> 52960
A79: WH2 CSC TO DALLAS,TX | B79: 44567 | C79: 444-Maluva-Load#220028 | D79: 11041 | E79: 78360 | F79: 30000 | G79: =E79-F79 -> 48360
A80: WH2 CSC TO DALLAS,TX | B80: 44567 | C80: 226-Maluva-Load#220023 | D80: 11049 | E80: 84980 | F80: 28200 | G80: =E80-F80 -> 56780
A81: WH2 CSC TO DALLAS,TX | B81: 44567 | C81: 15-Maluva-Load#220027 | D81: 11051 | E81: 84900 | F81: 27740 | G81: =E81-F81 -> 57160
A82: WH1 CSC TO DALLAS,TX | B82: 44567 | C82: 24-Maluva-Load#220025 | D82: 11053 | E82: 81380 | F82: 25560 | G82: =E82-F82 -> 55820
A83: WH2 CSC TO DALLAS,TX | B83: 44567 | C83: 03-Maluva-Load#220024 | D83: 11054 | E83: 83540 | F83: 25640 | G83: =E83-F83 -> 57900
A84: WH2 CSC TO DALLAS,TX | B84: 44567 | C84: 229-Maluva-Load#220018 | D84: 11055 | E84: 77820 | F84: 29340 | G84: =E84-F84 -> 48480 | I84: =+SUM(G77:G84) -> 431000
G87: =SUM(G1:G84) -> 5141680 | I87: =SUM(I1:I84) -> 5141680 | J87: checked

Sheet 1-7-2022
A1: WH2 TO BARGE#8>>>>>>> | B1: 44568 | C1: 5-LACA | D1: 5791 | E1: 96800 | F1: 35000 | G1: =E1-F1 -> 61800
A2: WH2 TO BARGE#8>>>>>>> | B2: 44568 | C2: 10-LACA | D2: 5792 | E2: 97040 | F2: 34500 | G2: =E2-F2 -> 62540
A3: WH2 TO BARGE#8>>>>>>> | B3: 44568 | C3: 3-LACA | D3: 11120 | E3: 98800 | F3: 34060 | G3: =E3-F3 -> 64740
A4: WH1 TO BARGE#8>>>>>>> | B4: 44568 | C4: 2-LACA | D4: 5793 | E4: 98660 | F4: 35400 | G4: =E4-F4 -> 63260
A5: WH2 TO BARGE#8>>>>>>> | B5: 44568 | C5: 14-LACA | D5: 5794 | E5: 100000 | F5: 35520 | G5: =E5-F5 -> 64480
A6: WH2 TO BARGE#8>>>>>>> | B6: 44568 | C6: 10-LACA | D6: 5799 | E6: 97300 | F6: 33940 | G6: =E6-F6 -> 63360
A7: WH2 TO BARGE#8>>>>>>> | B7: 44568 | C7: 5-LACA | D7: 5800 | E7: 96600 | F7: 34540 | G7: =E7-F7 -> 62060
A8: WH2 TO BARGE#8>>>>>>> | B8: 44568 | C8: 3-LACA | D8: 11164 | E8: 97360 | F8: 33680 | G8: =E8-F8 -> 63680 | I8: =SUM(G1:G8) -> 505920
A9: WH2 TO BARGE#8>>>>>>> | B9: 44568 | C9: 203-Earl Pania | D9: 11072 | E9: 96900 | F9: 34000 | G9: =E9-F9 -> 62900
A10: WH2 TO BARGE#8>>>>>>> | B10: 44568 | C10: 86-Earl Pania | D10: 11076 | E10: 94400 | F10: 33160 | G10: =E10-F10 -> 61240
A11: WH2 TO BARGE#8>>>>>>> | B11: 44568 | C11: 357-Earl Pania | D11: 11080 | E11: 89260 | F11: 33900 | G11: =E11-F11 -> 55360 | I11: =SUM(G9:G11) -> 179500
A12: WH2 To Caldwell Thibodaux | B12: 44568 | C12: 07-BigDawg Trucking | D12: 11081 | E12: 95560 | F12: 36380 | G12: =E12-F12 -> 59180 | I12: =G12 -> 59180
A13: WH1 To Caldwell Thibodaux | B13: 44568 | C13: 24-WFB Trucking | D13: 11063 | E13: 102700 | F13: 35400 | G13: =E13-F13 -> 67300 | I13: =G13 -> 67300
A14: WH2 To Caldwell Thibodaux | B14: 44568 | C14: AG1-AOA Service | D14: 10060 | E14: 100500 | F14: 33260 | G14: =E14-F14 -> 67240
A15: WH2 To Caldwell Thibodaux | B15: 44568 | C15: DS03-AOA Service | D15: 11064 | E15: 95980 | F15: 37920 | G15: =E15-F15 -> 58060
A16: WH2 To Caldwell Thibodaux | B16: 44568 | C16: LS2-AOA Service | D16: 11069 | E16: 98100 | F16: 34880 | G16: =E16-F16 -> 63220
A17: WH2 To Caldwell Thibodaux | B17: 44568 | C17: A12-AOA Service | D17: 11070 | E17: 98540 | F17: 32680 | G17: =E17-F17 -> 65860
A18: WH2 To Caldwell Thibodaux | B18: 44568 | C18: E28-AOA Service | D18: 11073 | E18: 100100 | F18: 33460 | G18: =E18-F18 -> 66640 | I18: =SUM(G14:G18) -> 321020
A19: WH2 To Caldwell Thibodaux | B19: 44568 | C19: 1909-Pacer Trucking | D19: 11059 | E19: 95960 | F19: 33640 | G19: =E19-F19 -> 62320
A20: WH2 To Caldwell Thibodaux | B20: 44568 | C20: 1904-Pacer Trucking | D20: 11062 | E20: 94060 | F20: 33180 | G20: =E20-F20 -> 60880
A21: WH2 To Caldwell Thibodaux | B21: 44568 | C21: 1906-Pacer Trucking | D21: 11077 | E21: 94340 | F21: 33440 | G21: =E21-F21 -> 60900
A22: WH2 To Caldwell Thibodaux | B22: 44568 | C22: 1908-Pacer Trucking | D22: 11078 | E22: 91380 | F22: 31440 | G22: =E22-F22 -> 59940
A23: WH2 To Caldwell Thibodaux | B23: 44568 | C23: 1905-Pacer Trucking | D23: 11079 | E23: 96340 | F23: 37320 | G23: =E23-F23 -> 59020 | I23: =SUM(G19:G23) -> 303060 | K23: =SUM(G12:G23) -> 750560
A24: WH2 TO CSC DALLAS,TX | B24: 44568 | C24: 227-Maluva-Load#220030 | D24: 11067 | E24: 82680 | F24: 29540 | G24: =E24-F24 -> 53140
A25: WH2 TO CSC DALLAS,TX | B25: 44568 | C25: 305-Maluva-Load#220031 | D25: 11084 | E25: 79120 | F25: 27440 | G25: =E25-F25 -> 51680
A26: WH2 TO CSC DALLAS,TX | B26: 44568 | C26: 275-Maluva-Load#220030 | D26: 11085 | E26: 79260 | F26: 29500 | G26: =E26-F26 -> 49760
A27: WH2 TO CSC DALLAS,TX | B27: 44568 | C27: 444-Maluva-Load#220033 | D27: 11088 | E27: 79800 | F27: 29960 | G27: =E27-F27 -> 49840
A28: WH2 TO CSC DALLAS,TX | B28: 44568 | C28: 226-Maluva-Load#220034 | D28: 11089 | E28: 86220 | F28: 28420 | G28: =E28-F28 -> 57800
A29: WH2 TO CSC DALLAS,TX | B29: 44568 | C29: 229-Maluva-Load#220019 | D29: 11094 | E29: 79280 | F29: 29000 | G29: =E29-F29 -> 50280
A30: WH2 TO CSC DALLAS,TX | B30: 44568 | C30: 227-Maluva-Load#220003 | D30: 11095 | E30: 81440 | F30: 28860 | G30: =E30-F30 -> 52580
A31: WH2 TO CSC DALLAS,TX | B31: 44568 | C31: 24-Maluva-Load#220029 | D31: 11096 | E31: 81460 | F31: 28740 | G31: =E31-F31 -> 52720
A32: WH2 TO CSC DALLAS,TX | B32: 44568 | C32: 03-Maluva-Load#220026 | D32: 11097 | E32: 82620 | F32: 24360 | G32: =E32-F32 -> 58260 | I32: =SUM(G24:G32) -> 476060
G35: =SUM(G1:G32) -> 1912040 | I35: =SUM(I1:I32) -> 1912040 | J35: checked

Sheet 1-8-2022
A1: WH2 TO CSC DALLAS,TX | B1: 44569 | C1: 444-Maluva-Load#220037 | D1: 11099 | E1: 82160 | F1: 28960 | G1: 53200
A2: WH2 TO CSC DALLAS,TX | B2: 44569 | C2: 275-Maluva-Load#220035 | D2: 11100 | E2: 84540 | F2: 28980 | G2: 55560
A3: WH2 TO CSC DALLAS,TX | B3: 44569 | C3: 227-Maluva-Load#220036 | D3: 11102 | E3: 84300 | F3: 29640 | G3: 54660 | I3: =SUM(G1:G3) -> 163420
A4: WH2 TO SUPREME | B4: 44569 | C4: 07-BigDawg Trucking | D4: 11101 | E4: 92820 | F4: 35940 | G4: 56880
A5: WH2 TO SUPREME | B5: 44569 | C5: 1905-Pacer Trucking | D5: 11103 | E5: 93340 | F5: 32440 | G5: 60900
A6: WH2 TO SUPREME | B6: 44569 | C6: 1906-Pacer Trucking | D6: 11105 | E6: 95560 | F6: 41040 | G6: 54520
A7: WH2 TO SUPREME | B7: 44569 | C7: 1908-Pacer Trucking | D7: 11104 | E7: 91840 | F7: 30760 | G7: 61080
A8: WH2 TO SUPREME | B8: 44569 | C8: 1904-Pacer Trucking | D8: 11107 | E8: 97780 | F8: 32980 | G8: 64800
A9: WH2 TO SUPREME | B9: 44569 | C9: 1909-Pacer Trucking | D9: 11108 | E9: 94740 | F9: 32800 | G9: 61940
A10: WH2 TO SUPREME | B10: 44569 | C10: 01-Earl Pania | D10: 11106 | E10: 90640 | F10: 33680 | G10: 56960 | I10: =SUM(G4:G10) -> 417080
G12: =SUM(G1:G10) -> 580500 | I12: =SUM(I1:I10) -> 580500 | J12: checked

Sheet 1-9-2022
A1: WH1 TO SUPREME | B1: 44570 | C1: 1905-Pacer Trucking | D1: 11122 | E1: 99200 | F1: 32280 | G1: 66920
A2: WH1 TO SUPREME | B2: 44570 | C2: 1908-Pacer Trucking | D2: 11123 | E2: 92700 | F2: 31780 | G2: 60920
A3: WH1 TO SUPREME | B3: 44570 | C3: 1906-Pacer Trucking | D3: 11124 | E3: 101360 | F3: 33740 | G3: 67620
A4: WH1 TO SUPREME | B4: 44570 | C4: 1904-Pacer Trucking | D4: 11125 | E4: 100840 | F4: 33820 | G4: 67020
A5: WH1 TO SUPREME | B5: 44570 | C5: 1909-Pacer Trucking | D5: 11126 | E5: 101320 | F5: 33620 | G5: 67700
A6: WH1 TO SUPREME | B6: 44570 | C6: 1906-Pacer Trucking | D6: 11209 | E6: 101180 | F6: 33000 | G6: 68180
A7: WH1 TO SUPREME | B7: 44570 | C7: 1904-Pacer Trucking | D7: 11210 | E7: 98800 | F7: 32720 | G7: 66080
A8: WH1 TO SUPREME | B8: 44570 | C8: 1909-Pacer Trucking | D8: 11212 | E8: 99760 | F8: 32960 | G8: 66800
A9: WH1 TO SUPREME | B9: 44570 | C9: 1908-Pacer Trucking | D9: 11135 | E9: 92440 | F9: 31280 | G9: 61160
A10: WH1 TO SUPREME | B10: 44570 | C10: 1906-Pacer Trucking | D10: 11136 | E10: 95640 | F10: 33640 | G10: 62000
A11: WH1 TO SUPREME | B11: 44570 | C11: 1909-Pacer Trucking | D11: 11138 | E11: 95100 | F11: 33800 | G11: 61300
A12: WH1 TO SUPREME | B12: 44570 | C12: 1904-Pacer Trucking | D12: 11137 | E12: 99700 | F12: 33220 | G12: 66480 | I12: =SUM(G1:G12) -> 782180
