Workbook

Sheet 11-26-2021
B2: Shipped & Moved Sugar from WH#2
A4: Breaux Bridge | B4: 44526 | C4: wh2 to BB | D4: 4669 | E4: 77920 | F4: 35180 | G4: =E4-F4 -> 42740
A5: Breaux Bridge | B5: 44526 | C5: wh2 to BB | D5: 1046 | E5: 75660 | F5: 35160 | G5: =E5-F5 -> 40500
A6: Breaux Bridge | B6: 44526 | C6: wh2 to BB | D6: 1047 | E6: 73360 | F6: 35120 | G6: =E6-F6 -> 38240
A7: Breaux Bridge | B7: 44526 | C7: wh2 to BB | D7: 1048 | E7: 75500 | F7: 35700 | G7: =E7-F7 -> 39800
A8: Breaux Bridge | B8: 44526 | C8: wh2 to BB | D8: 1049 | E8: 75520 | F8: 35660 | G8: =E8-F8 -> 39860
A9: Breaux Bridge | B9: 44526 | C9: wh2 to BB | D9: 1050 | E9: 74880 | F9: 35560 | G9: =E9-F9 -> 39320
A10: Breaux Bridge | B10: 44526 | C10: wh2 to BB | D10: 2286 | E10: 73720 | F10: 35440 | G10: =E10-F10 -> 38280
A11: LSR>> | B11: 44526 | C11: 01EP | D11: 11302 | E11: 94380 | F11: 33400 | G11: =E11-F11 -> 60980
A12: LSR>> | B12: 44526 | C12: 105pacer | D12: 11301 | E12: 101300 | F12: 36360 | G12: =E12-F12 -> 64940
A13: LSR>> | B13: 44526 | C13: 105pacer | D13: 11307 | E13: 102460 | F13: 36080 | G13: =E13-F13 -> 66380
A14: LSR>> | B14: 44526 | C14: 01EP | D14: 11309 | E14: 93180 | F14: 33240 | G14: =E14-F14 -> 59940
A15: LSR>> | B15: 44526 | C15: 105pacer | D15: 13392 | E15: 100800 | F15: 36680 | G15: =E15-F15 -> 64120
... A46: LSR>> | B46: 44526 | C46: 11laca | D46: 11305 | E46: 98500 | F46: 34200 | G46: =E46-F46 -> 64300

Sheet 11-27-2021
B1: 44527 | C1: wh2 to BB | D1: 2287 | E1: 74540 | F1: 35520 | G1: =E1-F1 -> 39020
B2: 44527 | C2: wh2 to BB | D2: 2288 | E2: 66640 | F2: 35420 | G2: =E2-F2 -> 31220
B3: 44527 | C3: wh2 to BB | D3: 2289 | E3: 73180 | F3: 35460 | G3: =E3-F3 -> 37720
B4: 44527 | C4: wh2 to BB | D4: 2290 | E4: 75920 | F4: 35400 | G4: =E4-F4 -> 40520
B5: 44527 | C5: wh2 to BB | D5: 2291 | E5: 72420 | F5: 35440 | G5: =E5-F5 -> 36980
B6: 44527 | C6: wh2 to BB | D6: 2292 | E6: 67740 | F6: 35260 | G6: =E6-F6 -> 32480
B7: 44527 | C7: wh2 to BB | D7: 2293 | E7: 69060 | F7: 35240 | G7: =E7-F7 -> 33820
B8: 44527 | C8: wh2 to BB | D8: 2294 | E8: 65020 | F8: 35260 | G8: =E8-F8 -> 29760 | I8: =SUM(G1:G8) -> 281520
A9: LSR>> | B9: 44527 | C9: MJ-01 EP | D9: 11320 | E9: 87500 | F9: 34720 | G9: =E9-F9 -> 52780
A10: LSR>> | B10: 44527 | C10: 27EP | D10: 11322 | E10: 92520 | F10: 33900 | G10: =E10-F10 -> 58620
A11: LSR>> | B11: 44527 | C11: 01EP | D11: 11325 | E11: 88000 | F11: 33860 | G11: =E11-F11 -> 54140
A12: LSR>> | B12: 44527 | C12: 105pacer | D12: 11326 | E12: 101900 | F12: 36620 | G12: =E12-F12 -> 65280
A13: LSR>> | B13: 44527 | C13: MJ-01 EP | D13: 11329 | E13: 90000 | F13: 34720 | G13: =E13-F13 -> 55280
A14: LSR>> | B14: 44527 | C14: 27EP | D14: 11330 | E14: 97900 | F14: 33680 | G14: =E14-F14 -> 64220
A15: LSR>> | B15: 44527 | C15: 105 pacer | D15: 11334 | E15: 101200 | F15: 36260 | G15: =E15-F15 -> 64940
A16: LSR>> | B16: 44527 | C16: 27EP | D16: 11345 | E16: 93540 | F16: 32940 | G16: =E16-F16 -> 60600
A17: LSR>> | B17: 44527 | C17: 75LASUCA | D17: 11346 | E17: 0 | F17: 0 | G17: =E17-F17 -> 0 | H17: Dumped a BB
A18: LSR>> | B18: 44527 | C18: 105pacer | D18: 4723 | E18: 99640 | F18: 35860 | G18: =E18-F18 -> 63780 | I18: =SUM(G9:G18) -> 539640
A19: LSR>> | B19: 44527 | C19: 17laca | D19: 4699 | E19: 94980 | F19: 34060 | G19: =E19-F19 -> 60920
A20: LSR>> | B20: 44527 | C20: 15laca | D20: 4700 | E20: 98880 | F20: 34500 | G20: =E20-F20 -> 64380
A21: LSR>> | B21: 44527 | C21: 11laca | D21: 11331 | E21: 100700 | F21: 34320 | G21: =E21-F21 -> 66380
A22: LSR>> | B22: 44527 | C22: 15laca | D22: 4706 | E22: 99940 | F22: 34180 | G22: =E22-F22 -> 65760
A23: LSR>> | B23: 44527 | C23: 5laca | D23: 4709 | E23: 97060 | F23: 34700 | G23: =E23-F23 -> 62360
A24: LSR>> | B24: 44527 | C24: 17laca | D24: 11340 | E24: 95400 | F24: 33780 | G24: =E24-F24 -> 61620
A25: LSR>> | B25: 44527 | C25: 16laca | D25: 11339 | E25: 97300 | F25: 35020 | G25: =E25-F25 -> 62280
A26: LSR>> | B26: 44527 | C26: 11laca | D26: 4716 | E26: 99700 | F26: 33920 | G26: =E26-F26 -> 65780
A27: LSR>> | B27: 44527 | C27: 5laca | D27: 4717 | E27: 95760 | F27: 35060 | G27: =E27-F27 -> 60700
A28: LSR>> | B28: 44527 | C28: 15laca | D28: 4718 | E28: 98860 | F28: 34660 | G28: =E28-F28 -> 64200
A29: LSR>> | B29: 44527 | C29: 11laca | D29: 11347 | E29: 101980 | F29: 33660 | G29: =E29-F29 -> 68320
A30: LSR>> | B30: 44527 | C30: 11laca | D30: 11349 | E30: 100760 | F30: 34420 | G30: =E30-F30 -> 66340 | I30: =SUM(G19:G30) -> 769040
A31: Caldwell Thib>> | B31: 44527 | C31: 1901pacer | D31: 11321 | E31: 99420 | F31: 33620 | G31: =E31-F31 -> 65800
A32: Caldwell Thib>> | B32: 44527 | C32: 1910pacer | D32: 11323 | E32: 95800 | F32: 32420 | G32: =E32-F32 -> 63380
A33: Caldwell Thib>> | B33: 44527 | C33: 1903pacer | D33: 11324 | E33: 99000 | F33: 34880 | G33: =E33-F33 -> 64120
A34: Caldwell Thib>> | B34: 44527 | C34: 1902pacer | D34: 11327 | E34: 99100 | F34: 33100 | G34: =E34-F34 -> 66000
A35: Caldwell Thib>> | B35: 44527 | C35: 1901pacer | D35: 11328 | E35: 96340 | F35: 33400 | G35: =E35-F35 -> 62940
A36: Caldwell Thib>> | B36: 44527 | C36: 1910pacer | D36: 11332 | E36: 97120 | F36: 32840 | G36: =E36-F36 -> 64280
A37: Caldwell Thib>> | B37: 44527 | C37: 1903pacer | D37: 11333 | E37: 97740 | F37: 34620 | G37: =E37-F37 -> 63120
A38: Caldwell Thib>> | B38: 44527 | C38: 1907pacer | D38: 11336 | E38: 89380 | F38: 32740 | G38: =E38-F38 -> 56640
A39: Caldwell Thib>> | B39: 44527 | C39: 1902pacer | D39: 11337 | E39: 95920 | F39: 32760 | G39: =E39-F39 -> 63160
A40: Caldwell Thib>> | B40: 44527 | C40: 103pacer | D40: 11338 | E40: 97700 | F40: 33360 | G40: =E40-F40 -> 64340
...

Sheet 11-28-2021
A1: LSR>> | B1: 44528 | C1: 01EP | D1: 11353 | E1: 94580 | F1: 33760 | G1: =E1-F1 -> 60820
A2: LSR>> | B2: 44528 | C2: MJ-01 EP | D2: 11355 | E2: 85320 | F2: 35000 | G2: =E2-F2 -> 50320
A3: LSR>> | B3: 44528 | C3: 27EP | D3: 11356 | E3: 98000 | F3: 32980 | G3: =E3-F3 -> 65020
A4: LSR>> | B4: 44528 | C4: 105pacer | D4: 11358 | E4: 100160 | F4: 36460 | G4: =E4-F4 -> 63700
A5: LSR>> | B5: 44528 | C5: 01EP | D5: 11361 | E5: 91320 | F5: 33640 | G5: =E5-F5 -> 57680
A6: LSR>> | B6: 44528 | C6: MJ-01 EP | D6: 11363 | E6: 92300 | F6: 34820 | G6: =E6-F6 -> 57480
A7: LSR>> | B7: 44528 | C7: 105pacer | D7: 4738 | E7: 99500 | F7: 36140 | G7: =E7-F7 -> 63360
A8: LSR>> | B8: 44528 | C8: 27EP | D8: 11374 | E8: 97140 | F8: 34000 | G8: =E8-F8 -> 63140
A9: LSR>> | B9: 44528 | C9: 105pacer | D9: 4752 | E9: 99980 | F9: 35660 | G9: =E9-F9 -> 64320
A10: LSR>> | B10: 44528 | C10: 27EP | D10: 11378 | E10: 98080 | F10: 33780 | G10: =E10-F10 -> 64300
A11: LSR>> | B11: 44528 | C11: 107 Lasuca | D11: 11367 | E11: 92740 | F11: 25360 | G11: =E11-F11 -> 67380
A12: LSR>> | B12: 44528 | C12: 106 Lasuca | D12: 11368 | E12: 94260 | F12: 25400 | G12: =E12-F12 -> 68860
... A39: CSC>> | B39: 44528 | C39: 8732csc | D39: 11377 | E39: 93000 | F39: 31680 | G39: =E39-F39 -> 61320
A40: Breaux B | B40: 44528 | C40: 75Lasuca | D40: 11346a | E40: 79420 | F40: 33660 | G40: =E40-F40 -> 45760
A41: LSR>> | B41: 44528 | C41: 75Lasuca | D41: 11346 | E41: 95020 | F41: 79420 | G41: =E41-F41 -> 15600

Sheet 11-29-2021
A1: LSR>> | B1: 44529 | C1: 105pacer | D1: 4756 | E1: 96540 | F1: 36400 | G1: =E1-F1 -> 60140
A2: LSR>> | B2: 44529 | C2: 01EP | D2: 11380 | E2: 90580 | F2: 33380 | G2: =E2-F2 -> 57200
A3: LSR>> | B3: 44529 | C3: 27EP | D3: 11383 | E3: 96860 | F3: 33500 | G3: =E3-F3 -> 63360
A4: LSR>> | B4: 44529 | C4: 01EP | D4: 11391 | E4: 90840 | F4: 34000 | G4: =E4-F4 -> 56840
A5: LSR>> | B5: 44529 | C5: 27EP | D5: 11392 | E5: 96200 | F5: 33160 | G5: =E5-F5 -> 63040
A6: LSR>> | B6: 44529 | C6: 27ep | D6: 11416 | E6: 92920 | F6: 32860 | G6: =E6-F6 -> 60060
A7: LSR>> | B7: 44529 | C7: 105pacer | D7: 11384 | E7: 97600 | F7: 26700 | G7: =E7-F7 -> 70900
A8: LSR>> | B8: 44529 | C8: 105pacer | D8: 4762 | E8: 97560 | F8: 36120 | G8: =E8-F8 -> 61440
A9: LSR>> | B9: 44529 | C9: 105pacer | D9: 4774 | E9: 95520 | F9: 35760 | G9: =E9-F9 -> 59760
A10: (INDPNT) LSR>> | B10: 44529 | C10: 3-G5 | D10: 11385 | E10: 91200 | F10: 30740 | G10: =E10-F10 -> 60460
A11: (INDPNT) LSR>> | B11: 44529 | C11: G1-G5 | D11: 11386 | E11: 93740 | F11: 28280 | G11: =E11-F11 -> 65460
A12: LSR>> | B12: 44529 | C12: 75Lasuca | D12: 11379 | E12: 96200 | F12: 33260 | G12: =E12-F12 -> 62940
... A45: CSC>> | B45: 44529 | C45: 4csc | D45: 11414 | E45: 79900 | F45: 27200 | G45: =E45-F45 -> 52700

Sheet 11-30-2021
A1: LSR>> | B1: 44530 | C1: 105pacer | D1: 4779 | E1: 98700 | F1: 36340 | G1: =E1-F1 -> 62360
A2: LSR>> | B2: 44530 | C2: 01EP | D2: 11417 | E2: 91180 | F2: 33760 | G2: =E2-F2 -> 57420
A3: LSR>> | B3: 44530 | C3: 01EP | D3: 11439 | E3: 89000 | F3: 34000 | G3: =E3-F3 -> 55000
A4: LSR>> | B4: 44530 | C4: 27EP | D4: 11425 | E4: 96360 | F4: 32640 | G4: =E4-F4 -> 63720
A5: LSR>> | B5: 44530 | C5: 27EP | D5: 11433 | E5: 98520 | F5: 33500 | G5: =E5-F5 -> 65020
A6: LSR>> | B6: 44530 | C6: 27EP | D6: 11475 | E6: 95600 | F6: 33380 | G6: =E6-F6 -> 62220
A7: LSR>> | B7: 44530 | C7: 105pacer | D7: 4832 | E7: 96280 | F7: 36020 | G7: =E7-F7 -> 60260 | H7: =SUM(G1:G7) -> 426000
A8: LSR>> | B8: 44530 | C8: 107lasuca | D8: 11418 | E8: 99500 | F8: 25660 | G8: =E8-F8 -> 73840
A9: LSR>> | B9: 44530 | C9: 106Lasuca | D9: 11419 | E9: 97500 | F9: 26000 | G9: =E9-F9 -> 71500
A10: LSR>> | B10: 44530 | C10: 75Lasuca | D10: 11420 | E10: 98700 | F10: 33080 | G10: =E10-F10 -> 65620
A11: LSR>> | B11: 44530 | C11: 105lasuca | D11: 11423 | E11: 98700 | F11: 27960 | G11: =E11-F11 -> 70740
A12: LSR>> | B12: 44530 | C12: 113lasuca | D12: 11427 | E12: 97300 | F12: 26280 | G12: =E12-F12 -> 71020
A13: LSR>> | B13: 44530 | C13: 106Lasuca | D13: 11435 | E13: 97220 | F13: 26360 | G13: =E13-F13 -> 70860
A14: LSR>> | B14: 44530 | C14: 107lasuca | D14: 11436 | E14: 92900 | F14: 26460 | G14: =E14-F14 -> 66440
A15: LSR>> | B15: 44530 | C15: 113lasuca | D15: 11434 | E15: 99680 | F15: 28140 | G15: =E15-F15 -> 71540
A16: LSR>> | B16: 44530 | C16: 108Lasuca | D16: 11440 | E16: 97620 | F16: 29400 | G16: =E16-F16 -> 68220
A17: LSR>> | B17: 44530 | C17: 75Lasuca | D17: 11444 | E17: 98020 | F17: 27160 | G17: =E17-F17 -> 70860
A18: LSR>> | B18: 44530 | C18: 106Lasuca | D18: 11459 | E18: 98960 | F18: 26100 | G18: =E18-F18 -> 72860
A19: LSR>> | B19: 44530 | C19: 107lasuca | D19: 11468 | E19: 97240 | F19: 25620 | G19: =E19-F19 -> 71620
... A21: LSR>> | B21: 44530 | C21: 108Lasuca | D21: 11471 | E21: 100000 | F21: 28520 | G21: =E21-F21 -> 71480
A22: LSR>> | B22: 44530 | C22: 75Lasuca | D22: 11472 | E22: 97700 | F22: 27680 | G22: =E22-F22 -> 70020 | H22: =SUM(G8:G22) -> 1058860
A23: INPENDNT-LSR> | B23: 44530 | C23: G1-G5trkn | D23: 11424 | E23: 97700 | F23: 28660 | G23: =E23-F23 -> 69040
A24: INPENDNT-LSR> | B24: 44530 | C24: G3-G5trkn | D24: 11426 | E24: 102200 | F24: 30420 | G24: =E24-F24 -> 71780
A25: INPENDNT-LSR> | B25: 44530 | C25: G!-G5trkn | D25: 11437 | E25: 78880 | F25: 29340 | G25: =E25-F25 -> 49540
A26: INPENDNT-LSR> | B26: 44530 | C26: G3-G5trkn | D26: 11442 | E26: 79780 | F26: 31380 | G26: =E26-F26 -> 48400
A27: INPENDNT-LSR> | B27: 44530 | C27: G3-G5trkn | D27: 11473 | E27: 78380 | F27: 30600 | G27: =E27-F27 -> 47780 | H27: =SUM(G23:G27) -> 286540
A28: LSR>> | B28: 44530 | C28: 15laca | D28: 11429 | E28: 100200 | F28: 34780 | G28: =E28-F28 -> 65420
A29: LSR>> | B29: 44530 | C29: 2laca | D29: 11430 | E29: 100900 | F29: 35440 | G29: =E29-F29 -> 65460
A30: LSR>> | B30: 44530 | C30: 11laca | D30: 11431 | E30: 101000 | F30: 33260 | G30: =E30-F30 -> 67740
A31: LSR>> | B31: 44530 | C31: 14laca | D31: 4786 | E31: 96400 | F31: 34720 | G31: =E31-F31 -> 61680
A32: LSR>> | B32: 44530 | C32: 15laca | D32: 4793 | E32: 97740 | F32: 34480 | G32: =E32-F32 -> 63260
A33: LSR>> | B33: 44530 | C33: 6Laca | D33: 4792 | E33: 96280 | F33: 33840 | G33: =E33-F33 -> 62440
A34: LSR>> | B34: 44530 | C34: 5laca | D34: 4831 | E34: 95720 | F34: 35080 | G34: =E34-F34 -> 60640
A35: LSR>> | B35: 44530 | C35: 2laca | D35: 4799 | E35: 97060 | F35: 35020 | G35: =E35-F35 -> 62040
A36: LSR>> | B36: 44530 | C36: 14laca | D36: 4798 | E36: 97100 | F36: 34960 | G36: =E36-F36 -> 62140
A37: LSR>> | B37: 44530 | C37: 11laca | D37: 4797 | E37: 98140 | F37: 33380 | G37: =E37-F37 -> 64760
A38: LSR>> | B38: 44530 | C38: 5laca | D38: 4796 | E38: 98240 | F38: 34880 | G38: =E38-F38 -> 63360 | H38: =SUM(G28:G38) -> 698940
A39: CSC>> | B39: 44530 | C39: 9945csc | D39: 11428 | E39: 80080 | F39: 29400 | G39: =E39-F39 -> 50680
A40: CSC>> | B40: 44530 | C40: 230css | D40: 11441 | E40: 80720 | F40: 28920 | G40: =E40-F40 -> 51800
A41: CSC>> | B41: 44530 | C41: 227csc | D41: 11445 | E41: 81220 | F41: 28860 | G41: =E41-F41 -> 52360
...

Sheet 12-01-2021
A1: LSR>> | B1: 44531 | C1: 6Laca | D1: 4834 | E1: 98660 | F1: 33520 | G1: =E1-F1 -> 65140
A2: LSR>> | B2: 44531 | C2: 16laca | D2: 4836 | E2: 97940 | F2: 34160 | G2: =E2-F2 -> 63780
A3: LSR>> | B3: 44531 | C3: 15laca | D3: 4839 | E3: 98100 | F3: 34800 | G3: =E3-F3 -> 63300
A4: LSR>> | B4: 44531 | C4: 16laca | D4: 11490 | E4: 98300 | F4: 34720 | G4: =E4-F4 -> 63580
A5: LSR>> | B5: 44531 | C5: 2laca | D5: 4842 | E5: 97620 | F5: 34820 | G5: =E5-F5 -> 62800
A6: LSR>> | B6: 44531 | C6: 11laca | D6: 4844 | E6: 99280 | F6: 34040 | G6: =E6-F6 -> 65240
A7: LSR>> | B7: 44531 | C7: 14laca | D7: 4845 | E7: 98000 | F7: 34640 | G7: =E7-F7 -> 63360
A8: LSR>> | B8: 44531 | C8: 6Laca | D8: 4846 | E8: 97060 | F8: 34380 | G8: =E8-F8 -> 62680
A9: LSR>> | B9: 44531 | C9: 5laca | D9: 4850 | E9: 94220 | F9: 34800 | G9: =E9-F9 -> 59420
A10: LSR>> | B10: 44531 | C10: 6Laca | D10: 4901 | E10: 96940 | F10: 33780 | G10: =E10-F10 -> 63160
A11: LSR>> | B11: 44531 | C11: 5laca | D11: 4894 | E11: 96220 | F11: 35200 | G11: =E11-F11 -> 61020
A12: LSR>> | B12: 44531 | C12: 15laca | D12: 4864 | E12: 99520 | F12: 34120 | G12: =E12-F12 -> 65400
A13: LSR>> | B13: 44531 | C13: 15laca | D13: 4849 | E13: 97180 | F13: 34340 | G13: =E13-F13 -> 62840 | H13: =SUM(G1:G13) -> 821720
A14: LSR>> | B14: 44531 | C14: 106Lasuca | D14: 11479 | E14: 95400 | F14: 25780 | G14: =E14-F14 -> 69620
A15: LSR>> | B15: 44531 | C15: 124Lasuca | D15: 11487 | E15: 99200 | F15: 25440 | G15: =E15-F15 -> 73760
A16: LSR>> | B16: 44531 | C16: 107lasuca | D16: 11486 | E16: 99980 | F16: 25880 | G16: =E16-F16 -> 74100
A17: LSR>> | B17: 44531 | C17: 113lasuca | D17: 11489 | E17: 98600 | F17: 28620 | G17: =E17-F17 -> 69980
A18: LSR>> | B18: 44531 | C18: 108Lasuca | D18: 11491 | E18: 99240 | F18: 27780 | G18: =E18-F18 -> 71460
A19: LSR>> | B19: 44531 | C19: 75Lasuca | D19: 11493 | E19: 101620 | F19: 29340 | G19: =E19-F19 -> 72280
A20: LSR>> | B20: 44531 | C20: 106Lasuca | D20: 11495 | E20: 103580 | F20: 25680 | G20: =E20-F20 -> 77900
A21: LSR>> | B21: 44531 | C21: 124Lasuca | D21: 11500 | E21: 95460 | F21: 25240 | G21: =E21-F21 -> 70220
A22: LSR>> | B22: 44531 | C22: 107lasuca | D22: 11501 | E22: 97560 | F22: 25940 | G22: =E22-F22 -> 71620
A23: LSR>> | B23: 44531 | C23: 75Lasuca | D23: 11506 | E23: 101420 | F23: 29480 | G23: =E23-F23 -> 71940
A24: LSR>> | B24: 44531 | C24: 113lasuca | D24: 11507 | E24: 99240 | F24: 27640 | G24: =E24-F24 -> 71600
A25: LSR>> | B25: 44531 | C25: 108Lasuca | D25: 11508 | E25: 97940 | F25: 29680 | G25: =E25-F25 -> 68260
A26: LSR>> | B26: 44531 | C26: 106Lasuca | D26: 11509 | E26: 100420 | F26: 25620 | G26: =E26-F26 -> 74800
A27: LSR>> | B27: 44531 | C27: 113lasuca | D27: 11530 | E27: 96240 | F27: 27740 | G27: =E27-F27 -> 68500 | H27: =SUM(G14:G27) -> 1006040
A28: INPENDNT-LSR> | B28: 44531 | C28: G1-G5trkn | D28: 11477 | E28: 79980 | F28: 30600 | G28: =E28-F28 -> 49380
A29: INPENDNT-LSR> | B29: 44531 | C29: G3-G5trkn | D29: 11485 | E29: 95600 | F29: 31280 | G29: =E29-F29 -> 64320
A30: INPENDNT-LSR> | B30: 44531 | C30: G1-G5trkn | D30: 11488 | E30: 81780 | F30: 30680 | G30: =E30-F30 -> 51100 | H30: =SUM(G28:G30) -> 164800
A31: EarlPania-LSR>> | B31: 44531 | C31: 01EP | D31: 11476 | E31: 91840 | F31: 33740 | G31: =E31-F31 -> 58100
A32: EarlPania-LSR>> | B32: 44531 | C32: 203EP | D32: 11483 | E32: 96340 | F32: 33500 | G32: =E32-F32 -> 62840
A33: EarlPania-LSR>> | B33: 44531 | C33: 01EP | D33: 11492 | E33: 91100 | F33: 33540 | G33: =E33-F33 -> 57560
A34: EarlPania-LSR>> | B34: 44531 | C34: 27EP | D34: 11494 | E34: 91600 | F34: 33020 | G34: =E34-F34 -> 58580
A35: EarlPania-LSR>> | B35: 44531 | C35: 203EP | D35: 11496 | E35: 98120 | F35: 33040 | G35: =E35-F35 -> 65080
A36: EarlPania-LSR>> | B36: 44531 | C36: 27EP | D36: 11505 | E36: 93040 | F36: 33600 | G36: =E36-F36 -> 59440 | H36: =SUM(G31:G36) -> 361600
A37: Pacer -LSR>> | B37: 44531 | C37: 105pacer | D37: 4897 | E37: 96040 | F37: 35860 | G37: =E37-F37 -> 60180
A38: Pacer -LSR>> | B38: 44531 | C38: 106pacer | D38: 11527 | E38: 90300 | F38: 32320 | G38: =E38-F38 -> 57980
A39: Pacer -LSR>> | B39: 44531 | C39: 105pacer | D39: 11480 | E39: 101800 | F39: 35740 | G39: =E39-F39 -> 66060 | H39: =SUM(G37:G39) -> 184220
A40: I&M trucking-LSR | B40: 44531 | C40: 721-I&M | D40: 11481 | E40: 93600 | F40: 33220 | G40: =E40-F40 -> 60380 | H40: =G40 -> 60380
...

Sheet 12-02-2021
A1: 44532 | B1: 16laca | C1: 4916 | D1: 94180 | E1: 34140 | F1: =D1-E1 -> 60040
A2: 44532 | B2: 15laca | C2: 4920 | D2: 98280 | E2: 34740 | F2: =D2-E2 -> 63540
A3: 44532 | B3: 16laca | C3: 4922 | D3: 98220 | E3: 34740 | F3: =D3-E3 -> 63480
A4: 44532 | B4: 14laca | C4: 4923 | D4: 98040 | E4: 35140 | F4: =D4-E4 -> 62900
A5: 44532 | B5: 2laca | C5: 4924 | D5: 98200 | E5: 35100 | F5: =D5-E5 -> 63100
A6: 44532 | B6: 11laca | C6: 4925 | D6: 99780 | E6: 33440 | F6: =D6-E6 -> 66340
A7: 44532 | B7: 6Laca | C7: 4926 | D7: 98720 | E7: 34360 | F7: =D7-E7 -> 64360
A8: 44532 | B8: 15laca | C8: 4929 | D8: 99040 | E8: 34400 | F8: =D8-E8 -> 64640
A9: 44532 | B9: 5laca | C9: 4931 | D9: 99060 | E9: 34960 | F9: =D9-E9 -> 64100
A10: 44532 | B10: 2laca | C10: 4934 | D10: 97960 | E10: 35100 | F10: =D10-E10 -> 62860
A11: 44532 | B11: 11laca | C11: 4935 | D11: 99980 | E11: 34360 | F11: =D11-E11 -> 65620
A12: 44532 | B12: 15laca | C12: 11554 | D12: 100460 | E12: 35020 | F12: =D12-E12 -> 65440 | G12: =SUM(F1:F12) -> 766420
A13: 44532 | B13: 105pacer | C13: 4918 | D13: 98040 | E13: 35960 | F13: =D13-E13 -> 62080
A14: 44532 | B14: 105pacer | C14: 4927 | D14: 99420 | E14: 36440 | F14: =D14-E14 -> 62980
A15: 44532 | B15: 107pacer | C15: 11542 | D15: 96900 | E15: 34080 | F15: =D15-E15 -> 62820
A16: 44532 | B16: 1909pacer | C16: 11539 | D16: 98660 | E16: 33700 | F16: =D16-E16 -> 64960
A17: 44532 | B17: 1909pacer | C17: 11550 | D17: 105400 | E17: 34240 | F17: =D17-E17 -> 71160
A18: 44532 | B18: 107pacer | C18: 11553 | D18: 96260 | E18: 33460 | F18: =D18-E18 -> 62800 | G18: =SUM(F13:F18) -> 386800
A19: 44532 | B19: 106-I&M trkn | C19: 11541 | D19: 93760 | E19: 31760 | F19: =D19-E19 -> 62000
A20: 44532 | B20: 106-I&M trkn | C20: 11547 | D20: 86160 | E20: 31520 | F20: =D20-E20 -> 54640 | G20: =SUM(F19:F20) -> 116640
A21: 44532 | B21: 1 JayBradley | C21: 11534 | D21: 102680 | E21: 28500 | F21: =D21-E21 -> 74180
A22: 44532 | B22: 1 JayBradley | C22: 11552 | D22: 107660 | E22: 30060 | F22: =D22-E22 -> 77600
A23: 44532 | B23: 1 JayBradley | C23: 11573 | D23: 100620 | E23: 29520 | F23: =D23-E23 -> 71100
A24: 44532 | B24: 1 JayBradley | C24: 11581 | D24: 101200 | E24: 29640 | F24: =D24-E24 -> 71560 | G24: =SUM(F21:F24) -> 294440
A25: 44532 | B25: 107lasuca | C25: 11531 | D25: 99440 | E25: 26120 | F25: =D25-E25 -> 73320
A26: 44532 | B26: 106Lasuca | C26: 11533 | D26: 96500 | E26: 26020 | F26: =D26-E26 -> 70480
A27: 44532 | B27: 108Lasuca | C27: 11535 | D27: 99400 | E27: 27940 | F27: =D27-E27 -> 71460
A28: 44532 | B28: 124Lasuca | C28: 11536 | D28: 96820 | E28: 26140 | F28: =D28-E28 -> 70680
A29: 44532 | B29: 75Lasuca | C29: 11537 | D29: 99500 | E29: 29480 | F29: =D29-E29 -> 70020
A30: 44532 | B30: 106Lasuca | C30: 11544 | D30: 97520 | E30: 26800 | F30: =D30-E30 -> 70720
A31: 44532 | B31: 107lasuca | C31: 11545 | D31: 98600 | E31: 25540 | F31: =D31-E31 -> 73060
A32: 44532 | B32: 113lasuca | C32: 11548 | D32: 92240 | E32: 26740 | F32: =D32-E32 -> 65500
A33: 44532 | B33: 124Lasuca | C33: 11551 | D33: 96700 | E33: 26620 | F33: =D33-E33 -> 70080
A34: 44532 | B34: 108Lasuca | C34: 11558 | D34: 97920 | E34: 26500 | F34: =D34-E34 -> 71420
A35: 44532 | B35: 105lasuca | C35: 11559 | D35: 97660 | E35: 25980 | F35: =D35-E35 -> 71680
A36: 44532 | B36: 113lasuca | C36: 11569 | D36: 96700 | E36: 27320 | F36: =D36-E36 -> 69380
... A38: 44532 | B38: 107lasuca | C38: 11568 | D38: 97800 | E38: 25960 | F38: =D38-E38 -> 71840
A39: 44532 | B39: 105lasuca | C39: 11580 | D39: 99900 | E39: 27040 | F39: =D39-E39 -> 72860 | G39: =SUM(F25:F39) -> 1061660
A40: 44532 | B40: 27EP | C40: 11540 | D40: 95620 | E40: 33580 | F40: =D40-E40 -> 62040
A41: 44532 | B41: 27EP | C41: 11546 | D41: 95180 | E41: 33260 | F41: =D41-E41 -> 61920
...

Sheet 12-03-2021
A1: LSR>> | B1: 44533 | C1: 105pacer | D1: 4940 | E1: 97600 | F1: 36100 | G1: =E1-F1 -> 61500
A2: LSR>> | B2: 44533 | C2: 105pacer | D2: 4952 | E2: 99480 | F2: 35880 | G2: =E2-F2 -> 63600
A3: LSR>> | B3: 44533 | C3: 107pacer | D3: 11591 | E3: 97720 | F3: 34440 | G3: =E3-F3 -> 63280
A4: LSR>> | B4: 44533 | C4: 1909pacer | D4: 11588 | E4: 95460 | F4: 34060 | G4: =E4-F4 -> 61400
A5: LSR>> | B5: 44533 | C5: 107pacer | D5: 11603 | E5: 98600 | F5: 34100 | G5: =E5-F5 -> 64500
A6: LSR>> | B6: 44533 | C6: 105pacer | D6: 11612 | E6: 100400 | F6: 36380 | G6: =E6-F6 -> 64020
A7: LSR>> | B7: 44533 | C7: 107pacer | D7: 11637 | E7: 95960 | F7: 33720 | G7: =E7-F7 -> 62240 | I7: =SUM(G1:G7) -> 440540
A8: LSR>> | B8: 44533 | C8: 106-I&M trkn | D8: 11585 | E8: 93360 | F8: 32100 | G8: =E8-F8 -> 61260
A9: LSR>> | B9: 44533 | C9: 106-I&M trkn | D9: 11601 | E9: 87440 | F9: 32080 | G9: =E9-F9 -> 55360
A10: LSR>> | B10: 44533 | C10: 106-I&M trkn | D10: 11608 | E10: 91000 | F10: 31820 | G10: =E10-F10 -> 59180
A11: LSR>> | B11: 44533 | C11: 106-I&M trkn | D11: 11645 | E11: 94860 | F11: 32400 | G11: =E11-F11 -> 62460 | I11: =SUM(G8:G11) -> 238260
A12: LSR>> | B12: 44533 | C12: 125lasuca | D12: 11586 | E12: 98720 | F12: 26100 | G12: =E12-F12 -> 72620
A13: LSR>> | B13: 44533 | C13: 106Lasuca | D13: 11587 | E13: 96240 | F13: 25540 | G13: =E13-F13 -> 70700
A14: LSR>> | B14: 44533 | C14: 107lasuca | D14: 11590 | E14: 98260 | F14: 25820 | G14: =E14-F14 -> 72440
A15: LSR>> | B15: 44533 | C15: 113lasuca | D15: 11592 | E15: 97800 | F15: 26900 | G15: =E15-F15 -> 70900
A16: LSR>> | B16: 44533 | C16: 108Lasuca | D16: 11597 | E16: 99000 | F16: 26200 | G16: =E16-F16 -> 72800
A17: LSR>> | B17: 44533 | C17: 105lasuca | D17: 11602 | E17: 98800 | F17: 28720 | G17: =E17-F17 -> 70080
A18: LSR>> | B18: 44533 | C18: 106Lasuca | D18: 11604 | E18: 96180 | F18: 25840 | G18: =E18-F18 -> 70340
A19: LSR>> | B19: 44533 | C19: 107lasuca | D19: 11606 | E19: 99820 | F19: 26460 | G19: =E19-F19 -> 73360
A20: LSR>> | B20: 44533 | C20: 124Lasuca | D20: 11607 | E20: 98620 | F20: 26480 | G20: =E20-F20 -> 72140
A21: LSR>> | B21: 44533 | C21: 106Lasuca | D21: 11641 | E21: 96240 | F21: 25940 | G21: =E21-F21 -> 70300
A22: LSR>> | B22: 44533 | C22: 108Lasuca | D22: 11616 | E22: 95620 | F22: 28260 | G22: =E22-F22 -> 67360
A23: LSR>> | B23: 44533 | C23: 106Lasuca | D23: 11628 | E23: 95700 | F23: 25760 | G23: =E23-F23 -> 69940
... A28: LSR>> | B28: 44533 | C28: 105lasuca | D28: 11629 | E28: 96200 | F28: 28380 | G28: =E28-F28 -> 67820
A29: LSR>> | B29: 44533 | C29: 113lasuca | D29: 11634 | E29: 97940 | F29: 27860 | G29: =E29-F29 -> 70080 | I29: =SUM(G12:G29) -> 1276940
A30: LSR>> | B30: 44533 | C30: 01EP | D30: 11594 | E30: 91200 | F30: 33680 | G30: =E30-F30 -> 57520
A31: LSR>> | B31: 44533 | C31: 27EP | D31: 11596 | E31: 100500 | F31: 32600 | G31: =E31-F31 -> 67900
A32: LSR>> | B32: 44533 | C32: 27EP | D32: 11624 | E32: 94420 | F32: 33520 | G32: =E32-F32 -> 60900
A33: LSR>> | B33: 44533 | C33: 203EP | D33: 11646 | E33: 94220 | F33: 33060 | G33: =E33-F33 -> 61160 | I33: =SUM(G30:G33) -> 247480
A34: LSR>> | B34: 44533 | C34: 15-atchafalaya | D34: 11593 | E34: 89480 | F34: 25380 | G34: =E34-F34 -> 64100
A35: LSR>> | B35: 44533 | C35: 1-atchafalaya | D35: 11598 | E35: 84560 | F35: 29040 | G35: =E35-F35 -> 55520
A36: LSR>> | B36: 44533 | C36: 104atchafalaya | D36: 11600 | E36: 88120 | F36: 28840 | G36: =E36-F36 -> 59280
A37: LSR>> | B37: 44533 | C37: 15-atchafalaya | D37: 11605 | E37: 82940 | F37: 26380 | G37: =E37-F37 -> 56560
A38: LSR>> | B38: 44533 | C38: 104-atchafalaya | D38: 11640 | E38: 91900 | F38: 29540 | G38: =E38-F38 -> 62360
A39: LSR>> | B39: 44533 | C39: 104-atchafalaya | D39: 11611 | E39: 86600 | F39: 29980 | G39: =E39-F39 -> 56620
A40: LSR>> | B40: 44533 | C40: 104-atchafalaya | D40: 11630 | E40: 87020 | F40: 29800 | G40: =E40-F40 -> 57220 | I40: =SUM(G34:G40) -> 411660
A41: Caldwell Thib>> | B41: 44533 | C41: 5laca | D41: 11589 | E41: 96400 | F41: 35320 | G41: =E41-F41 -> 61080
A42: Caldwell Thib>> | B42: 44533 | C42: 2laca | D42: 11595 | E42: 97200 | F42: 34780 | G42: =E42-F42 -> 62420
A43: Caldwell Thib>> | B43: 44533 | C43: 15laca | D43: 4938 | E43: 97760 | F43: 34840 | G43: =E43-F43 -> 62920
A44: Caldwell Thib>> | B44: 44533 | C44: 16laca | D44: 4942 | E44: 96880 | F44: 34200 | G44: =E44-F44 -> 62680
...

Sheet 12-04-2021
A1: WH1 to LSR>> | B1: 44534 | C1: 107lasuca | D1: 11650 | E1: 95260 | F1: 26020 | G1: =E1-F1 -> 69240
A2: WH1 to LSR>> | B2: 44534 | C2: 105lasuca | D2: 11649 | E2: 99120 | F2: 27180 | G2: =E2-F2 -> 71940
A3: WH1 to LSR>> | B3: 44534 | C3: 113lasuca | D3: 11651 | E3: 98200 | F3: 28280 | G3: =E3-F3 -> 69920
A4: WH2 to LSR>> | B4: 44534 | C4: 124Lasuca | D4: 11659 | E4: 99400 | F4: 26880 | G4: =E4-F4 -> 72520
A5: WH1 to LSR>> | B5: 44534 | C5: 106Lasuca | D5: 11663 | E5: 98300 | F5: 26320 | G5: =E5-F5 -> 71980
A6: WH1 to LSR>> | B6: 44534 | C6: 107lasuca | D6: 11672 | E6: 96620 | F6: 26000 | G6: =E6-F6 -> 70620
A7: WH1 to LSR>> | B7: 44534 | C7: 108Lasuca | D7: 11665 | E7: 98560 | F7: 26700 | G7: =E7-F7 -> 71860
A8: WH2 to LSR>> | B8: 44534 | C8: 105lasuca | D8: 11666 | E8: 99080 | F8: 28760 | G8: =E8-F8 -> 70320
A9: WH2 to LSR>> | B9: 44534 | C9: 113lasuca | D9: 11674 | E9: 98280 | F9: 27400 | G9: =E9-F9 -> 70880
A10: WH2 to LSR>> | B10: 44534 | C10: 124Lasuca | D10: 11676 | E10: 97200 | F10: 27400 | G10: =E10-F10 -> 69800
A11: WH1 to LSR>> | B11: 44534 | C11: 108Lasuca | D11: 11682 | E11: 96420 | F11: 29340 | G11: =E11-F11 -> 67080
A12: WH2 to LSR>> | B12: 44534 | C12: 105lasuca | D12: 11686 | E12: 96280 | F12: 28260 | G12: =E12-F12 -> 68020
... A17: WH1 to LSR>> | B17: 44534 | C17: 106Lasuca | D17: 11678 | E17: 96760 | F17: 26060 | G17: =E17-F17 -> 70700
A18: WH2 to LSR>> | B18: 44534 | C18: 106Lasuca | D18: 11691 | E18: 96220 | F18: 26100 | G18: =E18-F18 -> 70120 | I18: =SUM(G1:G18) -> 1268120
A19: WH2 to LSR>> | B19: 44534 | C19: 27EP | D19: 11648 | E19: 100800 | F19: 33220 | G19: =E19-F19 -> 67580
A20: WH2 to LSR>> | B20: 44534 | C20: 27EP | D20: 11662 | E20: 101900 | F20: 33180 | G20: =E20-F20 -> 68720
A21: WH2 to LSR>> | B21: 44534 | C21: 01EP | D21: 11656 | E21: 93320 | F21: 33480 | G21: =E21-F21 -> 59840
A22: WH2 to LSR>> | B22: 44534 | C22: 203EP | D22: 11658 | E22: 92300 | F22: 32940 | G22: =E22-F22 -> 59360
A23: WH2 to LSR>> | B23: 44534 | C23: 01EP | D23: 11671 | E23: 95200 | F23: 34140 | G23: =E23-F23 -> 61060
A24: WH2 to LSR>> | B24: 44534 | C24: 203EP | D24: 11669 | E24: 96680 | F24: 32780 | G24: =E24-F24 -> 63900 | I24: =SUM(G19:G24) -> 380460
A25: WH2 to LSR>> | B25: 44534 | C25: 105pacer | D25: 4973 | E25: 98740 | F25: 36100 | G25: =E25-F25 -> 62640
A26: WH2 to LSR>> | B26: 44534 | C26: 107pacer | D26: 11655 | E26: 96620 | F26: 33700 | G26: =E26-F26 -> 62920
A27: WH2 to LSR>> | B27: 44534 | C27: 105pacer | D27: 11660 | E27: 99600 | F27: 35840 | G27: =E27-F27 -> 63760
A28: WH1 to LSR>> | B28: 44534 | C28: 105pacer | D28: 11670 | E28: 100800 | F28: 35220 | G28: =E28-F28 -> 65580 | I28: =SUM(G25:G28) -> 254900
A29: WH1 to LSR>> | B29: 44534 | C29: 1keithboone | D29: 11652 | E29: 81600 | F29: 28760 | G29: =E29-F29 -> 52840
A30: WH2 to LSR>> | B30: 44534 | C30: 1keithboone | D30: 11667 | E30: 84620 | F30: 29020 | G30: =E30-F30 -> 55600
A31: WH1to LSR>> | B31: 44534 | C31: 1keithboone | D31: 11681 | E31: 84380 | F31: 28940 | G31: =E31-F31 -> 55440 | I31: =SUM(G29:G31) -> 163880
A32: WH1 to LSR>> | B32: 44534 | C32: 01D&Jfinley | D32: 11653 | E32: 85020 | F32: 27480 | G32: =E32-F32 -> 57540
A33: WH1 to LSR>> | B33: 44534 | C33: 01D&Jfinley | D33: 11668 | E33: 83600 | F33: 28280 | G33: =E33-F33 -> 55320
A34: WH1 to LSR>> | B34: 44534 | C34: 01D&Jfinley | D34: 11680 | E34: 84280 | F34: 27720 | G34: =E34-F34 -> 56560 | I34: =SUM(G32:G34) -> 169420
A35: WH1 to LSR>> | B35: 44534 | C35: 106I&M trkn | D35: 11657 | E35: 95940 | F35: 32180 | G35: =E35-F35 -> 63760
A36: WH1 to LSR>> | B36: 44534 | C36: 106I&M trkn | D36: 11696 | E36: 93460 | F36: 32300 | G36: =E36-F36 -> 61160 | I36: =SUM(G35:G36) -> 124920
A37: WH1-caldwllThib | B37: 44534 | C37: 5laca | D37: 11661 | E37: 100060 | F37: 34600 | G37: =E37-F37 -> 65460
A38: WH1-caldwllThib | B38: 44534 | C38: 15laca | D38: 4977 | E38: 97920 | F38: 34780 | G38: =E38-F38 -> 63140
A39: WH1-caldwllThib | B39: 44534 | C39: 6Laca | D39: 4982 | E39: 97920 | F39: 33900 | G39: =E39-F39 -> 64020
A40: WH1-caldwllThib | B40: 44534 | C40: 14laca | D40: 4984 | E40: 98080 | F40: 35040 | G40: =E40-F40 -> 63040
A41: WH1-caldwllThib | B41: 44534 | C41: 15laca | D41: 4986 | E41: 98700 | F41: 34580 | G41: =E41-F41 -> 64120
A42: WH1-caldwllThib | B42: 44534 | C42: 16laca | D42: 4987 | E42: 99420 | F42: 34880 | G42: =E42-F42 -> 64540
A43: WH1-caldwllThib | B43: 44534 | C43: 5laca | D43: 4989 | E43: 95800 | F43: 34380 | G43: =E43-F43 -> 61420
A44: WH1-caldwllThib | B44: 44534 | C44: 16laca | D44: 4999 | E44: 97200 | F44: 34640 | G44: =E44-F44 -> 62560
...

Sheet 12-05-2021
A1: WH1 to LSR | B1: 44535 | C1: 105lasuca | D1: 10201 | E1: 98300 | F1: 27700 | G1: =E1-F1 -> 70600
A2: WH1 to LSR | B2: 44535 | C2: 124Lasuca | D2: 10204 | E2: 100700 | F2: 27000 | G2: =E2-F2 -> 73700
A3: WH1 to LSR | B3: 44535 | C3: 113lasuca | D3: 10205 | E3: 99420 | F3: 27960 | G3: =E3-F3 -> 71460
A4: WH1 to LSR | B4: 44535 | C4: 107lasuca | D4: 10213 | E4: 96200 | F4: 26440 | G4: =E4-F4 -> 69760
A5: WH1 to LSR | B5: 44535 | C5: 108Lasuca | D5: 10217 | E5: 100540 | F5: 27320 | G5: =E5-F5 -> 73220
A6: WH1 to LSR | B6: 44535 | C6: 105lasuca | D6: 10222 | E6: 96700 | F6: 27660 | G6: =E6-F6 -> 69040
A7: WH1 to LSR | B7: 44535 | C7: 106Lasuca | D7: 10231 | E7: 97140 | F7: 25980 | G7: =E7-F7 -> 71160
A8: WH1 to LSR | B8: 44535 | C8: 113lasuca | D8: 10232 | E8: 95260 | F8: 27500 | G8: =E8-F8 -> 67760
A9: WH1 to LSR | B9: 44535 | C9: 124Lasuca | D9: 10233 | E9: 96860 | F9: 26640 | G9: =E9-F9 -> 70220
A10: WH1 to LSR | B10: 44535 | C10: 107lasuca | D10: 10235 | E10: 98740 | F10: 26840 | G10: =E10-F10 -> 71900
A11: WH1 to LSR | B11: 44535 | C11: 105lasuca | D11: 10248 | E11: 96760 | F11: 29500 | G11: =E11-F11 -> 67260
A12: WH1 to LSR | B12: 44535 | C12: 108Lasuca | D12: 10236 | E12: 97760 | F12: 26200 | G12: =E12-F12 -> 71560
... A17: WH2 TO LSR>> | B17: 44535 | C17: 107pacer | D17: 10242 | E17: 96800 | F17: 34260 | G17: =E17-F17 -> 62540
A18: WH2 TO LSR>> | B18: 44535 | C18: 107pacer | D18: 10251 | E18: 98780 | F18: 34060 | G18: =E18-F18 -> 64720 | I18: =SUM(G1:G18) -> 1239100
A19: WH2 TO LSR>> | B19: 44535 | C19: 01EP | D19: 10203 | E19: 91360 | F19: 33880 | G19: =E19-F19 -> 57480
A20: WH2 TO LSR>> | B20: 44535 | C20: 27EP | D20: 10214 | E20: 103900 | F20: 33640 | G20: =E20-F20 -> 70260
A21: WH2 TO LSR>> | B21: 44535 | C21: 01EP | D21: 10221 | E21: 92940 | F21: 33700 | G21: =E21-F21 -> 59240
A22: WH1 TO LSR>> | B22: 44535 | C22: 27EP | D22: 10228 | E22: 94520 | F22: 33080 | G22: =E22-F22 -> 61440
A23: WH2 TO LSR>> | B23: 44535 | C23: 27EP | D23: 10241 | E23: 101640 | F23: 32740 | G23: =E23-F23 -> 68900 | I23: =SUM(G19:G23) -> 317320
A24: WH2 TO LSR>> | B24: 44535 | C24: 1jaybrad | D24: 10209 | E24: 111400 | F24: 29920 | G24: =E24-F24 -> 81480
A25: WH2 TO LSR>> | B25: 44535 | C25: 1jaybrad | D25: 10226 | E25: 100660 | F25: 30280 | G25: =E25-F25 -> 70380
A26: WH2 TO LSR>> | B26: 44535 | C26: 1jaybrad | D26: 10244 | E26: 103600 | F26: 29240 | G26: =E26-F26 -> 74360 | I26: =SUM(G24:G26) -> 226220
A27: WH2 TO LSR>> | B27: 44535 | C27: 01D&Jfinley | D27: 10211 | E27: 86240 | F27: 28160 | G27: =E27-F27 -> 58080
A28: WH2 TO LSR>> | B28: 44535 | C28: 01D&Jfinley | D28: 10230 | E28: 86800 | F28: 28120 | G28: =E28-F28 -> 58680 | I28: =SUM(G27:G28) -> 116760
A29: WH2 TO LSR>> | B29: 44535 | C29: 1keithboone | D29: 10210 | E29: 85440 | F29: 29360 | G29: =E29-F29 -> 56080
A30: WH2 TO LSR>> | B30: 44535 | C30: 1keithboone | D30: 10229 | E30: 86900 | F30: 29700 | G30: =E30-F30 -> 57200 | I30: =SUM(G29:G30) -> 113280
A31: WH2 TO LSR>> | B31: 44535 | C31: 106I&M trkn | D31: 10206 | E31: 94860 | F31: 32240 | G31: =E31-F31 -> 62620
A32: WH2 TO LSR>> | B32: 44535 | C32: 106I&M trkn | D32: 10249 | E32: 97740 | F32: 32380 | G32: =E32-F32 -> 65360 | I32: =SUM(G31:G32) -> 127980
A33: WH1 to LSR>> | B33: 44535 | C33: 24WFB | D33: 10224 | E33: 100360 | F33: 31180 | G33: =E33-F33 -> 69180
A34: WH2to LSR>> | B34: 44535 | C34: 24WFB | D34: 10243 | E34: 99680 | F34: 31480 | G34: =E34-F34 -> 68200 | I34: =SUM(G33:G34) -> 137380
A35: WH1 CarwllThib | B35: 44535 | C35: 15laca | D35: 10202 | E35: 99300 | F35: 34800 | G35: =E35-F35 -> 64500
A36: WH1 CarwllThib | B36: 44535 | C36: 6Laca | D36: 10215 | E36: 96500 | F36: 34100 | G36: =E36-F36 -> 62400
A37: WH2 CarwllThib | B37: 44535 | C37: 5laca | D37: 10250 | E37: 95960 | F37: 34380 | G37: =E37-F37 -> 61580
A38: WH1 CarwllThib | B38: 44535 | C38: 15laca | D38: 10234 | E38: 98700 | F38: 34500 | G38: =E38-F38 -> 64200
A39: WH2 CarwllThib | B39: 44535 | C39: 5laca | D39: 10245 | E39: 92320 | F39: 34000 | G39: =E39-F39 -> 58320
A40: WH2 CarwllThib | B40: 44535 | C40: 16laca | D40: 10240 | E40: 93960 | F40: 34800 | G40: =E40-F40 -> 59160
A41: WH2 CarwllThib | B41: 44535 | C41: 16laca | D41: 10218 | E41: 96520 | F41: 34140 | G41: =E41-F41 -> 62380
A42: WH2 CarwllThib | B42: 44535 | C42: 14laca | D42: 10219 | E42: 98720 | F42: 35000 | G42: =E42-F42 -> 63720
A43: WH2 CarwllThib | B43: 44535 | C43: 2laca | D43: 10220 | E43: 98060 | F43: 35000 | G43: =E43-F43 -> 63060
A44: WH2 CarwllThib | B44: 44535 | C44: 6Laca | D44: 10239 | E44: 95100 | F44: 34140 | G44: =E44-F44 -> 60960
...

Sheet 12-06-2021
A1: WH2 CarwllThib | B1: 44536 | C1: 15laca | D1: 10260 | E1: 99900 | F1: 34660 | G1: =E1-F1 -> 65240
A2: WH2 CarwllThib | B2: 44536 | C2: 16laca | D2: 10262 | E2: 97400 | F2: 34640 | G2: =E2-F2 -> 62760
A3: WH2 CarwllThib | B3: 44536 | C3: 5laca | D3: 10263 | E3: 98200 | F3: 33920 | G3: =E3-F3 -> 64280
A4: WH2 CarwllThib | B4: 44536 | C4: 6Laca | D4: 10264 | E4: 99400 | F4: 33940 | G4: =E4-F4 -> 65460
A5: WH2 CarwllThib | B5: 44536 | C5: 14laca | D5: 10266 | E5: 99640 | F5: 35040 | G5: =E5-F5 -> 64600
A6: WH2 CarwllThib | B6: 44536 | C6: 2laca | D6: 10267 | E6: 100300 | F6: 34980 | G6: =E6-F6 -> 65320
A7: WH2 CarwllThib | B7: 44536 | C7: 15laca | D7: 10269 | E7: 100900 | F7: 34420 | G7: =E7-F7 -> 66480
A8: WH2 CarwllThib | B8: 44536 | C8: 3laca | D8: 10271 | E8: 101220 | F8: 34720 | G8: =E8-F8 -> 66500
A9: WH2 CarwllThib | B9: 44536 | C9: 6Laca | D9: 5051 | E9: 96660 | F9: 33700 | G9: =E9-F9 -> 62960
A10: WH2 CarwllThib | B10: 44536 | C10: 5laca | D10: 5050 | E10: 97340 | F10: 33660 | G10: =E10-F10 -> 63680
A11: WH2 CarwllThib | B11: 44536 | C11: 14laca | D11: 5053 | E11: 99820 | F11: 34780 | G11: =E11-F11 -> 65040
A12: WH2 CarwllThib | B12: 44536 | C12: 5laca | D12: 5081 | E12: 99080 | F12: 34420 | G12: =E12-F12 -> 64660
... A17: WH2 CarwllThib | B17: 44536 | C17: 15laca | D17: 10277 | E17: 100120 | F17: 34160 | G17: =E17-F17 -> 65960
A18: WH2 CarwllThib | B18: 44536 | C18: 3laca | D18: 10296 | E18: 97900 | F18: 33980 | G18: =E18-F18 -> 63920 | I18: =SUM(G1:G18) -> 1157500
A19: WH2 TO LSR>> | B19: 44536 | C19: 27EP | D19: 10256 | E19: 103300 | F19: 32320 | G19: =E19-F19 -> 70980
A20: WH2 TO LSR>> | B20: 44536 | C20: 27EP | D20: 10258 | E20: 101300 | F20: 33160 | G20: =E20-F20 -> 68140
A21: WH2 TO LSR>> | B21: 44536 | C21: 27EP | D21: 10284 | E21: 95860 | F21: 33560 | G21: =E21-F21 -> 62300 | I21: =SUM(G19:G21) -> 201420
A22: WH2 TO LSR>> | B22: 44536 | C22: 105pacer | D22: 10259 | E22: 103600 | F22: 36440 | G22: =E22-F22 -> 67160
A23: WH2 TO LSR>> | B23: 44536 | C23: 105pacer | D23: 10265 | E23: 103500 | F23: 36140 | G23: =E23-F23 -> 67360
A24: WH2 TO LSR>> | B24: 44536 | C24: 1909pacer | D24: 10273 | E24: 105900 | F24: 34080 | G24: =E24-F24 -> 71820
A25: WH2 TO LSR>> | B25: 44536 | C25: 105pacer | D25: 10274 | E25: 106560 | F25: 35860 | G25: =E25-F25 -> 70700
A26: WH2 TO LSR>> | B26: 44536 | C26: 107pacer | D26: 10293 | E26: 99040 | F26: 34420 | G26: =E26-F26 -> 64620 | I26: =SUM(G22:G26) -> 341660
A27: WH2 TO LSR>> | B27: 44536 | C27: 106I&M trkn | D27: 10257 | E27: 94120 | F27: 32300 | G27: =E27-F27 -> 61820
A28: WH2 TO LSR>> | B28: 44536 | C28: 106I&M trkn | D28: 10292 | E28: 95920 | F28: 32420 | G28: =E28-F28 -> 63500
A29: WH2 TO LSR>> | B29: 44536 | C29: M-05 FORTIE | D29: 10261 | E29: 101720 | F29: 34180 | G29: =E29-F29 -> 67540
A30: WH2 TO LSR>> | B30: 44536 | C30: 01D&Jfinley | D30: 10297 | E30: 85400 | F30: 29700 | G30: =E30-F30 -> 55700
A31: WH2 TO LSR>> | B31: 44536 | C31: 1keithboone | D31: 10298 | E31: 88300 | F31: 29680 | G31: =E31-F31 -> 58620 | I31: =SUM(G27:G31) -> 307180
A32: WH2 TO LSR>> | B32: 44536 | C32: 107lasuca | D32: 10295 | E32: 99200 | F32: 27000 | G32: =E32-F32 -> 72200
A33: WH2 TO LSR>> | B33: 44536 | C33: 105lasuca | D33: 10294 | E33: 98640 | F33: 28380 | G33: =E33-F33 -> 70260
A34: WH2 TO LSR>> | B34: 44536 | C34: 106Lasuca | D34: 10283 | E34: 95300 | F34: 34100 | G34: =E34-F34 -> 61200
A35: WH2 TO LSR>> | B35: 44536 | C35: 113lasuca | D35: 10289 | E35: 99600 | F35: 27060 | G35: =E35-F35 -> 72540 | I35: =SUM(G32:G35) -> 276200
A36: WH2 TO CSC>> | B36: 44536 | C36: 17CSC | D36: 10285 | E36: 84380 | F36: 30300 | G36: =E36-F36 -> 54080
A37: WH2 TO CSC>> | B37: 44536 | C37: 8732csc | D37: 10286 | E37: 82620 | F37: 31460 | G37: =E37-F37 -> 51160
A38: WH2 TO CSC>> | B38: 44536 | C38: 1974csc | D38: 10287 | E38: 81620 | F38: 28780 | G38: =E38-F38 -> 52840
A39: WH2 TO CSC>> | B39: 44536 | C39: 148csc | D39: 10288 | E39: 78740 | F39: 29840 | G39: =E39-F39 -> 48900
A40: WH2 TO CSC>> | B40: 44536 | C40: 193csc | D40: 10290 | E40: 79140 | F40: 30820 | G40: =E40-F40 -> 48320
A41: WH2 TO CSC>> | B41: 44536 | C41: 229csc | D41: 10291 | E41: 81280 | F41: 28760 | G41: =E41-F41 -> 52520
A42: WH2 TO CSC>> | B42: 44536 | C42: 03csc | D42: 10281 | E42: 83060 | F42: 25300 | G42: =E42-F42 -> 57760
A43: WH2 TO CSC>> | B43: 44536 | C43: 01csc | D43: 10280 | E43: 83440 | F43: 29660 | G43: =E43-F43 -> 53780
A44: WH2 TO CSC>> | B44: 44536 | C44: 226csc | D44: 10279 | E44: 89280 | F44: 28500 | G44: =E44-F44 -> 60780
...

Sheet 12-07-2021
A1: WH1 CarwllThib | B1: 44537 | C1: 5laca | D1: 5084 | E1: 95480 | F1: 34000 | G1: =E1-F1 -> 61480
A2: WH1 CarwllThib | B2: 44537 | C2: 6Laca | D2: 5085 | E2: 97580 | F2: 34180 | G2: =E2-F2 -> 63400
A3: WH1 CarwllThib | B3: 44537 | C3: 15laca | D3: 5086 | E3: 97240 | F3: 34740 | G3: =E3-F3 -> 62500
A4: WH1 CarwllThib | B4: 44537 | C4: 5laca | D4: 5090 | E4: 98080 | F4: 33960 | G4: =E4-F4 -> 64120
A5: WH1 CarwllThib | B5: 44537 | C5: 6Laca | D5: 5091 | E5: 96940 | F5: 34160 | G5: =E5-F5 -> 62780
A6: WH1 CarwllThib | B6: 44537 | C6: 15laca | D6: 5092 | E6: 96900 | F6: 34440 | G6: =E6-F6 -> 62460
A7: WH1 CarwllThib | B7: 44537 | C7: 5laca | D7: 5097 | E7: 98480 | F7: 33740 | G7: =E7-F7 -> 64740
A8: WH1 CarwllThib | B8: 44537 | C8: 15laca | D8: 5099 | E8: 99660 | F8: 34160 | G8: =E8-F8 -> 65500
A9: WH1 CarwllThib | B9: 44537 | C9: 2laca | D9: 5101 | E9: 95700 | F9: 34520 | G9: =E9-F9 -> 61180
A10: WH1 CarwllThib | B10: 44537 | C10: 5laca | D10: 5103 | E10: 97020 | F10: 34440 | G10: =E10-F10 -> 62580
A11: WH2 CarwllThib | B11: 44537 | C11: 3laca | D11: 11730 | E11: 101000 | F11: 34500 | G11: =E11-F11 -> 66500
A12: WH2 CarwllThib | B12: 44537 | C12: 6Laca | D12: 5098 | E12: 98400 | F12: 33920 | G12: =E12-F12 -> 64480
... A15: WH2 CarwllThib | B15: 44537 | C15: 3laca | D15: 11702 | E15: 98500 | F15: 33780 | G15: =E15-F15 -> 64720
A16: WH2 CarwllThib | B16: 44537 | C16: 6Laca | D16: 11757 | E16: 105000 | F16: 33740 | G16: =E16-F16 -> 71260 | I16: =SUM(G1:G16) -> 1028420
A17: WH1 TO LSR>> | B17: 44537 | C17: 01EP | D17: 10301 | E17: 92400 | F17: 34140 | G17: =E17-F17 -> 58260
A18: WH2 TO LSR>> | B18: 44537 | C18: 27EP | D18: 10302 | E18: 100440 | F18: 33340 | G18: =E18-F18 -> 67100
A19: WH2 TO LSR>> | B19: 44537 | C19: 01EP | D19: 11708 | E19: 92320 | F19: 33960 | G19: =E19-F19 -> 58360
A20: WH2 TO LSR>> | B20: 44537 | C20: 27EP | D20: 11709 | E20: 103600 | F20: 32980 | G20: =E20-F20 -> 70620
A21: WH2 TO LSR>> | B21: 44537 | C21: 357EP | D21: 11712 | E21: 81380 | F21: 32840 | G21: =E21-F21 -> 48540
A22: WH2 TO LSR>> | B22: 44537 | C22: 203EP | D22: 11723 | E22: 94420 | F22: 33400 | G22: =E22-F22 -> 61020
A23: WH2 TO LSR>> | B23: 44537 | C23: 27EP | D23: 11728 | E23: 102300 | F23: 32760 | G23: =E23-F23 -> 69540
A24: WH2 TO LSR>> | B24: 44537 | C24: 203EP | D24: 11738 | E24: 90100 | F24: 33200 | G24: =E24-F24 -> 56900
A25: WH1 TO LSR | B25: 44537 | C25: 357EP | D25: 11734 | E25: 81600 | F25: 34680 | G25: =E25-F25 -> 46920
A26: WH2 TO LSR | B26: 44537 | C26: 203EP | D26: 11756 | E26: 98500 | F26: 33060 | G26: =E26-F26 -> 65440 | I26: =SUM(G17:G26) -> 602700
A27: WH2 TO LSR>> | B27: 44537 | C27: 105pacer | D27: 11701 | E27: 105000 | F27: 36200 | G27: =E27-F27 -> 68800
A28: WH2 TO LSR>> | B28: 44537 | C28: 1909pacer | D28: 11703 | E28: 101300 | F28: 34460 | G28: =E28-F28 -> 66840
A29: WH2 TO LSR>> | B29: 44537 | C29: 107pacer | D29: 11707 | E29: 95780 | F29: 34280 | G29: =E29-F29 -> 61500
A30: WH2 TO LSR>> | B30: 44537 | C30: 105pacer | D30: 11716 | E30: 103480 | F30: 36120 | G30: =E30-F30 -> 67360
A31: WH2 TO LSR>> | B31: 44537 | C31: 1909pacer | D31: 11721 | E31: 101200 | F31: 34280 | G31: =E31-F31 -> 66920
A32: WH2 TO LSR>> | B32: 44537 | C32: 107pacer | D32: 11750 | E32: 101940 | F32: 34900 | G32: =E32-F32 -> 67040 | I32: =SUM(G27:G32) -> 398460
A33: WH1 TO LSR>> | B33: 44537 | C33: 124Lasuca | D33: 10300 | E33: 95900 | F33: 28140 | G33: =E33-F33 -> 67760
A34: WH1 TO LSR>> | B34: 44537 | C34: 106Lasuca | D34: 11698 | E34: 97000 | F34: 26640 | G34: =E34-F34 -> 70360
A35: WH1 TO LSR>> | B35: 44537 | C35: 108Lasuca | D35: 11699 | E35: 99160 | F35: 26420 | G35: =E35-F35 -> 72740
A36: WH1 TO LSR>> | B36: 44537 | C36: 113lasuca | D36: 11700 | E36: 97000 | F36: 29400 | G36: =E36-F36 -> 67600
A37: WH1 TO LSR>> | B37: 44537 | C37: 107lasuca | D37: 11710 | E37: 98220 | F37: 26860 | G37: =E37-F37 -> 71360
A38: WH1 TO LSR>> | B38: 44537 | C38: 105lasuca | D38: 11711 | E38: 109700 | F38: 29960 | G38: =E38-F38 -> 79740
A39: WH1 TO LSR>> | B39: 44537 | C39: 124Lasuca | D39: 11718 | E39: 95060 | F39: 27280 | G39: =E39-F39 -> 67780
A40: WH1 TO LSR>> | B40: 44537 | C40: 106Lasuca | D40: 11720 | E40: 98220 | F40: 26200 | G40: =E40-F40 -> 72020
A41: WH2 TO LSR>> | B41: 44537 | C41: 108Lasuca | D41: 11722 | E41: 102120 | F41: 27140 | G41: =E41-F41 -> 74980
A42: WH1 TO LSR>> | B42: 44537 | C42: 113lasuca | D42: 11726 | E42: 99640 | F42: 28480 | G42: =E42-F42 -> 71160
...

Sheet 12-08-2021
A1: WH1 TO LSR | B1: 44538 | C1: 108Lasuca | D1: 11769 | E1: 99600 | F1: 26760 | G1: =E1-F1 -> 72840
A2: WH1 TO LSR | B2: 44538 | C2: 75Lasuca | D2: 11772 | E2: 100540 | F2: 33960 | G2: =E2-F2 -> 66580
A3: WH1 TO LSR | B3: 44538 | C3: 106Lasuca | D3: 11759 | E3: 98200 | F3: 25680 | G3: =E3-F3 -> 72520
A4: WH1 TO LSR | B4: 44538 | C4: 105lasuca | D4: 11762 | E4: 96300 | F4: 27780 | G4: =E4-F4 -> 68520
A5: WH1 TO LSR | B5: 44538 | C5: 113lasuca | D5: 11763 | E5: 97000 | F5: 27240 | G5: =E5-F5 -> 69760
A6: WH2 TO LSR | B6: 44538 | C6: 105lasuca | D6: 11785 | E6: 98400 | F6: 28560 | G6: =E6-F6 -> 69840
A7: WH1 TO LSR | B7: 44538 | C7: 106Lasuca | D7: 11786 | E7: 98100 | F7: 26860 | G7: =E7-F7 -> 71240
A8: WH1 TO LSR | B8: 44538 | C8: 113lasuca | D8: 11788 | E8: 98900 | F8: 29040 | G8: =E8-F8 -> 69860
A9: WH2 TO LSR | B9: 44538 | C9: 108Lasuca | D9: 11791 | E9: 100400 | F9: 26540 | G9: =E9-F9 -> 73860
A10: WH2 TO LSR | B10: 44538 | C10: 75Lasuca | D10: 11825 | E10: 96060 | F10: 33620 | G10: =E10-F10 -> 62440
A11: WH2 TO LSR | B11: 44538 | C11: 113lasuca | D11: 11820 | E11: 98000 | F11: 38640 | G11: =E11-F11 -> 59360
A12: WH2 TO LSR | B12: 44538 | C12: 108Lasuca | D12: 11819 | E12: 99200 | F12: 26620 | G12: =E12-F12 -> 72580
... A17: WH2 TO LSR | B17: 44538 | C17: 75Lasuca | D17: 11802 | E17: 99140 | F17: 33600 | G17: =E17-F17 -> 65540
A18: WH1 TO LSR | B18: 44538 | C18: 105lasuca | D18: 11828 | E18: 101900 | F18: 27840 | G18: =E18-F18 -> 74060 | I18: =SUM(G1:G18) -> 1256500
A19: WH2 TO LSR | B19: 44538 | C19: 01EP | D19: 11775 | E19: 95240 | F19: 33820 | G19: =E19-F19 -> 61420
A20: WH2 TO LSR | B20: 44538 | C20: 27EP | D20: 11777 | E20: 104000 | F20: 32560 | G20: =E20-F20 -> 71440
A21: WH2 TO LSR | B21: 44538 | C21: 357EP | D21: 11778 | E21: 84220 | F21: 33600 | G21: =E21-F21 -> 50620
A22: WH2 TO LSR | B22: 44538 | C22: 203EP | D22: 11780 | E22: 95560 | F22: 34120 | G22: =E22-F22 -> 61440
A23: WH2 TO LSR | B23: 44538 | C23: 68ep | D23: 11805 | E23: 91860 | F23: 29020 | G23: =E23-F23 -> 62840
A24: WH2 TO LSR | B24: 44538 | C24: 27EP | D24: 11807 | E24: 98820 | F24: 33080 | G24: =E24-F24 -> 65740
A25: WH2 TO LSR | B25: 44538 | C25: 203EP | D25: 11806 | E25: 96400 | F25: 33080 | G25: =E25-F25 -> 63320
A26: WH2 TO LSR | B26: 44538 | C26: 01EP | D26: 11797 | E26: 99500 | F26: 33980 | G26: =E26-F26 -> 65520 | I26: =SUM(G19:G26) -> 502340
A27: WH2 TO LSR | B27: 44538 | C27: 107pacer | D27: 11764 | E27: 100500 | F27: 34660 | G27: =E27-F27 -> 65840
A28: WH1 TO LSR | B28: 44538 | C28: 105pacer | D28: 11773 | E28: 105060 | F28: 36460 | G28: =E28-F28 -> 68600
A29: WH2 TO LSR | B29: 44538 | C29: 105pacer | D29: 11761 | E29: 105000 | F29: 35600 | G29: =E29-F29 -> 69400
A30: WH2 TO LSR | B30: 44538 | C30: 1909pacer | D30: 11803 | E30: 101400 | F30: 34160 | G30: =E30-F30 -> 67240
A31: WH2 TO LSR | B31: 44538 | C31: 107pacer | D31: 11824 | E31: 96560 | F31: 34000 | G31: =E31-F31 -> 62560
A32: WH2 TO LSR | B32: 44538 | C32: 107pacer | D32: 11814 | E32: 91260 | F32: 34020 | G32: =E32-F32 -> 57240
A33: WH2 TO LSR | B33: 44538 | C33: 105pacer | D33: 11795 | E33: 105060 | F33: 36100 | G33: =E33-F33 -> 68960 | I33: =SUM(G27:G33) -> 459840
A34: WH1 TO LSR | B34: 44538 | C34: 1keithboone | D34: 11766 | E34: 86880 | F34: 29560 | G34: =E34-F34 -> 57320
A35: WH2 TO LSR | B35: 44538 | C35: 1keithboone | D35: 11782 | E35: 85220 | F35: 29920 | G35: =E35-F35 -> 55300 | I35: =SUM(G34:G35) -> 112620
A36: WH2 TO LSR | B36: 44538 | C36: M-05 FORTIE | D36: 11770 | E36: 104000 | F36: 34480 | G36: =E36-F36 -> 69520
A37: WH2 TO LSR | B37: 44538 | C37: M-05 FORTIE | D37: 11784 | E37: 107180 | F37: 34760 | G37: =E37-F37 -> 72420
A38: WH2 TO LSR | B38: 44538 | C38: M-05 FORTIE | D38: 11821 | E38: 104680 | F38: 35260 | G38: =E38-F38 -> 69420 | I38: =SUM(G36:G38) -> 211360
A39: WH2 TO LSR | B39: 44538 | C39: 01D&Jfinley | D39: 11767 | E39: 86800 | F39: 28420 | G39: =E39-F39 -> 58380
A40: WH2 TO LSR | B40: 44538 | C40: 01D&Jfinley | D40: 11783 | E40: 86580 | F40: 29140 | G40: =E40-F40 -> 57440 | I40: =SUM(G39:G40) -> 115820
A41: WH2 TO LSR | B41: 44538 | C41: 1southprestige | D41: 11776 | E41: 110000 | F41: 28640 | G41: =E41-F41 -> 81360
A42: WH2 TO LSR | B42: 44538 | C42: 1southprestige | D42: 11818 | E42: 110780 | F42: 29740 | G42: =E42-F42 -> 81040
A43: WH2 TO LSR | B43: 44538 | C43: 1southprestige | D43: 11798 | E43: 109060 | F43: 30000 | G43: =E43-F43 -> 79060 | I43: =SUM(G41:G43) -> 241460
A44: WH2 TO LSR | B44: 44538 | C44: 1jaybrad | D44: 11817 | E44: 109320 | F44: 29980 | G44: =E44-F44 -> 79340
...

Sheet 12-09-2021
A1: WH1 TO LSR>> | B1: 44539 | C1: 107lasuca | D1: 11830 | E1: 98800 | F1: 26760 | G1: =E1-F1 -> 72040
A2: WH1 TO LSR>> | B2: 44539 | C2: 113lasuca | D2: 11842 | E2: 98500 | F2: 27720 | G2: =E2-F2 -> 70780
A3: WH1 TO LSR>> | B3: 44539 | C3: 108Lasuca | D3: 11843 | E3: 98900 | F3: 26180 | G3: =E3-F3 -> 72720
A4: WH1 TO LSR>> | B4: 44539 | C4: 106Lasuca | D4: 11846 | E4: 97300 | F4: 25740 | G4: =E4-F4 -> 71560
A5: WH1 TO LSR>> | B5: 44539 | C5: 107lasuca | D5: 11856 | E5: 98340 | F5: 26220 | G5: =E5-F5 -> 72120
A6: WH1 TO LSR>> | B6: 44539 | C6: 75Lasuca | D6: 11848 | E6: 94800 | F6: 34380 | G6: =E6-F6 -> 60420
A7: WH2 TO LSR>> | B7: 44539 | C7: 105lasuca | D7: 11851 | E7: 98600 | F7: 28780 | G7: =E7-F7 -> 69820
A8: WH2 TO LSR>> | B8: 44539 | C8: 75Lasuca | D8: 11869 | E8: 98820 | F8: 33980 | G8: =E8-F8 -> 64840
A9: WH2 TO LSR>> | B9: 44539 | C9: 105lasuca | D9: 11870 | E9: 96280 | F9: 27780 | G9: =E9-F9 -> 68500
A10: WH2 TO LSR>> | B10: 44539 | C10: 107lasuca | D10: 11875 | E10: 96040 | F10: 26600 | G10: =E10-F10 -> 69440
A11: WH2 TO LSR>> | B11: 44539 | C11: 108Lasuca | D11: 11877 | E11: 97440 | F11: 26160 | G11: =E11-F11 -> 71280
A12: WH2 TO LSR>> | B12: 44539 | C12: 113lasuca | D12: 11878 | E12: 98900 | F12: 28160 | G12: =E12-F12 -> 70740
... A16: WH1 TO LSR>> | B16: 44539 | C16: 108Lasuca | D16: 11862 | E16: 96780 | F16: 26920 | G16: =E16-F16 -> 69860
A17: WH1 TO LSR>> | B17: 44539 | C17: 113lasuca | D17: 11861 | E17: 96400 | F17: 27160 | G17: =E17-F17 -> 69240 | I17: =SUM(G1:G17) -> 1178020
A18: WH2 TO LSR>> | B18: 44539 | C18: 27EP | D18: 11834 | E18: 103500 | F18: 33440 | G18: =E18-F18 -> 70060
A19: WH2 TO LSR>> | B19: 44539 | C19: 68EP | D19: 11835 | E19: 91100 | F19: 29420 | G19: =E19-F19 -> 61680
A20: WH2 TO LSR>> | B20: 44539 | C20: 203EP | D20: 11840 | E20: 94960 | F20: 33100 | G20: =E20-F20 -> 61860
A21: WH2 TO LSR>> | B21: 44539 | C21: 357EP | D21: 11845 | E21: 84740 | F21: 33680 | G21: =E21-F21 -> 51060
A22: WH2 TO LSR>> | B22: 44539 | C22: 01EP | D22: 11855 | E22: 100900 | F22: 34040 | G22: =E22-F22 -> 66860
A23: WH2 TO LSR>> | B23: 44539 | C23: 27EP | D23: 11847 | E23: 102000 | F23: 33180 | G23: =E23-F23 -> 68820
A24: WH2 TO LSR>> | B24: 44539 | C24: 203EP | D24: 11884 | E24: 96260 | F24: 33600 | G24: =E24-F24 -> 62660
A25: WH2 TO LSR>> | B25: 44539 | C25: 357EP | D25: 11860 | E25: 85160 | F25: 34800 | G25: =E25-F25 -> 50360
A26: WH2 TO LSR>> | B26: 44539 | C26: 27EP | D26: 11886 | E26: 99700 | F26: 32840 | G26: =E26-F26 -> 66860 | I26: =SUM(G18:G26) -> 560220
A27: WH2 TO LSR>> | B27: 44539 | C27: 3-G5 TRKN | D27: 11836 | E27: 96700 | F27: 31060 | G27: =E27-F27 -> 65640
A28: WH2 TO LSR>> | B28: 44539 | C28: 3-G5 TRKN | D28: 11850 | E28: 95100 | F28: 30960 | G28: =E28-F28 -> 64140 | I28: =SUM(G27:G28) -> 129780
A29: WH2 TO LSR>> | B29: 44539 | C29: 105pacer | D29: 11833 | E29: 100500 | F29: 36300 | G29: =E29-F29 -> 64200
A30: WH2 TO LSR>> | B30: 44539 | C30: 105pacer | D30: 5172 | E30: 99620 | F30: 36340 | G30: =E30-F30 -> 63280
A31: WH2 TO LSR>> | B31: 44539 | C31: 107pacer | D31: 11880 | E31: 98580 | F31: 34660 | G31: =E31-F31 -> 63920 | I31: =SUM(G29:G31) -> 191400
A32: WH2 TO LSR>> | B32: 44539 | C32: 1keithboone | D32: 11844 | E32: 85800 | F32: 30200 | G32: =E32-F32 -> 55600
A33: WH2 TO LSR>> | B33: 44539 | C33: 1keithboone | D33: 11852 | E33: 87060 | F33: 29960 | G33: =E33-F33 -> 57100
A34: WH2 TO LSR>> | B34: 44539 | C34: 1keithboone | D34: 11865 | E34: 87880 | F34: 29320 | G34: =E34-F34 -> 58560 | I34: =SUM(G32:G34) -> 171260
A35: WH2 TO LSR>> | B35: 44539 | C35: M-05 FORTIE | D35: 11839 | E35: 103960 | F35: 35100 | G35: =E35-F35 -> 68860
A36: WH2 TO LSR>> | B36: 44539 | C36: M-05 FORTIE | D36: 11882 | E36: 104260 | F36: 35020 | G36: =E36-F36 -> 69240 | I36: =SUM(G35:G36) -> 138100
A37: WH2 TO LSR>> | B37: 44539 | C37: 37JBRADLEY | D37: 11829 | E37: 113000 | F37: 30340 | G37: =E37-F37 -> 82660
A38: WH2 TO LSR>> | B38: 44539 | C38: 37JBRADLEY | D38: 11857 | E38: 111080 | F38: 29960 | G38: =E38-F38 -> 81120
A39: WH2 TO LSR>> | B39: 44539 | C39: 37JBRADLEY | D39: 11873 | E39: 103980 | F39: 31340 | G39: =E39-F39 -> 72640 | I39: =SUM(G37:G39) -> 236420
A40: WH2 TO LSR>> | B40: 44539 | C40: 01southprestige | D40: 11831 | E40: 111900 | F40: 29500 | G40: =E40-F40 -> 82400 | I40: =G40 -> 82400
A41: WH2 TO LSR>> | B41: 44539 | C41: 15AtchSfd | D41: 11858 | E41: 94480 | F41: 26640 | G41: =E41-F41 -> 67840
A42: WH2 TO LSR>> | B42: 44539 | C42: 104AtchSfd | D42: 11871 | E42: 92620 | F42: 29740 | G42: =E42-F42 -> 62880
A43: WH2 TO LSR>> | B43: 44539 | C43: 15AtchSfd | D43: 11872 | E43: 90260 | F43: 26780 | G43: =E43-F43 -> 63480
...

Sheet 12-10-2021
A1: WH2 CarwllThib | B1: 44540 | C1: 15laca | D1: 11895 | E1: 100700 | F1: 34760 | G1: =E1-F1 -> 65940
A2: WH2 CarwllThib | B2: 44540 | C2: 5laca | D2: 11905 | E2: 97200 | F2: 34520 | G2: =E2-F2 -> 62680
A3: WH2 CarwllThib | B3: 44540 | C3: 14laca | D3: 11906 | E3: 98000 | F3: 35200 | G3: =E3-F3 -> 62800
A4: WH2 CarwllThib | B4: 44540 | C4: 2laca | D4: 11907 | E4: 94700 | F4: 34960 | G4: =E4-F4 -> 59740
A5: WH1 CarwllThib | B5: 44540 | C5: 16laca | D5: 11910 | E5: 99600 | F5: 34360 | G5: =E5-F5 -> 65240
A6: WH1 CarwllThib | B6: 44540 | C6: 6Laca | D6: 11911 | E6: 98600 | F6: 33920 | G6: =E6-F6 -> 64680
A7: WH2 CarwllThib | B7: 44540 | C7: 15laca | D7: 11913 | E7: 99500 | F7: 34480 | G7: =E7-F7 -> 65020 | I7: =SUM(G1:G7) -> 446100
A8: WH1 CarwllThib | B8: 44540 | C8: 5laca | D8: 5195 | E8: 95800 | F8: 34300 | G8: =E8-F8 -> 61500
A9: WH1 CarwllThib | B9: 44540 | C9: 14laca | D9: 5196 | E9: 98640 | F9: 34780 | G9: =E9-F9 -> 63860
A10: WH1 CarwllThib | B10: 44540 | C10: 2laca | D10: 11921 | E10: 100180 | F10: 34620 | G10: =E10-F10 -> 65560 | I10: =SUM(G8:G10) -> 190920
A11: WH2 CarwllThib | B11: 44540 | C11: 15laca | D11: 11923 | E11: 100200 | F11: 34020 | G11: =E11-F11 -> 66180
A12: WH2 CarwllThib | B12: 44540 | C12: 6Laca | D12: 11924 | E12: 94440 | F12: 33580 | G12: =E12-F12 -> 60860
A13: WH1 CarwllThib | B13: 44540 | C13: 5laca | D13: 5202 | E13: 98620 | F13: 33860 | G13: =E13-F13 -> 64760
A14: WH1 CarwllThib | B14: 44540 | C14: 14laca | D14: 5204 | E14: 99200 | F14: 34580 | G14: =E14-F14 -> 64620
A15: WH2 CarwllThib | B15: 44540 | C15: 2laca | D15: 5205 | E15: 99240 | F15: 34340 | G15: =E15-F15 -> 64900
A16: WH2 CarwllThib | B16: 44540 | C16: 16laca | D16: 5206 | E16: 97820 | F16: 34120 | G16: =E16-F16 -> 63700 | I16: =SUM(G11:G16) -> 385020
A17: WH1 TO LSR>> | B17: 44540 | C17: 01EP | D17: 11890 | E17: 93080 | F17: 33780 | G17: =E17-F17 -> 59300
A18: WH1 TO LSR>> | B18: 44540 | C18: 357EP | D18: 11892 | E18: 83640 | F18: 34680 | G18: =E18-F18 -> 48960
A19: WH1 TO LSR>> | B19: 44540 | C19: 203EP | D19: 11898 | E19: 95700 | F19: 33520 | G19: =E19-F19 -> 62180
A20: WH1 TO LSR>> | B20: 44540 | C20: 01EP | D20: 11912 | E20: 92440 | F20: 33640 | G20: =E20-F20 -> 58800
A21: WH1 TO LSR>> | B21: 44540 | C21: 27EP | D21: 11916 | E21: 97800 | F21: 32540 | G21: =E21-F21 -> 65260
A22: WH2 TO LSR>> | B22: 44540 | C22: 27EP | D22: 11934 | E22: 99920 | F22: 33640 | G22: =E22-F22 -> 66280
A23: WH2 TO LSR>> | B23: 44540 | C23: 375ep | D23: 11926 | E23: 85320 | F23: 34580 | G23: =E23-F23 -> 50740 | I23: =SUM(G17:G23) -> 411520
A24: WH1 TO LSR>> | B24: 44540 | C24: 04AtchSfd | D24: 11903 | E24: 92380 | F24: 29740 | G24: =E24-F24 -> 62640
A25: WH1 TO LSR>> | B25: 44540 | C25: 104AtchSfd | D25: 11904 | E25: 87020 | F25: 29020 | G25: =E25-F25 -> 58000
A26: WH2 TO LSR>> | B26: 44540 | C26: 04AtchSfd | D26: 11943 | E26: 93240 | F26: 29860 | G26: =E26-F26 -> 63380 | I26: =SUM(G24:G26) -> 184020
A27: WH1 TO LSR>> | B27: 44540 | C27: G1-G5TRKN | D27: 11893 | E27: 91560 | F27: 28580 | G27: =E27-F27 -> 62980
A28: WH1 TO LSR>> | B28: 44540 | C28: 3-G5TRKN | D28: 11900 | E28: 99200 | F28: 31840 | G28: =E28-F28 -> 67360
A29: WH1 TO LSR>> | B29: 44540 | C29: G1-G5TRKN | D29: 11920 | E29: 95540 | F29: 29200 | G29: =E29-F29 -> 66340 | I29: =SUM(G27:G29) -> 196680
A30: WH2 TO LSR>> | B30: 44540 | C30: 107pacer | D30: 11887 | E30: 99700 | F30: 34240 | G30: =E30-F30 -> 65460
A31: WH1 TO LSR>> | B31: 44540 | C31: 105pacer | D31: 11896 | E31: 102000 | F31: 35960 | G31: =E31-F31 -> 66040
A32: WH1 TO LSR>> | B32: 44540 | C32: 107pacer | D32: 11914 | E32: 98500 | F32: 34240 | G32: =E32-F32 -> 64260
A33: WH1 TO LSR>> | B33: 44540 | C33: 105pacer | D33: 11918 | E33: 102480 | F33: 35900 | G33: =E33-F33 -> 66580
A34: WH1 TO LSR>> | B34: 44540 | C34: 107pacer | D34: 11925 | E34: 99560 | F34: 33820 | G34: =E34-F34 -> 65740
A35: WH2 TO Lsr>> | B35: 44540 | C35: 105pacer | D35: 11940 | E35: 103820 | F35: 36640 | G35: =E35-F35 -> 67180
A36: WH1 TO LSR>> | B36: 44540 | C36: 103pacer | D36: 11944 | E36: 88660 | F36: 34020 | G36: =E36-F36 -> 54640
A37: WH1 TO LSR>> | B37: 44540 | C37: 1908pacer | D37: 11945 | E37: 89620 | F37: 32480 | G37: =E37-F37 -> 57140
A38: WH1 TO LSR>> | B38: 44540 | C38: 1906pacer | D38: 11946 | E38: 94100 | F38: 33580 | G38: =E38-F38 -> 60520
A39: WH1 TO LSR>> | B39: 44540 | C39: 107pacer | D39: 11947 | E39: 98240 | F39: 34840 | G39: =E39-F39 -> 63400 | I39: =SUM(G30:G39) -> 630960
A40: WH1 TO LSR>> | B40: 44540 | C40: 24WFB | D40: 11915 | E40: 111680 | F40: 32040 | G40: =E40-F40 -> 79640
...

Sheet 12-11-2021
A1: WH1 TO LSR>> | B1: 44541 | C1: 105lasuca | D1: 11953 | E1: 98740 | F1: 27940 | G1: =E1-F1 -> 70800
A2: WH1 TO LSR>> | B2: 44541 | C2: 108Lasuca | D2: 11954 | E2: 99900 | F2: 28140 | G2: =E2-F2 -> 71760
A3: WH1 TO LSR>> | B3: 44541 | C3: 106Lasuca | D3: 11955 | E3: 97640 | F3: 26480 | G3: =E3-F3 -> 71160
A4: WH1 TO LSR>> | B4: 44541 | C4: 106Lasuca | D4: 11966 | E4: 98180 | F4: 26960 | G4: =E4-F4 -> 71220
A5: WH1 TO LSR>> | B5: 44541 | C5: 105lasuca | D5: 11979 | E5: 99480 | F5: 27920 | G5: =E5-F5 -> 71560
A6: WH1 TO LSR>> | B6: 44541 | C6: 108Lasuca | D6: 11980 | E6: 97840 | F6: 29280 | G6: =E6-F6 -> 68560 | I6: =SUM(G1:G6) -> 425060
A7: WH1 TO LSR>> | B7: 44541 | C7: 27EP | D7: 11950 | E7: 100080 | F7: 33340 | G7: =E7-F7 -> 66740
A8: WH1 TO LSR>> | B8: 44541 | C8: 01EP | D8: 11964 | E8: 92920 | F8: 34200 | G8: =E8-F8 -> 58720
A9: WH1 TO LSR>> | B9: 44541 | C9: 01EP | D9: 11969 | E9: 96900 | F9: 34020 | G9: =E9-F9 -> 62880
A10: WH1 TO LSR>> | B10: 44541 | C10: 27EP | D10: 11970 | E10: 100560 | F10: 33600 | G10: =E10-F10 -> 66960 | I10: =SUM(G7:G10) -> 255300
A11: WH1 TO LSR>> | B11: 44541 | C11: 1keithboone | D11: 11949 | E11: 87340 | F11: 29920 | G11: =E11-F11 -> 57420
A12: WH1 TO LSR>> | B12: 44541 | C12: 1keithboone | D12: 11959 | E12: 86740 | F12: 29680 | G12: =E12-F12 -> 57060
A13: WH1 TO LSR>> | B13: 44541 | C13: 1keithboone | D13: 11968 | E13: 84280 | F13: 29440 | G13: =E13-F13 -> 54840 | I13: =SUM(G11:G13) -> 169320
A14: WH1 TO LSR>> | B14: 44541 | C14: 105pacer | D14: 11951 | E14: 101800 | F14: 36380 | G14: =E14-F14 -> 65420
A15: WH1 TO LSR>> | B15: 44541 | C15: 107pacer | D15: 11958 | E15: 100100 | F15: 34700 | G15: =E15-F15 -> 65400
A16: WH1 TO LSR>> | B16: 44541 | C16: 103pacer | D16: 11960 | E16: 98500 | F16: 33740 | G16: =E16-F16 -> 64760
A17: WH1 TO LSR>> | B17: 44541 | C17: 1908pacer | D17: 11961 | E17: 99000 | F17: 32260 | G17: =E17-F17 -> 66740
A18: WH1 TO LSR>> | B18: 44541 | C18: 1906pacer | D18: 11962 | E18: 89260 | F18: 33520 | G18: =E18-F18 -> 55740
A19: WH1 TO LSR>> | B19: 44541 | C19: 105pacer | D19: 11963 | E19: 103480 | F19: 36220 | G19: =E19-F19 -> 67260
A20: WH1 TO LSR>> | B20: 44541 | C20: 107pacer | D20: 11965 | E20: 98460 | F20: 34220 | G20: =E20-F20 -> 64240
A21: WH1 TO LSR>> | B21: 44541 | C21: 107pacer | D21: 11971 | E21: 97200 | F21: 33840 | G21: =E21-F21 -> 63360
A22: WH1 TO LSR>> | B22: 44541 | C22: 103pacer | D22: 11982 | E22: 97760 | F22: 34340 | G22: =E22-F22 -> 63420
A23: WH1 TO LSR>> | B23: 44541 | C23: 103pacer | D23: 11974 | E23: 98040 | F23: 34700 | G23: =E23-F23 -> 63340
A24: WH1 TO LSR>> | B24: 44541 | C24: 1906pacer | D24: 11983 | E24: 98280 | F24: 34020 | G24: =E24-F24 -> 64260
A25: WH1 TO LSR>> | B25: 44541 | C25: 1908pacer | D25: 11981 | E25: 95700 | F25: 32640 | G25: =E25-F25 -> 63060
A26: WH1 TO LSR>> | B26: 44541 | C26: 1908pacer | D26: 11977 | E26: 98140 | F26: 32940 | G26: =E26-F26 -> 65200 | I26: =SUM(G14:G26) -> 832200
A27: WH1 TO LSR>> | B27: 44541 | C27: 24WFB | D27: 11956 | E27: 117300 | F27: 32240 | G27: =E27-F27 -> 85060
