{"text_format":"1","workbook":"xlsx","n_sheets":3,"sheets":["Molasses","Grand Total","Sheet1"],"not_rendered":{"charts":0,"images":0,"macros":1,"external_links":0,"defined_names":1,"comments":0,"pivot_tables":0},"unopened":[],"bounds":{"document_bytes":16777216,"sheet_cells":100000,"rows_first":2000,"rows_last":500,"rows_between":2000,"halvings":0,"cell_chars":16384,"cell_head_chars":4096},"cells_cut":0,"cells_raw":0,"read":"whole","date_system":"1900"}

{"sheet":"Molasses","index":0,"n_rows":1579,"n_cols":11,"rows_kept":1579,"cut":false,"hidden":false,"merged":[]}
[]
[null,null,null,null,null,null,"Louisiana Sugar Cane Cooperative, Inc."]
[]
[null,null,null,null,null,"Location Deliveries"]
[]
["Date","Ticket no."," ","SM to Other","Other Del.","Sm to PB","SM to BB","Del. Lbs","Brix","gallons","Lbs. 79.5"]
["2021-10-11",1400,null,null,null,57480,null,{"$f":"E7+F7+G7","v":57480},0.88680000000000003,{"$f":"H7*I7/9.3015","v":5480.1122399612968},{"$f":"H7*I7/0.795","v":64117.313207547173}]
[{"$f":"A7","v":"2021-10-11"},1401,null,null,null,57260,null,57260,{"$f":"I7","v":0.88680000000000003},{"$f":"H8*I8/9.3015","v":5459.1375584583129},{"$f":"H8*I8/0.795","v":63871.909433962268}]
[{"$f":"A8","v":"2021-10-11"},{"$f":"1+B8","v":1402},null,null,null,56780,null,56780,{"$f":"I8","v":0.88680000000000003},5413.3746169972583,63336.483018867919]
["2021-10-11",{"$f":"1+B9","v":1403},null,null,null,58440,null,58440,0.88680000000000003,{"$f":"H10*I10/9.3015","v":5571.6381228834061},{"$f":"H10*I10/0.795","v":65188.166037735849}]
["2021-10-11",1404,null,null,null,57840,null,57840,0.88680000000000003,5514.4344460570874,64518.883018867928]
["2021-10-11",1405,null,null,null,60100,null,60100,0.88680000000000003,5729.9016287695531,67039.849056603765]
["2021-10-11",1406,null,null,null,58660,null,58660,0.88680000000000003,5592.6128043863891,65433.569811320755]
["2021-10-11",1407,null,null,null,59940,null,59940,0.88680000000000003,5714.6473149492012,66861.373584905654]
["2021-10-11",1408,null,null,null,58880,null,58880,0.88680000000000003,5613.5874858893721,65678.97358490566]
["2021-10-11",1409,null,null,null,61080,null,61080,0.88680000000000003,5823.3343009192058,68133.011320754711]
["2021-10-11",1410,null,null,null,60360,null,60360,0.88680000000000003,5754.6898887276238,67329.871698113202]
["2021-10-11",1411,null,null,null,60920,null,60920,0.88680000000000003,5808.0799870988549,67954.5358490566]
["2021-10-12",1412,null,null,null,59580,null,59580,0.89,{"$f":"H19*I19/9.3015","v":5700.8224479922592},{"$f":"H19*I19/0.795","v":66699.622641509442}]
[{"$f":"A19","v":"2021-10-12"},1413,null,null,null,59780,null,59780,{"$f":"I19","v":0.89},5719.9591463742408,66923.522012578615]
[{"$f":"A20","v":"2021-10-12"},1414,null,null,null,59640,null,59640,{"$f":"I20","v":0.89},5706.5634575068534,66766.792452830181]
["2021-10-12",1415,null,null,null,59760,null,59760,0.89,5718.0454765360419,66901.132075471702]
["2021-10-12",1416,null,null,null,61320,null,61320,0.89,5867.3117239154972,68647.547169811325]
["2021-10-12",1417,null,null,null,59200,null,59200,0.89,5664.4627210664939,66274.213836477982]
["2021-10-12",1418,null,null,null,60420,null,60420,0.89,5781.1965811965811,67640]
["2021-10-12",1419,null,null,null,59060,null,59060,0.89,5651.0670321991074,66117.484276729563]
["2021-10-12",3490,null,null,null,59960,null,59960,0.89,5737.1821749180235,67125.031446540874]
["2021-10-12",3491,null,null,null,58940,null,58940,0.89,5639.5850131699181,65983.144654088042]
["2021-10-12",2410,null,null,null,59660,null,59660,0.89,5708.4771273450515,66789.182389937108]
["2021-10-13",3492,null,null,null,59560,null,{"$f":"E30+F30+G30","v":59560},0.89,{"$f":"H30*I30/9.3015","v":5698.9087781540611},{"$f":"H30*I30/0.795","v":66677.232704402515}]
[{"$f":"A30","v":"2021-10-13"},1421,null,null,null,60860,null,60860,0.89,5823.2973176369396,68132.578616352199]
[{"$f":"A31","v":"2021-10-13"},2411,null,null,null,61060,null,61060,0.89,5842.4340160189213,68356.477987421385]
["2021-10-13",2412,null,null,null,59420,null,59420,0.89,5685.5130892866737,66520.503144654082]
["2021-10-13",2413,null,null,null,60940,null,60940,0.89,5830.9519969897319,68222.138364779865]
["2021-10-13",2414,null,null,null,60820,null,60820,0.89,5819.4699779605435,68087.798742138359]
["2021-10-13",2415,null,null,null,62120,null,62120,0.89,5943.8585174434229,69543.144654088057]
["2021-10-14",2416,null,null,null,60280,null,60280,0.89200000000000002,{"$f":"H37*I37/9.3015","v":5780.7622426490352},{"$f":"H37*I37/0.795","v":67634.918238993705}]
["2021-10-14",2421,null,null,null,60240,null,60240,{"$f":"I37","v":0.89200000000000002},5776.926302209321,67590.037735849051]
["2021-10-14",{"$f":"1+B38","v":2422},null,null,null,61620,null,61620,{"$f":"I38","v":0.89200000000000002},5909.2662473794544,69138.415094339623]
["2021-10-14",1425,null,null,null,60280,null,60280,0.89200000000000002,5780.7622426490352,67634.918238993705]
["2021-10-14",1426,null,null,null,60780,null,60780,0.89200000000000002,5828.7114981454597,68195.924528301883]
["2021-10-14",1427,null,null,null,60940,null,60940,0.89200000000000002,5844.0552599043167,68375.446540880497]
["2021-10-14",1428,null,null,null,58680,null,58680,0.89200000000000002,5627.3246250604734,65839.698113207545]
["2021-10-14",1429,null,null,null,61540,null,61540,0.89200000000000002,5901.5943665000268,69048.654088050316]
["2021-10-14",1430,null,null,null,60340,null,60340,0.89200000000000002,5786.5161533086057,67702.238993710693]
["2021-10-14",1431,null,null,null,60660,null,60660,0.89200000000000002,5817.2036768263179,68061.283018867922]
["2021-10-14",1432,null,null,null,60560,null,60560,0.89200000000000002,5807.6138257270331,67949.081761006295]
["2021-10-14",1433,null,null,null,61640,null,61640,0.89200000000000002,5911.1842175993115,69160.855345911943]
["2021-10-14",{"$f":"1+B48","v":1434},null,null,null,59600,null,59600,0.89200000000000002,5715.5512551738966,66871.949685534593]
["2021-10-15",1435,null,null,null,61240,null,61240,0.89200000000000002,{"$f":"H50*I50/9.3015","v":5872.8248132021718},{"$f":"H50*I50/0.795","v":68712.050314465407}]
["2021-10-15",1436,null,null,null,59720,null,59720,0.89200000000000002,5727.0590764930384,67006.591194968554]
["2021-10-15",1437,null,null,null,60700,null,60700,0.89200000000000002,5821.0396172660321,68106.163522012575]
["2021-10-15",1438,null,null,null,60640,null,60640,0.89200000000000002,5815.2857066064607,68038.842767295588]
["2021-10-15",1439,null,null,null,60840,null,60840,0.89200000000000002,5834.4654088050311,68263.245283018856]
["2021-10-15",1440,null,null,null,61260,null,61260,0.89200000000000002,5874.742783422028,68734.490566037726]
["2021-10-15",1441,null,null,null,61860,null,61860,0.89200000000000002,5932.281890017739,69407.698113207545]
["2021-10-18",1442,null,null,null,59120,null,59120,0.89680000000000004,{"$f":"H57*I57/9.3015","v":5700.0285975380311},{"$f":"H57*I57/0.795","v":66690.334591194958}]
[{"$f":"A57","v":"2021-10-18"},1443,null,null,null,60920,null,60920,0.89680000000000004,5873.5747997634789,68720.825157232699]
[{"$f":"A58","v":"2021-10-18"},1444,null,null,null,58440,null,58440,0.89680000000000004,5634.4666989195293,65923.2603773585]
["2021-10-18",1445,null,null,null,60960,null,60960,0.89680000000000004,5877.4313820351554,68765.947169811319]
["2021-10-18",1446,null,null,null,60180,null,60180,0.89680000000000004,5802.2280277374612,67886.067924528295]
["2021-10-18",1447,null,null,null,60640,null,60640,0.89680000000000004,5846.5787238617431,68404.971069182386]
["2021-10-18",1448,null,null,null,60200,null,60200,0.89680000000000004,5804.1563188732998,67908.628930817606]
["2021-10-18",1449,null,null,null,60520,null,60520,0.89680000000000004,5835.008977046713,68269.605031446539]
["2021-10-18",1450,null,null,null,60160,null,60160,0.89680000000000004,5800.2997366016234,67863.506918239]
["2021-10-18",1451,null,null,null,60520,null,60520,0.89680000000000004,5835.008977046713,68269.605031446539]
["2021-10-18",1452,null,null,null,59980,null,59980,0.89680000000000004,5782.9451163790791,67660.457861635223]
["2021-10-18",1453,null,null,null,61000,null,61000,0.89680000000000004,5881.2879643068318,68811.06918238994]
["2021-10-18",1454,null,null,null,59580,null,59580,0.89680000000000004,5744.3792936623122,67209.237735849063]
["2021-10-19",1455,null,null,null,60640,null,60640,0.89839999999999998,{"$f":"H70*I70/9.3015","v":5857.0097296135018},{"$f":"H70*I70/0.795","v":68527.013836477985}]
[{"$f":"A70","v":"2021-10-19"},1457,null,null,null,60000,null,60000,0.89839999999999998,5795.19432349621,67803.773584905663]
[{"$f":"A71","v":"2021-10-19"},1458,null,null,null,59900,null,59900,0.89839999999999998,5785.5356662903823,67690.76729559747]
["2021-10-19",1460,null,null,null,58980,null,58980,0.89839999999999998,5696.6760199967739,66651.109433962265]
["2021-10-19",1461,null,null,null,58620,null,58620,0.89839999999999998,5661.9048540557969,66244.286792452825]
["2021-10-19",1462,null,null,null,62840,null,62840,0.89839999999999998,6069.5001881416965,71013.15220125785]
["2021-10-19",1463,null,null,null,60340,null,60340,0.89839999999999998,5828.0337579960214,68187.994968553452]
["2021-10-19",1465,null,null,null,60140,null,60140,0.89839999999999998,5808.716443584367,67961.982389937097]
["2021-10-19",2417,null,null,null,60020,null,60020,0.89839999999999998,5797.1260549373756,67826.374842767298]
["2021-10-19",2418,null,null,null,59840,null,59840,0.89839999999999998,5779.7404719668866,67622.963522012578]
["2021-10-19",2419,null,null,null,61380,null,61380,0.89839999999999998,5928.4837929366231,69363.260377358485]
["2021-10-19",2420,null,null,null,61240,null,61240,0.89839999999999998,5914.9616728484643,69205.051572327036]
["2021-10-20",2431,null,null,null,61100,null,61100,0.90039999999999998,{"$f":"H82*I82/9.3015","v":5914.5772187281609},{"$f":"H82*I82/0.795","v":69200.553459119488}]
[{"$f":"A82","v":"2021-10-20"},2423,null,null,null,60860,null,60860,0.90039999999999998,5891.3448368542704,68928.734591194967]
[{"$f":"A83","v":"2021-10-20"},2424,null,null,null,60420,null,60420,0.90039999999999998,5848.7521367521358,68430.399999999994]
["2021-10-20",2425,null,null,null,60920,null,60920,0.90039999999999998,5897.1529323227433,68996.689308176094]
["2021-10-20",2426,null,null,null,60600,null,60600,0.90039999999999998,5866.1764231575544,68634.264150943389]
["2021-10-20",2428,null,null,null,59640,null,59640,0.90039999999999998,5773.2468956619896,67546.988679245274]
["2021-10-20",2427,null,null,null,59760,null,59760,0.90039999999999998,5784.8630865989353,67682.898113207542]
["2021-10-20",2429,null,null,null,60400,null,60400,0.90039999999999998,5846.8161049293112,68407.748427672952]
["2021-10-20",1468,null,null,null,59800,null,59800,0.90039999999999998,5788.7351502445836,67728.201257861627]
["2021-10-20",1470,null,null,null,60580,null,60580,0.90039999999999998,5864.2403913347298,68611.612578616347]
["2021-10-20",2432,null,null,null,60280,null,60280,0.90039999999999998,5835.1999139923664,68271.838993710684]
["2021-10-20",1472,null,null,null,59460,null,59460,0.90039999999999998,5755.822609256571,67343.12452830188]
["2021-10-21",2433,null,null,null,61180,null,61180,0.90200000000000002,5932.8452400150509,69414.289308176099]
["2021-10-21",1474,null,null,null,59300,null,59300,0.90200000000000002,{"$f":"H95*I95/9.3015","v":5750.5348599688214},{"$f":"H95*I95/0.795","v":67281.257861635211}]
["2021-10-21",2434,null,null,null,60620,null,60620,0.90200000000000002,5878.5400204268126,68778.918238993705]
["2021-10-21",1476,null,null,null,59120,null,59120,0.90200000000000002,5733.0796108154591,67077.031446540874]
["2021-10-21",1477,null,null,null,60640,null,60640,0.90200000000000002,5880.4794925549641,68801.610062893073]
["2021-10-21",1478,null,null,null,59240,null,59240,0.90200000000000002,5744.7164435843679,67213.182389937108]
["2021-10-21",1479,null,null,null,60680,null,60680,0.90200000000000002,5884.358436811267,68846.993710691822]
["2021-10-21",1480,null,null,null,59980,null,59980,0.90200000000000002,5816.4769123259684,68052.779874213826]
["2021-10-21",1481,null,null,null,62380,null,62380,0.90200000000000002,6049.2135677041333,70775.798742138359]
["2021-10-21",1482,null,null,null,61040,null,61040,0.90200000000000002,5919.2689351179915,69255.446540880497]
["2021-10-21",1483,null,null,null,61480,null,61480,0.90200000000000002,5961.937321937321,69754.666666666657]
["2021-10-21",1484,null,null,null,58560,null,58560,0.90200000000000002,5678.7743912272208,66441.660377358494]
["2021-10-22",{"$f":"1+B105","v":1485},null,null,null,61440,null,61440,0.90200000000000002,5958.058377681019,69709.283018867922]
[{"$f":"A106","v":"2021-10-22"},{"$f":"1+B106","v":1486},null,null,null,59040,null,59040,0.90200000000000002,{"$f":"H107*I107/9.3015","v":5725.3217223028541},{"$f":"H107*I107/0.795","v":66986.264150943389}]
[{"$f":"A107","v":"2021-10-22"},1487,null,null,null,60660,null,60660,0.90200000000000002,5882.4189646831155,68824.301886792455]
["2021-10-22",1488,null,null,null,59100,null,59100,0.90200000000000002,5731.1401386873085,67054.339622641506]
["2021-10-22",1489,null,null,null,60320,null,60320,0.90200000000000002,5849.4479385045415,68438.540880503147]
["2021-10-22",1490,null,null,null,60360,null,60360,0.90200000000000002,5853.3268827608445,68483.924528301883]
["2021-10-22",1491,null,null,null,60560,null,60560,0.90200000000000002,5872.7216040423582,68710.842767295602]
["2021-10-22",1492,null,null,null,60880,null,60880,0.90200000000000002,5903.7531580927807,69073.911949685527]
["2021-10-22",1493,null,null,null,61420,null,61420,0.90200000000000002,{"$f":"H114*I114/9.3015","v":5956.1189055528675},{"$f":"H114*I114/0.795","v":69686.591194968554}]
["2021-10-25",1494,null,null,null,60700,null,60700,0.90839999999999999,{"$f":"H115*I115/9.3015","v":5928.0632156103848},{"$f":"H115*I115/0.795","v":69358.339622641506}]
[{"$f":"A115","v":"2021-10-25"},1495,null,null,null,61980,null,61980,{"$f":"I115","v":0.90839999999999999},6053.0701499758097,70820.920754716979]
[{"$f":"A116","v":"2021-10-25"},1496,null,null,null,60040,null,60040,{"$f":"I116","v":0.90839999999999999},5863.6065150782124,68604.196226415079]
["2021-10-25",1497,null,null,null,62820,null,62820,0.90839999999999999,6135.1059506531201,71780.739622641515]
["2021-10-25",1498,null,null,null,61180,null,61180,0.90839999999999999,5974.9408159974191,69906.80754716981]
["2021-10-25",1499,null,null,null,61760,null,61760,0.90839999999999999,6031.584583131752,70569.539622641503]
["2021-10-25",1500,null,null,null,58920,null,58920,0.90839999999999999,5754.2254475084655,67324.43773584906]
["2021-10-26",1501,null,null,null,61220,null,61220,0.91279999999999994,{"$f":"H122*I122/9.3015","v":6007.8069128635152},{"$f":"H122*I122/0.795","v":70291.340880503136}]
[{"$f":"A122","v":"2021-10-26"},1502,null,null,null,59980,null,59980,{"$f":"I122","v":0.91279999999999994},5886.1198731387403,68867.602515723265]
[{"$f":"A123","v":"2021-10-26"},1503,null,null,null,60760,null,60760,{"$f":"I123","v":0.91279999999999994},5962.6649465140017,69763.179874213834]
["2021-10-26",1504,null,null,null,60860,null,60860,0.91279999999999994,5972.4784174595488,69877.997484276726]
["2021-10-26",1505,null,null,null,60880,null,60880,0.91279999999999994,5974.4411116486581,69900.961006289304]
["2021-10-26",1506,null,null,null,60540,null,60540,0.91279999999999994,5941.0753104338,69510.581132075458]
["2021-10-26",1507,null,null,null,60720,null,60720,0.91279999999999994,5958.7395581357832,69717.252830188663]
["2021-10-26",1508,null,null,null,60680,null,60680,0.91279999999999994,5954.8141697575657,69671.325786163521]
["2021-10-26",1509,null,null,null,61340,null,61340,0.91279999999999994,6019.5830779981716,70429.122012578606]
["2021-10-26",1510,null,null,null,58740,null,58740,0.91279999999999994,5764.4328334139645,67443.864150943395]
["2021-10-27",1511,null,null,null,61160,null,61160,0.91039999999999999,{"$f":"H132*I132/9.3015","v":5986.1381497607908},{"$f":"H132*I132/0.795","v":70037.816352201247}]
[{"$f":"A132","v":"2021-10-27"},1512,null,null,null,59840,null,59840,0.91039999999999999,{"$f":"H133*I133/9.3015","v":5856.9409235069606},{"$f":"H133*I133/0.795","v":68526.208805031434}]
[{"$f":"A133","v":"2021-10-27"},1513,null,null,null,60700,null,60700,0.91039999999999999,5941.1148739450618,69511.044025157229]
["2021-10-27",1514,null,null,null,60580,null,60580,0.91039999999999999,5929.3696715583501,69373.625157232702]
["2021-10-27",1515,null,null,null,60680,null,60680,0.91039999999999999,5939.1573402139438,69488.140880503139]
["2021-10-27",1516,null,null,null,60420,null,60420,0.91039999999999999,5913.7094017094014,69190.399999999994]
["2021-10-27",1517,null,null,null,61360,null,61360,0.91039999999999999,6005.7134870719774,70266.847798742136]
["2021-10-27",1518,null,null,null,60280,null,60280,0.91039999999999999,5900.0066655915707,69030.077987421377]
["2021-10-27",1519,null,null,null,61160,null,61160,0.91039999999999999,5986.1381497607908,70037.816352201247]
["2021-10-27",1520,null,null,null,58900,null,58900,0.91039999999999999,5764.9368381443846,67449.761006289307]
["2021-10-28",1521,null,null,null,60280,null,60280,0.91,{"$f":"H142*I142/9.3015","v":5897.4143955276031},{"$f":"H142*I142/0.795","v":68999.748427672952}]
[{"$f":"A142","v":"2021-10-28"},1522,null,null,null,59940,null,59940,{"$f":"I142","v":0.91},5864.1509433962265,68610.566037735844]
[{"$f":"A143","v":"2021-10-28"},1523,null,null,null,60420,null,60420,{"$f":"I143","v":0.91},5911.1111111111113,69160]
["2021-10-28",1524,null,null,null,60460,null,60460,0.91,5915.0244584206839,69205.786163522003]
["2021-10-28",1525,null,null,null,60340,null,60340,0.91,5903.2844164919634,69068.427672955979]
["2021-10-28",1526,null,null,null,60840,null,60840,0.91,5952.201257861635,69640.75471698113]
["2021-10-28",1527,null,null,null,60640,null,60640,0.91,5932.6345213137665,69411.823899371069]
["2021-10-28",1528,null,null,null,60580,null,60580,0.91,5926.7645003494063,69343.144654088057]
["2021-10-28",1529,null,null,null,60480,null,60480,0.91,5916.9811320754716,69228.679245283012]
["2021-10-28",1530,null,null,null,58840,null,58840,0.91,5756.5338923829486,67351.446540880497]
["2021-10-29",1531,null,null,null,60460,null,60460,0.91039999999999999,{"$f":"H152*I152/9.3015","v":5917.6244691716383},{"$f":"H152*I152/0.795","v":69236.206289308175}]
[{"$f":"A152","v":"2021-10-29"},1532,null,null,null,59620,null,59620,0.91039999999999999,{"$f":"H153*I153/9.3015","v":5835.4080524646561},{"$f":"H153*I153/0.795","v":68274.274213836485}]
[{"$f":"A153","v":"2021-10-29"},1533,null,null,null,60460,null,60460,0.91039999999999999,5917.6244691716383,69236.206289308175]
["2021-10-29",1534,null,null,null,59700,null,59700,0.91039999999999999,5843.23818738913,68365.886792452817]
["2021-10-29",1535,null,null,null,60860,null,60860,0.91039999999999999,5956.7751437940105,69694.269182389922]
["2021-10-29",1536,null,null,null,59860,null,59860,0.91039999999999999,5858.8984572380796,68549.111949685539]
["2021-10-29",1537,null,null,null,61640,null,61640,0.91039999999999999,6033.1189593076379,70587.491823899371]
["2021-11-01",1538,null,null,null,60660,null,60660,0.90839999999999999,5924.1567489114659,69312.633962264154]
[{"$f":"A159","v":"2021-11-01"},1539,null,null,null,61660,null,61660,{"$f":"I159","v":0.90839999999999999},{"$f":"H160*I160/9.3015","v":6021.8184163844535},{"$f":"H160*I160/0.795","v":70455.2754716981}]
[{"$f":"A160","v":"2021-11-01"},1540,null,null,null,59560,null,59560,{"$f":"I160","v":0.90839999999999999},5816.728914691178,68055.728301886789]
["2021-11-01",1541,null,null,null,60120,null,60120,0.90839999999999999,5871.4194484760519,68695.607547169813]
["2021-11-01",1542,null,null,null,59760,null,59760,0.90839999999999999,5836.2612481857759,68284.256603773581]
["2021-11-01",1543,null,null,null,61940,null,61940,0.90839999999999999,6049.1636832768909,70775.215094339626]
["2021-11-01",1544,null,null,null,61820,null,61820,0.90839999999999999,6037.4442831801316,70638.098113207539]
["2021-11-01",1545,null,null,null,61640,null,61640,0.90839999999999999,6019.8651830349936,70432.422641509431]
["2021-11-01",1546,null,null,null,59220,null,59220,0.90839999999999999,5783.5239477503619,67667.230188679241]
["2021-11-01",1547,null,null,null,61120,null,61120,0.90839999999999999,5969.0811159490395,69838.24905660376]
["2021-11-01",1548,null,null,null,61020,null,61020,0.90839999999999999,5959.314949201741,69723.984905660371]
["2021-11-01",1549,null,null,null,59660,null,59660,0.90839999999999999,5826.4950814384774,68169.992452830193]
["2021-11-01",{"$f":"1+B170","v":1550},null,null,null,59160,null,59160,0.90839999999999999,5777.6642477019823,67598.671698113205]
["2021-11-02",1551,null,null,null,59340,null,59340,0.91,{"$f":"H172*I172/9.3015","v":5805.4507337526202},{"$f":"H172*I172/0.795","v":67923.773584905663}]
[{"$f":"A172","v":"2021-11-02"},1552,null,null,null,60180,null,60180,{"$f":"I172","v":0.91},5887.6310272536684,68885.283018867922]
[{"$f":"A173","v":"2021-11-02"},1553,null,null,null,61860,null,61860,{"$f":"I173","v":0.91},6051.9916142557649,70808.30188679244]
["2021-11-02",1554,null,null,null,61200,null,61200,0.91,5987.4213836477984,70052.830188679247]
["2021-11-02",1555,null,null,null,61720,null,61720,0.91,6038.2948986722567,70648.050314465407]
["2021-11-02",1556,null,null,null,60800,null,60800,0.91,5948.2879105520606,69594.968553459112]
["2021-11-02",1557,null,null,null,60720,null,60720,0.91,5940.4612159329145,69503.39622641509]
["2021-11-02",1558,null,null,null,59760,null,59760,0.91,5846.5408805031439,68404.528301886792]
["2021-11-03",1559,null,null,null,60620,null,60620,0.90280000000000005,{"$f":"H180*I180/9.3015","v":5883.7538031500299},{"$f":"H180*I180/0.795","v":68839.919496855349}]
[{"$f":"A180","v":"2021-11-03"},1560,null,null,null,60460,null,60460,{"$f":"I180","v":0.90280000000000005},5868.2242649035097,68658.223899371063]
[{"$f":"A181","v":"2021-11-03"},1561,null,null,null,59900,null,59900,{"$f":"I181","v":0.90280000000000005},5813.8708810406924,68022.289308176099]
[{"$f":"A182","v":"2021-11-03"},1562,null,null,null,62340,null,62340,0.90280000000000005,6050.6963393001124,70793.147169811316]
["2021-11-03",1563,null,null,null,60320,null,60320,0.90280000000000005,5854.6359189378054,68499.240251572322]
["2021-11-03",1564,null,null,null,59600,null,59600,0.90280000000000005,5784.7529968284689,67681.610062893087]
["2021-11-03",1565,null,null,null,60540,null,60540,0.90280000000000005,5875.9890340267693,68749.071698113214]
["2021-11-03",1566,null,null,null,59660,null,59660,0.90280000000000005,5790.5765736709127,67749.745911949693]
["2021-11-03",1567,null,null,null,60640,null,60640,0.90280000000000005,5885.6949954308438,68862.63144654088]
["2021-11-04",1568,null,null,null,59860,null,59860,0.91,{"$f":"H189*I189/9.3015","v":5856.3242487770785},{"$f":"H189*I189/0.795","v":68518.993710691822}]
[{"$f":"A189","v":"2021-11-04"},1569,null,null,null,60100,null,{"$f":"E190+F190+G190","v":60100},0.91,5879.8043326345205,68793.710691823901]
[{"$f":"A190","v":"2021-11-04"},1570,null,null,null,59600,null,59600,0.91,5830.8874912648489,68221.383647798735]
["2021-11-04",1571,null,null,null,61100,null,61100,0.91,5977.6380153738637,69938.364779874217]
["2021-11-04",1572,null,null,null,60540,null,60540,0.91,5922.8511530398318,69297.358490566039]
["2021-11-04",1573,null,null,null,60700,null,60700,0.91,5938.5045422781268,69480.503144654082]
["2021-11-04",1574,null,null,null,60440,null,60440,0.91,5913.0677847658981,69182.893081761009]
["2021-11-04",1575,null,null,null,60960,null,60960,0.91,5963.9412997903555,69778.113207547169]
["2021-11-04",1576,null,null,null,61760,null,61760,0.91,6042.2082459818303,70693.83647798741]
["2021-11-04",1577,null,null,null,61380,null,61380,0.91,6005.0314465408801,70258.867924528298]
["2021-11-04",1578,null,null,null,61620,null,61620,0.91,6028.511530398323,70533.584905660377]
["2021-11-04",1579,null,null,null,60180,null,60180,0.91,5887.6310272536684,68885.283018867922]
["2021-11-04",1580,null,null,null,60300,null,60300,0.91,5899.3710691823899,69022.641509433961]
["2021-11-05",1581,null,null,null,60000,null,60000,0.91010000000000002,5870.6660216094169,68686.792452830181]
[{"$f":"A202","v":"2021-11-05"},1582,null,null,null,60980,null,60980,0.91039999999999999,{"$f":"H203*I203/9.3015","v":5968.5203461807232},69831.688050314464]
[{"$f":"A203","v":"2021-11-05"},1583,null,null,null,59840,null,59840,0.91039999999999999,{"$f":"H204*I204/9.3015","v":5856.9409235069606},{"$f":"H204*I204/0.795","v":68526.208805031434}]
[{"$f":"A204","v":"2021-11-05"},1584,null,null,null,61100,null,61100,0.91039999999999999,5980.265548567435,69969.106918238991]
[{"$f":"A205","v":"2021-11-05"},1585,null,null,null,60760,null,60760,0.91039999999999999,5946.9874751384186,69579.7534591195]
["2021-11-05",1586,null,null,null,60180,null,60180,0.91039999999999999,5890.218996935977,68915.56226415094]
["2021-11-05",1587,null,null,null,60980,null,60980,0.91039999999999999,5968.5203461807232,69831.688050314464]
["2021-11-05",1588,null,null,null,60540,null,60540,0.91039999999999999,5925.4546040961131,69327.818867924521]
["2021-11-05",1589,null,null,null,61120,null,61120,0.91039999999999999,5982.2230822985539,69992.010062893081]
["2021-11-08",1590,null,null,null,62140,null,62140,0.90400000000000003,6039.3011879804335,70659.823899371069]
[{"$f":"A211","v":"2021-11-08"},1591,null,null,null,61640,null,61640,0.90400000000000003,{"$f":"H212*I212/9.3015","v":5990.706875235177},{"$f":"H212*I212/0.795","v":70091.270440251581}]
[{"$f":"A212","v":"2021-11-08"},1592,null,null,null,59860,null,59860,0.90400000000000003,5817.7111218620648,68067.22012578616]
["2021-11-08",1593,null,null,null,61140,null,61140,0.90400000000000003,5942.1125624899214,69522.716981132078]
["2021-11-08",1594,null,null,null,62120,null,62120,0.90400000000000003,6037.357415470623,70637.081761006295]
["2021-11-09",1595,null,null,null,59340,null,59340,0.90639999999999998,{"$f":"H216*I216/9.3015","v":5782.4841154652468},{"$f":"H216*I216/0.795","v":67655.064150943392}]
[{"$f":"A216","v":"2021-11-09"},1596,null,null,null,60360,null,60360,0.90639999999999998,5881.8796968230918,68817.992452830178]
[{"$f":"A217","v":"2021-11-09"},1597,null,null,null,59900,null,59900,0.90639999999999998,5837.0542385636718,68293.53459119497]
["2021-11-09",1598,null,null,null,61520,null,61520,0.90639999999999998,5994.9178089555435,70140.538364779859]
["2021-11-09",1599,null,null,null,60420,null,60420,0.90639999999999998,5887.7264957264952,68886.399999999994]
["2021-11-09",1600,null,null,null,61060,null,61060,0.90639999999999998,5950.0923506961235,69616.080503144651]
["2021-11-09",1601,null,null,null,60540,null,60540,0.90639999999999998,5899.4200935333001,69023.215094339612]
["2021-11-09",1602,null,null,null,61420,null,61420,0.90639999999999998,5985.1731441165393,70026.525786163518]
["2021-11-09",1603,null,null,null,60180,null,60180,0.90639999999999998,5864.3393001128843,68612.769811320759]
["2021-11-09",1604,null,null,null,61860,null,61860,0.90639999999999998,6028.0496694081594,70528.181132075464]
["2021-11-09",1605,null,null,null,61180,null,61180,0.90639999999999998,5961.7859485029285,69752.895597484268]
["2021-11-09",1606,null,null,null,61940,null,61940,0.90639999999999998,6035.8454012793627,70619.391194968543]
["2021-11-09",1607,null,null,null,60100,null,60100,0.90639999999999998,5856.543568241681,68521.559748427666]
["2021-11-10",1608,null,null,null,62080,null,62080,0.90439999999999998,{"$f":"H229*I229/9.3015","v":6036.1395473848297},{"$f":"H229*I229/0.795","v":70622.832704402521}]
[{"$f":"A229","v":"2021-11-10"},1609,null,null,null,60240,null,60240,0.90439999999999998,{"$f":"H230*I230/9.3015","v":5857.2333494597633},{"$f":"H230*I230/0.795","v":68529.630188679235}]
[{"$f":"A230","v":"2021-11-10"},1610,null,null,null,61320,null,61320,0.90439999999999998,5962.243509111433,69758.24905660376]
["2021-11-10",1611,null,null,null,60200,null,60200,0.90439999999999998,5853.3440842874797,68484.125786163509]
["2021-11-10",1612,null,null,null,61640,null,61640,0.90439999999999998,5993.3576304897051,70122.284276729551]
["2021-11-10",1613,null,null,null,60940,null,60940,0.90439999999999998,5925.2954899747347,69325.957232704401]
["2021-11-10",{"$f":"1+B234","v":1614},null,null,null,61720,null,61720,0.90439999999999998,6001.1361608342731,70213.293081761003]
["2021-11-10",1615,null,null,null,61020,null,61020,0.90439999999999998,5933.0740203193027,69416.966037735838]
["2021-11-10",1616,null,null,null,61020,null,61020,0.90439999999999998,5933.0740203193027,69416.966037735838]
["2021-11-10",1617,null,null,null,60500,null,60500,0.90439999999999998,5882.5135730796101,68825.408805031446]
["2021-11-10",1618,null,null,null,62600,null,62600,0.90439999999999998,6086.6999946245223,71214.389937106913]
["2021-11-10",1619,null,null,null,61320,null,61320,0.90439999999999998,5962.243509111433,69758.24905660376]
[{"$f":"A240","v":"2021-11-10"},1620,null,null,null,59120,null,59120,0.90439999999999998,5748.3339246358109,67255.506918238985]
["2021-11-11",1621,null,null,null,60920,null,60920,0.90400000000000003,{"$f":"H242*I242/9.3015","v":5920.7310648820076},69272.553459119488]
[{"$f":"A242","v":"2021-11-11"},1622,null,null,null,59780,null,59780,0.90400000000000003,{"$f":"H243*I243/9.3015","v":5809.9360318228237},67976.251572327048]
[{"$f":"A243","v":"2021-11-11"},1623,null,null,null,60780,null,60780,0.90400000000000003,5907.1246573133367,69113.358490566039]
["2021-11-11",1624,null,null,null,60260,null,60260,0.90400000000000003,5856.5865720582697,68522.062893081762]
["2021-11-11",1625,null,null,null,60620,null,60620,0.90400000000000003,5891.5744772348544,68931.421383647801]
["2021-11-11",1626,null,null,null,60460,null,60460,0.90400000000000003,5876.024297156373,68749.484276729563]
["2021-11-15",1627,null,null,null,57740,null,57740,0.91039999999999999,{"$f":"H248*I248/9.3015","v":5651.3998817395041},{"$f":"H248*I248/0.795","v":66121.378616352202}]
[{"$f":"A248","v":"2021-11-15"},1628,null,null,null,59760,null,59760,0.91039999999999999,5849.1107885824867,68434.596226415088]
[{"$f":"A249","v":"2021-11-15"},1629,null,null,null,59520,null,59520,0.91039999999999999,5825.6203838090623,68159.758490566033]
["2021-11-15",1630,null,null,null,59600,null,59600,0.91039999999999999,5833.4505187335371,68251.37106918238]
["2021-11-15",1631,null,null,null,60020,null,60020,0.91039999999999999,5874.5587270870283,68732.337106918232]
["2021-11-15",1632,null,null,null,61960,null,61960,0.91039999999999999,6064.4394990055362,70953.942138364771]
["2021-11-15",1633,null,null,null,59080,null,59080,0.91039999999999999,5782.5546417244523,67655.889308176105]
["2021-11-15",1634,null,null,null,59240,null,59240,0.91039999999999999,5798.214911573401,67839.114465408798]
["2021-11-15",1635,null,null,null,59820,null,59820,0.91039999999999999,5854.9833897758417,68503.305660377358]
["2021-11-16",1636,null,null,null,59380,null,59380,0.90880000000000005,5801.7033811750789,67879.929559748431]
[{"$f":"A257","v":"2021-11-16"},1637,null,null,null,60380,null,60380,0.90880000000000005,5899.4080524646561,69023.074213836473]
[{"$f":"A258","v":"2021-11-16"},1638,null,null,null,60000,null,60000,0.90880000000000005,5862.2802773746162,68588.679245283012]
["2021-11-16",1639,null,null,null,61880,null,61880,0.90880000000000005,6045.9650593990209,70737.791194968551]
["2021-11-16",1640,null,null,null,60420,null,60420,0.90880000000000005,5903.3162393162393,69068.800000000003]
["2021-11-16",1641,null,null,null,59960,null,59960,0.90880000000000005,5858.3720905230339,68542.953459119497]
["2021-11-16",1642,null,null,null,59600,null,59600,0.90880000000000005,5823.198408858786,68131.421383647801]
["2021-11-16",1643,null,null,null,58000,null,58000,0.90880000000000005,5666.8709347954627,66302.389937106913]
["2021-11-16",1644,null,null,null,58600,null,58600,0.90880000000000005,5725.4937375692089,66988.276729559744]
["2021-11-17",1645,null,null,null,59440,null,59440,0.90439999999999998,{"$f":"H266*I266/9.3015","v":5779.448046014083},{"$f":"H266*I266/0.795","v":67619.542138364777}]
[{"$f":"A266","v":"2021-11-17"},1646,null,null,null,57540,null,57540,0.90439999999999998,5594.7079503305913,65458.083018867917]
[{"$f":"A267","v":"2021-11-17"},1647,null,null,null,60020,null,60020,0.90439999999999998,5835.842391012201,68279.355974842765]
["2021-11-17",1648,null,null,null,60180,null,60180,0.90439999999999998,5851.399451701338,68461.373584905654]
["2021-11-17",1649,null,null,null,60040,null,60040,0.90439999999999998,5837.7870235983437,68302.108176100621]
["2021-11-17",1650,null,null,null,59480,null,59480,0.90439999999999998,5783.3373111863675,67665.046540880503]
["2021-11-17",1651,null,null,null,60460,null,60460,0.90439999999999998,5878.6243079073256,68779.90440251572]
["2021-11-17",1652,null,null,null,62480,null,62480,0.90439999999999998,6075.0321991076698,71077.876729559735]
["2021-11-17",1653,null,null,null,59820,null,59820,0.90439999999999998,5816.3960651507814,68051.833962264151]
["2021-11-17",1654,null,null,null,61760,null,61760,0.90439999999999998,6005.0254260065576,70258.797484276729]
["2021-11-17",1655,null,null,null,60900,null,60900,0.90439999999999998,5921.4062248024502,69280.452830188675]
["2021-11-17",1656,null,null,null,59640,null,59640,0.90439999999999998,5798.8943718755036,67847.064150943392]
[{"$f":"A277","v":"2021-11-17"},1657,null,null,null,59120,null,59120,0.90439999999999998,5748.3339246358109,67255.506918238985]
["2021-11-18",1658,null,null,null,59980,null,59980,0.91,{"$f":"H279*I279/9.3015","v":5868.0642907058},{"$f":"H279*I279/0.795","v":68656.352201257861}]
[{"$f":"A279","v":"2021-11-18"},1659,null,null,null,59380,null,59380,0.91,5809.3640810621937,67969.55974842768]
[{"$f":"A280","v":"2021-11-18"},1660,null,null,null,60620,null,60620,0.91,5930.6778476589798,69388.93081761006]
["2021-11-18",1661,null,null,null,58940,null,58940,0.91,5766.3172606568833,67465.911949685527]
["2021-11-18",1662,null,null,null,59700,null,59700,0.91,5840.6708595387836,68335.849056603765]
["2021-11-18",1663,null,null,null,60800,null,60800,0.91,5948.2879105520606,69594.968553459112]
["2021-11-18",1664,null,null,null,61380,null,61380,0.91,6005.0314465408801,70258.867924528298]
["2021-11-18",1665,null,null,null,61860,null,61860,0.91,6051.9916142557649,70808.30188679244]
["2021-11-18",1666,null,null,null,61200,null,61200,0.91,5987.4213836477984,70052.830188679247]
["2021-11-18",1667,null,null,null,61520,null,61520,0.91,6018.7281621243883,70419.119496855346]
["2021-11-18",1668,null,null,null,60520,null,60520,0.91,5920.8944793850451,69274.46540880503]
["2021-11-18",1669,null,null,null,58920,null,58920,0.91,5764.3605870020965,67443.018867924533]
["2021-11-19",1670,null,null,null,60360,null,60360,0.90739999999999998,5888.3689727463307,68893.916981132075]
[{"$f":"A291","v":"2021-11-19"},1671,null,null,null,59940,null,59940,0.90739999999999998,{"$f":"H292*I292/9.3015","v":5847.3962264150932},{"$f":"H292*I292/0.795","v":68414.5358490566}]
[{"$f":"A292","v":"2021-11-19"},1672,null,null,null,60540,null,60540,0.90739999999999998,5905.9287211740038,69099.366037735846]
["2021-11-19",1673,null,null,null,62400,null,62400,0.90739999999999998,6087.379454926624,71222.339622641506]
["2021-11-19",1674,null,null,null,60900,null,60900,0.90739999999999998,5941.0482180293493,69510.264150943389]
["2021-11-22",1675,null,null,null,61960,null,61960,0.9,5995.1620706337681,70143.39622641509]
[{"$f":"A296","v":"2021-11-22"},1676,null,null,null,61200,null,61200,0.9,{"$f":"H297*I297/9.3015","v":5921.6255442670536},{"$f":"H297*I297/0.795","v":69283.018867924518}]
[{"$f":"A297","v":"2021-11-22"},1677,null,null,null,60640,null,60640,0.9,5867.4407353652632,68649.056603773584]
["2021-11-22",{"$f":"1+B298","v":1678},null,null,null,59220,null,59220,0.9,5730.0435413642954,67041.509433962259]
["2021-11-22",1679,null,null,null,59480,null,59480,0.9,5755.2007740686977,67335.849056603765]
["2021-11-22",1680,null,null,null,59840,null,59840,0.9,5790.033865505563,67743.39622641509]
["2021-11-22",1681,null,null,null,59020,null,59020,0.9,5710.6918238993703,66815.094339622636]
["2021-11-22",1682,null,null,null,58360,null,58360,0.9,5646.8311562651179,66067.924528301883]
["2021-11-22",1683,null,null,null,58720,null,58720,0.9,5681.6642477019832,66475.471698113208]
["2021-11-22",1684,null,null,null,59960,null,59960,0.9,5801.6448959845184,67879.24528301887]
["2021-11-22",1685,null,null,null,59200,null,59200,0.9,5728.108369617803,67018.867924528298]
["2021-11-22",1686,null,null,null,61080,null,61080,0.9,5910.0145137880982,69147.169811320753]
["2021-11-22",1687,null,null,null,61420,null,61420,0.9,5942.912433478471,69532.075471698103]
["2021-11-22",1688,null,null,null,60900,null,60900,0.9,5892.5979680696655,68943.39622641509]
["2021-11-22",1689,null,null,null,62960,null,62960,0.9,6091.9206579583933,71275.471698113208]
["2021-11-22",1690,null,null,null,61440,null,61440,0.9,5944.8476052249634,69554.716981132078]
["2021-11-22",1691,null,null,null,63360,null,63360,0.9,6130.6240928882435,71728.301886792455]
["2021-11-22",1692,null,null,null,60780,null,60780,0.9,5880.986937590711,68807.547169811311]
["2021-11-22",1693,null,null,null,61660,null,61660,0.9,5966.1344944363809,69803.773584905663]
["2021-11-22",1694,null,null,null,61280,null,61280,0.9,5929.3662312530232,69373.584905660377]
["2021-11-22",1695,null,null,null,62940,null,62940,0.9,6089.9854862119009,71252.830188679247]
["2021-11-22",1696,null,null,null,60660,null,60660,0.9,5869.3759071117556,68671.698113207545]
["2021-11-22",1697,null,null,null,62720,null,62720,0.9,6068.6985970004835,71003.773584905663]
["2021-11-22",1698,null,null,null,60360,null,60360,0.9,5840.3483309143685,68332.075471698103]
["2021-11-23",1699,null,null,null,61100,null,61100,0.89200000000000002,5859.3990216631728,68554.968553459126]
[{"$f":"A320","v":"2021-11-23"},1700,null,null,null,60600,null,60600,0.89200000000000002,{"$f":"H321*I321/9.3015","v":5811.4497661667474},{"$f":"H321*I321/0.795","v":67993.962264150949}]
[{"$f":"A321","v":"2021-11-23"},1701,null,null,null,61500,null,61500,0.89200000000000002,5897.7584260603126,69003.773584905663]
["2021-11-23",1702,null,null,null,60380,null,60380,0.89200000000000002,5790.3520937483199,67747.119496855346]
["2021-11-23",1703,null,null,null,62180,null,62180,0.89200000000000002,5962.9694135354503,69766.742138364774]
["2021-11-23",1704,null,null,null,60320,null,60320,0.89200000000000002,5784.5981830887486,67679.798742138359]
["2021-11-23",1705,null,null,null,62320,null,62320,0.89200000000000002,5976.3952050744501,69923.823899371069]
["2021-11-23",1706,null,null,null,60660,null,60660,0.89200000000000002,5817.2036768263179,68061.283018867922]
["2021-11-23",1707,null,null,null,62340,null,62340,0.89200000000000002,5978.3131752943063,69946.264150943389]
["2021-11-23",1708,null,null,null,60900,null,60900,0.89200000000000002,5840.2193194646024,68330.566037735844]
["2021-11-23",1709,null,null,null,60900,null,60900,0.89200000000000002,5840.2193194646024,68330.566037735844]
["2021-11-23",1710,null,null,null,60700,null,60700,0.89200000000000002,5821.0396172660321,68106.163522012575]
["2021-11-23",1711,null,null,null,62560,null,62560,0.89200000000000002,5999.4108477127347,70193.106918238991]
["2021-11-23",1712,null,null,null,60960,null,60960,0.89200000000000002,5845.9732301241729,68397.886792452831]
["2021-11-23",1713,null,null,null,61580,null,61580,0.89200000000000002,5905.4303069397401,69093.53459119497]
["2021-11-23",1714,null,null,null,61180,null,61180,0.89200000000000002,5867.0709025425995,68644.729559748419]
["2021-11-23",1715,null,null,null,60240,null,60240,0.89200000000000002,5776.926302209321,67590.037735849051]
["2021-11-23",1716,null,null,null,59700,null,59700,0.89200000000000002,5725.1411062731813,66984.15094339622]
["2021-11-23",1717,null,null,null,59920,null,59920,0.89200000000000002,5746.2387786916088,67230.993710691822]
["2021-11-23",1718,null,null,null,59940,null,59940,0.89200000000000002,5748.1567489114659,67253.433962264156]
["2021-11-24",1719,null,null,null,61920,null,61920,0.89280000000000004,5943.3613933236566,69537.328301886795]
[{"$f":"A340","v":"2021-11-24"},1720,null,null,null,61340,null,61340,0.89280000000000004,{"$f":"H341*I341/9.3015","v":5887.6903725205602},{"$f":"H341*I341/0.795","v":68885.977358490563}]
[{"$f":"A341","v":"2021-11-24"},1721,null,null,null,62720,null,62720,0.89280000000000004,6020.14900822448,70435.743396226419]
["2021-11-24",1722,null,null,null,61200,null,61200,0.89280000000000004,5874.2525399129172,68728.75471698113]
["2021-11-24",1723,null,null,null,62620,null,62620,0.89280000000000004,6010.5505563618772,70323.441509433964]
["2021-11-24",1724,null,null,null,60280,null,60280,0.89280000000000004,5785.9467827769713,67695.577358490569]
["2021-11-24",1725,null,null,null,64120,null,64120,0.89280000000000004,6154.5273343009194,72007.969811320756]
["2021-11-24",1726,null,null,null,61340,null,61340,0.89280000000000004,5887.6903725205602,68885.977358490563]
["2021-11-24",1727,null,null,null,60400,null,60400,0.89280000000000004,5797.4649250120947,67830.339622641506]
["2021-11-24",1728,null,null,null,60620,null,60620,0.89280000000000004,5818.5815191098209,68077.403773584898]
["2021-11-24",1729,null,null,null,61260,null,61260,0.89280000000000004,5880.0116110304789,68796.135849056605]
["2021-11-24",1730,null,null,null,61880,null,61880,0.89280000000000004,5939.5220125786154,69492.407547169802]
["2021-11-29",1731,null,null,null,62680,null,62680,0.89639999999999997,6040.5689404934683,70674.656603773576]
[{"$f":"A352","v":"2021-11-29"},1732,null,null,null,61500,null,61500,0.89639999999999997,{"$f":"H353*I353/9.3015","v":5926.8505079825827},{"$f":"H353*I353/0.795","v":69344.15094339622}]
[{"$f":"A353","v":"2021-11-29"},1733,null,null,null,60200,null,60200,0.89639999999999997,5801.5674891146582,67878.339622641506]
["2021-11-29",1734,null,null,null,61160,null,61160,0.89639999999999997,5894.0841799709724,68960.784905660374]
["2021-11-29",1735,null,null,null,61300,null,61300,0.89639999999999997,5907.5761973875178,69118.641509433961]
["2021-11-29",1736,null,null,null,60480,null,60480,0.89639999999999997,5828.55152394775,68194.052830188666]
["2021-11-29",1737,null,null,null,60680,null,60680,0.89639999999999997,5847.8258345428148,68419.56226415094]
["2021-11-29",1738,null,null,null,61080,null,61080,0.89639999999999997,5886.3744557329455,68870.581132075473]
["2021-11-29",1739,null,null,null,62440,null,62440,0.89639999999999997,6017.4397677793895,70404.045283018859]
["2021-11-29",1740,null,null,null,60980,null,60980,0.89639999999999997,5876.7373004354131,68757.826415094343]
["2021-11-29",1741,null,null,null,62320,null,62320,0.89639999999999997,6005.8751814223506,70268.7396226415]
["2021-11-29",{"$f":"1+B362","v":1742},null,null,null,60800,null,60800,0.89639999999999997,5859.3904208998538,68554.867924528298]
["2021-11-29",1743,null,null,null,61160,null,61160,0.89639999999999997,5894.0841799709724,68960.784905660374]
["2021-11-29",1744,null,null,null,61780,null,61780,0.89639999999999997,5953.8345428156745,69659.864150943395]
["2021-11-29",1745,null,null,null,60520,null,60520,0.89639999999999997,5832.4063860667629,68239.154716981124]
["2021-11-29",1746,null,null,null,61320,null,61320,0.89639999999999997,{"$f":"H367*I367/9.3015","v":5909.5036284470243},{"$f":"H367*I367/0.795","v":69141.19245283019}]
["2021-11-30",1747,null,null,null,60120,null,60120,0.89639999999999997,{"$f":"H368*I368/9.3015","v":5793.8577648766322},{"$f":"H368*I368/0.795","v":67788.135849056605}]
[{"$f":"A368","v":"2021-11-30"},1748,null,null,null,62380,null,62380,0.89639999999999997,6011.65747460087,70336.392452830187]
[{"$f":"A369","v":"2021-11-30"},1749,null,null,null,60340,null,60340,0.89639999999999997,5815.0595065312036,68036.196226415093]
[{"$f":"A370","v":"2021-11-30"},1750,null,null,null,60740,null,60740,0.89639999999999997,5853.6081277213343,68487.215094339612]
["2021-11-30",1751,null,null,null,60620,null,60620,0.89639999999999997,5842.0435413642954,68351.909433962253]
["2021-11-30",1752,null,null,null,60240,null,60240,0.89639999999999997,5805.4223512336712,67923.441509433964]
["2021-11-30",1753,null,null,null,61120,null,61120,0.89639999999999997,5890.2293178519585,68915.683018867916]
["2021-11-30",1754,null,null,null,60940,null,60940,0.89639999999999997,5872.8824383164001,68712.724528301886]
["2021-11-30",1755,null,null,null,60700,null,60700,0.89639999999999997,5849.7532656023213,68442.113207547154]
["2021-11-30",1756,null,null,null,60980,null,60980,0.89639999999999997,5876.7373004354131,68757.826415094343]
["2021-11-30",1757,null,null,null,61480,null,61480,0.89639999999999997,5924.9230769230762,69321.599999999991]
["2021-11-30",1758,null,null,null,60440,null,60440,0.89639999999999997,5824.696661828737,68148.950943396223]
["2021-11-30",{"$f":"1+B379","v":1759},null,null,null,60740,null,60740,0.89639999999999997,5853.6081277213343,68487.215094339612]
["2021-12-01",{"$f":"1+B380","v":1760},null,null,null,59820,null,59820,0.90200000000000002,5800.9611353007576,67871.24528301887]
[{"$f":"A381","v":"2021-12-01"},1761,null,null,null,59620,null,59620,0.90200000000000002,{"$f":"H382*I382/9.3015","v":5781.5664140192439},{"$f":"H382*I382/0.795","v":67644.327044025151}]
[{"$f":"A382","v":"2021-12-01"},1762,null,null,null,61580,null,61580,0.90200000000000002,5971.6346825780784,69868.125786163524]
["2021-12-01",1763,null,null,null,61580,null,61580,0.90200000000000002,5971.6346825780784,69868.125786163524]
[{"$f":"A384","v":"2021-12-01"},1764,null,null,null,59680,null,59680,0.90200000000000002,5787.3848304036983,67712.402515723268]
["2021-12-01",1765,null,null,null,61120,null,61120,0.90200000000000002,5927.0268236305965,69346.213836477982]
["2021-12-01",1766,null,null,null,60200,null,60200,0.90200000000000002,5837.8111057356336,68302.389937106913]
["2021-12-01",1767,null,null,null,60600,null,60600,0.90200000000000002,5876.6005482986611,68756.226415094337]
["2021-12-01",1768,null,null,null,61560,null,61560,0.90200000000000002,5969.6952104499269,69845.433962264156]
["2021-12-01",1769,null,null,null,61100,null,61100,0.90200000000000002,5925.0873515024459,69323.522012578615]
["2021-12-01",{"$f":"1+B390","v":1770},null,null,null,61620,null,61620,0.90200000000000002,5975.5136268343813,69913.509433962259]
["2021-12-01",{"$f":"1+B391","v":1771},null,null,null,60300,null,60300,0.90200000000000002,5847.5084663763901,68415.849056603765]
["2021-12-01",1772,null,null,null,62400,null,62400,0.90200000000000002,6051.1530398322848,70798.490566037741]
["2021-12-01",1773,null,null,null,60460,null,60460,0.90200000000000002,5863.0242434016009,68597.383647798735]
["2021-12-01",1774,null,null,null,61840,null,61840,0.90200000000000002,{"$f":"H395*I395/9.3015","v":5996.8478202440465},{"$f":"H395*I395/0.795","v":70163.119496855346}]
["2021-12-01",1775,null,null,null,59760,null,59760,0.90200000000000002,5795.1427189163041,67803.169811320753]
["2021-12-02",1776,null,null,null,60240,null,60240,0.90400000000000003,{"$f":"H397*I397/9.3015","v":5854.6427995484592},{"$f":"H397*I397/0.795","v":68499.320754716973}]
[{"$f":"A397","v":"2021-12-02"},{"$f":"1+B397","v":1777},null,null,null,60500,null,60500,0.90400000000000003,5879.9118421759922,68794.968553459112]
[{"$f":"A398","v":"2021-12-02"},{"$f":"1+B398","v":1778},null,null,null,59020,null,59020,0.90400000000000003,5736.072676450035,67112.050314465407]
[{"$f":"A399","v":"2021-12-02"},1779,null,null,null,60360,null,60360,0.90400000000000003,5866.3054346073213,68635.773584905663]
["2021-12-02",1780,null,null,null,61220,null,61220,0.90400000000000003,5949.8876525291616,69613.685534591204]
["2021-12-02",1781,null,null,null,59300,null,59300,0.90400000000000003,5763.2854915873786,67430.440251572334]
["2021-12-02",1782,null,null,null,60420,null,60420,0.90400000000000003,5872.136752136752,68704]
["2021-12-02",1783,null,null,null,60920,null,60920,0.90400000000000003,5920.7310648820076,69272.553459119488]
["2021-12-02",1784,null,null,null,61360,null,61360,0.90400000000000003,5963.4940600978334,69772.880503144654]
["2021-12-02",1785,null,null,null,60660,null,60660,0.90400000000000003,5895.4620222544745,68976.90566037735]
["2021-12-02",1786,null,null,null,61400,null,61400,0.90400000000000003,5967.3816051174535,69818.364779874202]
["2021-12-02",1787,null,null,null,61640,null,61640,0.90400000000000003,5990.706875235177,70091.270440251581]
["2021-12-02",1788,null,null,null,60360,null,60360,0.90400000000000003,5866.3054346073213,68635.773584905663]
["2021-12-02",1789,null,null,null,61060,null,61060,0.90400000000000003,5934.3374724506793,69431.748427672952]
["2021-12-02",1790,null,null,null,59480,null,59480,0.90400000000000003,5780.7794441756696,67635.119496855346]
["2021-12-03",1791,null,null,null,60200,null,60200,0.89900000000000002,{"$f":"H412*I412/9.3015","v":5818.3948825458256},{"$f":"H412*I412/0.795","v":68075.22012578616}]
[{"$f":"A412","v":"2021-12-03"},1792,null,null,null,62240,null,62240,0.89900000000000002,{"$f":"H413*I413/9.3015","v":6015.5630812234585},{"$f":"H413*I413/0.795","v":70382.088050314458}]
[{"$f":"A413","v":"2021-12-03"},1793,null,null,null,60440,null,60440,0.89900000000000002,5841.5911412137821,68346.61635220125]
[{"$f":"A414","v":"2021-12-03"},1794,null,null,null,60200,null,60200,0.89900000000000002,5818.3948825458256,68075.22012578616]
["2021-12-03",1795,null,null,null,61380,null,61380,0.89900000000000002,5932.443154329947,69409.584905660377]
["2021-12-03",1796,null,null,null,60900,null,60900,0.89900000000000002,5886.0506369940322,68866.792452830181]
["2021-12-03",{"$f":"1+B417","v":1797},null,null,null,61900,null,61900,0.89900000000000002,5982.7017147771858,69997.610062893073]
["2021-12-03",1798,null,null,null,60500,null,60500,0.89900000000000002,5847.3902058807716,68414.46540880503]
["2021-12-06",{"$f":"1+B419","v":1799},null,null,null,61280,null,61280,0.90080000000000005,5934.6367790141376,69435.250314465418]
[{"$f":"A420","v":"2021-12-06"},{"$f":"1+B420","v":1800},null,null,null,61520,null,61520,0.90080000000000005,{"$f":"H421*I421/9.3015","v":5957.8794818040096},{"$f":"H421*I421/0.795","v":69707.189937106916}]
[{"$f":"A421","v":"2021-12-06"},1801,null,null,null,62060,null,62060,0.90080000000000005,6010.1755630812231,70319.05408805031]
["2021-12-06",1802,null,null,null,60360,null,60360,0.90080000000000005,5845.5397516529583,68392.815094339618]
["2021-12-06",1803,null,null,null,60480,null,60480,0.90080000000000005,5857.1611030478953,68528.784905660374]
["2021-12-06",1804,null,null,null,60640,null,60640,0.90080000000000005,5872.6562382411439,68710.077987421377]
["2021-12-06",1805,null,null,null,60460,null,60460,0.90080000000000005,5855.2242111487394,68506.12327044025]
["2021-12-06",1806,null,null,null,60220,null,60220,0.90080000000000005,5831.9815083588664,68234.183647798738]
["2021-12-06",1807,null,null,null,61380,null,61380,0.90080000000000005,5944.3212385099168,69548.558490566036]
["2021-12-06",1808,null,null,null,60520,null,60520,0.90080000000000005,5861.0348868462079,68574.108176100635]
["2021-12-06",1809,null,null,null,60960,null,60960,0.90080000000000005,5903.6465086276403,69072.664150943398]
["2021-12-06",1810,null,null,null,61140,null,61140,0.90080000000000005,5921.0785357200448,69276.618867924524]
["2021-12-06",1811,null,null,null,59880,null,59880,0.90080000000000005,5799.0543460732133,67848.935849056608]
["2021-12-06",1812,null,null,null,61040,null,61040,0.90080000000000005,5911.3940762242646,69163.310691823892]
["2021-12-06",1813,null,null,null,60180,null,60180,0.90080000000000005,5828.1077245605547,68188.860377358491]
["2021-12-06",1814,null,null,null,61100,null,61100,0.90080000000000005,5917.2047519217331,69231.295597484277]
["2021-12-06",1815,null,null,null,61040,null,61040,0.90080000000000005,5911.3940762242646,69163.310691823892]
["2021-12-06",105,null,null,null,61580,null,61580,0.90080000000000005,5963.6901575014781,69775.174842767301]
["2021-12-07",1816,null,null,null,60780,null,60780,0.90080000000000005,{"$f":"H438*I438/9.3015","v":5886.2144815352358},{"$f":"H438*I438/0.795","v":68868.709433962271}]
[{"$f":"A438","v":"2021-12-07"},{"$f":"1+B438","v":1817},null,null,null,61220,null,61220,0.90080000000000005,5928.8261033166691,69367.265408805033]
[{"$f":"A439","v":"2021-12-07"},{"$f":"1+B439","v":1818},null,null,null,60380,null,60380,0.90080000000000005,5847.4766435521151,68415.476729559756]
["2021-12-07",1819,null,null,null,60500,null,60500,0.90080000000000005,5859.0979949470511,68551.446540880497]
["2021-12-07",1820,null,null,null,59680,null,59680,0.90080000000000005,5779.6854270816539,67622.319496855343]
["2021-12-07",1821,null,null,null,61020,null,61020,0.90080000000000005,5909.4571843251088,69140.649056603783]
["2021-12-07",1822,null,null,null,61460,null,61460,0.90080000000000005,5952.0688061065421,69639.205031446545]
["2021-12-07",1823,null,null,null,61840,null,{"$f":"E445+F445+G445","v":61840},0.90080000000000005,5988.8697521905069,70069.776100628922]
["2021-12-07",1824,null,null,null,61060,null,61060,0.90080000000000005,5913.3309681234214,69185.97232704403]
["2021-12-07",1825,null,null,null,61060,null,61060,0.90080000000000005,5913.3309681234214,69185.97232704403]
["2021-12-07",1826,null,null,null,58380,null,58380,0.90080000000000005,{"$f":"H448*I448/9.3015","v":5653.7874536365107},{"$f":"H448*I448/0.795","v":66149.313207547166}]
["2021-12-08",1827,null,null,null,60020,null,60020,0.90239999999999998,5822.9369456539262,68128.362264150928]
[{"$f":"A449","v":"2021-12-08"},{"$f":"1+B449","v":1828},null,null,null,60780,null,60780,0.90239999999999998,{"$f":"H450*I450/9.3015","v":5896.6695694242853},{"$f":"H450*I450/0.795","v":68991.033962264148}]
[{"$f":"A450","v":"2021-12-08"},{"$f":"1+B450","v":1829},null,null,null,60060,null,60060,0.90239999999999998,5826.8176100628925,68173.766037735841]
["2021-12-08",1830,null,null,null,60380,null,60380,0.90239999999999998,5857.8629253346226,68536.996226415082]
["2021-12-08",1831,null,null,null,61640,null,61640,0.90239999999999998,5980.1038542170618,69967.215094339626]
["2021-12-08",1832,null,null,null,61120,null,61120,0.90239999999999998,5929.6552169004999,69376.966037735852]
["2021-12-08",1833,null,null,null,60080,null,60080,0.90239999999999998,5828.7579422673753,68196.46792452829]
["2021-12-08",1834,null,null,null,60980,null,60980,0.90239999999999998,5916.0728914691172,69218.052830188681]
["2021-12-08",1835,null,null,null,62020,null,62020,0.90239999999999998,6016.9701661022409,70398.550943396214]
["2021-12-08",1836,null,null,null,61380,null,61380,0.90239999999999998,5954.8795355587799,69672.090566037732]
["2021-12-08",1837,null,null,null,61180,null,61180,0.90239999999999998,5935.476213513949,69445.071698113214]
["2021-12-08",1838,null,null,null,60400,null,60400,0.90239999999999998,5859.8032575391062,68559.698113207545]
["2021-12-08",1839,null,null,null,59780,null,59780,0.90239999999999998,5799.6529592001289,67855.939622641512]
["2021-12-08",1840,null,null,null,59360,null,59360,0.90239999999999998,5758.9059829059825,67379.199999999997]
["2021-12-09",{"$f":"1+B462","v":1841},null,null,null,60080,null,60080,0.90239999999999998,5828.7579422673753,68196.46792452829]
[{"$f":"A463","v":"2021-12-09"},{"$f":"1+B463","v":1842},null,null,null,61260,null,61260,0.90239999999999998,{"$f":"H464*I464/9.3015","v":5943.2375423318808},{"$f":"H464*I464/0.795","v":69535.879245283009}]
[{"$f":"A464","v":"2021-12-09"},1843,null,null,null,60140,null,60140,0.90239999999999998,5834.5789388808244,68264.573584905651]
["2021-12-09",1844,null,null,null,60620,null,60620,0.90239999999999998,5881.1469117884208,68809.418867924527]
["2021-12-09",1845,null,null,null,60560,null,60560,0.90239999999999998,5875.3259151749708,68741.313207547166]
["2021-12-09",1846,null,null,null,60880,null,60880,0.90239999999999998,5906.3712304467017,69104.543396226407]
["2021-12-09",1847,null,null,null,null,null,0,0.90239999999999998,0,0]
["2021-12-09",1848,null,null,null,61180,null,61180,0.90239999999999998,5935.476213513949,69445.071698113214]
["2021-12-09",1849,null,null,null,61060,null,61060,0.90239999999999998,5923.8342202870499,69308.860377358491]
["2021-12-09",1850,null,null,null,61620,null,61620,0.90239999999999998,5978.1635220125781,69944.513207547163]
["2021-12-09",1851,null,null,null,60760,null,60760,0.90239999999999998,5894.7292372198026,68968.332075471699]
["2021-12-09",1852,null,null,null,60780,null,60780,0.90239999999999998,5896.6695694242853,68991.033962264148]
["2021-12-09",1853,null,null,null,60720,null,60720,0.90239999999999998,5890.8485728108362,68922.928301886786]
["2021-12-09","00106'",null,null,null,60260,null,60260,0.90239999999999998,5846.2209321077235,68400.784905660374]
["2021-12-10",1854,null,null,null,61320,null,61320,0.89839999999999998,5922.6885986131265,69295.456603773579]
[{"$f":"A477","v":"2021-12-10"},{"$f":"1+B477","v":1855},null,null,null,60140,null,60140,0.89839999999999998,{"$f":"H478*I478/9.3015","v":5808.716443584367},{"$f":"H478*I478/0.795","v":67961.982389937097}]
[{"$f":"A478","v":"2021-12-10"},{"$f":"1+B478","v":1856},null,null,null,61080,null,61080,0.89839999999999998,5899.5078213191409,69024.241509433952]
[{"$f":"A479","v":"2021-12-10"},1857,null,null,null,63040,null,63040,0.89839999999999998,6088.817502553351,71239.164779874205]
["2021-12-10",1858,null,null,null,60780,null,60780,0.89839999999999998,5870.5318497016606,68685.222641509434]
["2021-12-10",1859,null,null,null,60120,null,60120,0.89839999999999998,5806.7847121432023,67939.381132075461]
["2021-12-10",1860,null,null,null,60840,null,60840,0.89839999999999998,5876.3270440251563,68753.026415094326]
["2021-12-10",1861,null,null,null,60640,null,60640,0.89839999999999998,5857.0097296135018,68527.013836477985]
["2021-12-10",1862,null,null,null,61280,null,61280,0.89839999999999998,5918.8251357307954,69250.254088050307]
["2021-12-13",1863,null,null,null,61180,null,61180,0.9,5919.6903725205611,69260.377358490558]
[{"$f":"A486","v":"2021-12-13"},{"$f":"1+B486","v":1864},null,null,null,61900,null,61900,0.9,{"$f":"H487*I487/9.3015","v":5989.3565553942908},{"$f":"H487*I487/0.795","v":70075.471698113208}]
[{"$f":"A487","v":"2021-12-13"},{"$f":"1+B487","v":1865},null,null,null,60440,null,60440,0.9,5848.0890179003381,68422.641509433961]
["2021-12-13",1866,null,null,null,59780,null,59780,0.9,5784.2283502660857,67675.471698113208]
["2021-12-13",1867,null,null,null,60580,null,60580,0.9,5861.635220125786,68581.132075471702]
["2021-12-13",1868,null,null,null,60360,null,60360,0.9,5840.3483309143685,68332.075471698103]
["2021-12-13",1869,null,null,null,60320,null,60320,0.9,5836.4779874213827,68286.792452830181]
["2021-12-13",1870,null,null,null,60720,null,60720,0.9,5875.1814223512329,68739.622641509428]
["2021-12-13",1871,null,null,null,62100,null,62100,0.9,6008.7082728592159,70301.886792452831]
["2021-12-13",1872,null,null,null,61120,null,61120,0.9,5913.884857281083,69192.452830188675]
["2021-12-13",1873,null,null,null,60580,null,60580,0.9,5861.635220125786,68581.132075471702]
["2021-12-13",1874,null,null,null,61280,null,61280,0.9,5929.3662312530232,69373.584905660377]
["2021-12-14",1875,null,null,null,60700,null,60700,0.90239999999999998,5888.9082406063535,68900.226415094337]
[{"$f":"A498","v":"2021-12-14"},1876,null,null,null,60760,null,60760,0.90239999999999998,{"$f":"H499*I499/9.3015","v":5894.7292372198026},{"$f":"H499*I499/0.795","v":68968.332075471699}]
[{"$f":"A499","v":"2021-12-14"},1877,null,null,null,60700,null,60700,0.90239999999999998,5888.9082406063535,68900.226415094337]
["2021-12-14",1878,null,null,null,61040,null,61040,0.90239999999999998,5921.8938880825672,69286.158490566027]
["2021-12-14",1879,null,null,null,61140,null,61140,0.90239999999999998,5931.5955491049826,69399.667924528301]
["2021-12-14",1880,null,null,null,60160,null,60160,0.90239999999999998,5836.519271085308,68287.275471698114]
["2021-12-14",1881,null,null,null,60760,null,60760,0.90239999999999998,5894.7292372198026,68968.332075471699]
["2021-12-14",1882,null,null,null,61340,null,61340,0.90239999999999998,5950.9988711498145,69626.686792452834]
["2021-12-14",1883,null,null,null,60860,null,60860,0.90239999999999998,5904.4308982422181,69081.841509433958]
["2021-12-14",1884,null,null,null,60620,null,60620,0.90239999999999998,5881.1469117884208,68809.418867924527]
["2021-12-15",1885,null,null,null,60940,null,60940,0.90200000000000002,5909.5715744772351,69141.987421383645]
[{"$f":"A508","v":"2021-12-15"},1886,null,null,null,60820,null,60820,0.90200000000000002,{"$f":"H509*I509/9.3015","v":5897.9347417083263},{"$f":"H509*I509/0.795","v":69005.83647798741}]
[{"$f":"A509","v":"2021-12-15"},1887,null,null,null,60100,null,60100,0.90200000000000002,5828.1137450948772,68188.93081761006]
["2021-12-15",1888,null,null,null,61340,null,61340,0.90200000000000002,5948.3610170402617,69595.823899371069]
["2021-12-15",1889,null,null,null,60280,null,60280,0.90200000000000002,5845.5689942482395,68393.157232704412]
["2021-12-15",1890,null,null,null,60520,null,60520,0.90200000000000002,5868.8426597860553,68665.459119496853]
["2021-12-15",1891,null,null,null,61200,null,61200,0.90200000000000002,5934.7847121432023,69436.981132075467]
["2021-12-15",1892,null,null,null,61060,null,61060,0.90200000000000002,5921.208407246143,69278.138364779879]
["2021-12-15",1893,null,null,null,60420,null,60420,0.90200000000000002,5859.1452991452988,68552]
["2021-12-15",1894,null,null,null,60420,null,60420,0.90200000000000002,5859.1452991452988,68552]
["2021-12-15",1895,null,null,null,61060,null,61060,0.90200000000000002,5921.208407246143,69278.138364779879]
["2021-12-15",1896,null,null,null,61160,null,61160,0.90200000000000002,5930.9057678868994,69391.597484276732]
["2021-12-15",1897,null,null,null,61080,null,61080,0.90200000000000002,5923.1478793742945,69300.830188679247]
["2021-12-15",1898,null,null,null,60280,null,60280,0.90200000000000002,5845.5689942482395,68393.157232704412]
["2021-12-16",1899,null,null,null,60680,null,60680,0.90239999999999998,5886.9679084018699,68877.524528301874]
[{"$f":"A522","v":"2021-12-16"},1900,null,null,null,60960,null,60960,0.90239999999999998,{"$f":"H523*I523/9.3015","v":5914.1325592646335},{"$f":"H523*I523/0.795","v":69195.350943396217}]
[{"$f":"A523","v":"2021-12-16"},10862,null,null,null,60140,null,60140,0.90239999999999998,5834.5789388808244,68264.573584905651]
["2021-12-16",1902,null,null,null,61060,null,61060,0.90239999999999998,5923.8342202870499,69308.860377358491]
["2021-12-16",10861,null,null,null,61280,null,61280,0.90239999999999998,5945.1778745363645,69558.581132075473]
["2021-12-16",1904,null,null,null,61120,null,61120,0.90239999999999998,5929.6552169004999,69376.966037735852]
["2021-12-16",1905,null,null,null,60700,null,60700,0.90239999999999998,5888.9082406063535,68900.226415094337]
["2021-12-16",1906,null,null,null,60560,null,60560,0.90239999999999998,5875.3259151749708,68741.313207547166]
["2021-12-16",1907,null,null,null,60280,null,60280,0.90239999999999998,5848.1612643122071,68423.486792452823]
["2021-12-16",1908,null,null,null,60560,null,60560,0.90239999999999998,5875.3259151749708,68741.313207547166]
["2021-12-16",1909,null,null,null,60460,null,60460,0.90239999999999998,5865.6242541525553,68627.803773584907]
["2021-12-16",1910,null,null,null,61040,null,61040,0.90239999999999998,5921.8938880825672,69286.158490566027]
["2021-12-16",1911,null,null,null,60940,null,60940,0.90239999999999998,5912.1922270601508,69172.649056603768]
["2021-12-16",1912,null,null,null,60220,null,60220,0.90239999999999998,5842.340267698758,68355.381132075461]
["2021-12-17",1913,null,null,null,60620,null,60620,0.90239999999999998,{"$f":"H536*I536/9.3015","v":5881.1469117884208},{"$f":"H536*I536/0.795","v":68809.418867924527}]
[{"$f":"A536","v":"2021-12-17"},1914,null,null,null,60620,null,60620,0.90239999999999998,5881.1469117884208,68809.418867924527]
[{"$f":"A537","v":"2021-12-17"},1915,null,null,null,60280,null,60280,0.90239999999999998,5848.1612643122071,68423.486792452823]
["2021-12-17",1916,null,null,null,60220,null,60220,0.90239999999999998,5842.340267698758,68355.381132075461]
["2021-12-17",1917,null,null,null,59960,null,59960,0.90239999999999998,5817.1159490404771,68060.256603773581]
["2021-12-17",1918,null,null,null,60340,null,60340,0.90239999999999998,5853.9822609256562,68491.592452830184]
["2021-12-17",1919,null,null,null,60800,null,60800,0.90239999999999998,5898.609901628769,69013.735849056597]
["2021-12-20",1920,null,null,null,61040,null,61040,0.90200000000000002,5919.2689351179915,69255.446540880497]
[{"$f":"A543","v":"2021-12-20"},1921,null,null,null,60760,null,60760,0.90200000000000002,5892.1163253238728,68937.761006289307]
[{"$f":"A544","v":"2021-12-20"},1922,null,null,null,60100,null,60100,0.90200000000000002,5828.1137450948772,68188.93081761006]
["2021-12-20",1923,null,null,null,59500,null,59500,0.90200000000000002,5769.9295812503351,67508.176100628931]
["2021-12-20",1924,null,null,null,60220,null,60220,0.90200000000000002,5839.7505778637851,68325.081761006295]
["2021-12-20",1925,null,null,null,60560,null,60560,0.90200000000000002,5872.7216040423582,68710.842767295602]
["2021-12-20",1926,null,null,null,59920,null,59920,0.90200000000000002,5810.658495941515,67984.704402515723]
["2021-12-20",1927,null,null,null,60160,null,60160,0.90200000000000002,5833.9321614793307,68257.006289308178]
["2021-12-20",1928,null,null,null,60480,null,60480,0.90200000000000002,5864.9637155297523,68620.075471698103]
["2021-12-20",{"$f":"1+B551","v":1929},null,null,null,60380,null,60380,0.90200000000000002,5855.2663548889959,68506.61635220125]
["2021-12-20",1930,null,null,null,60560,null,60560,0.90200000000000002,5872.7216040423582,68710.842767295602]
["2021-12-20",1931,null,null,null,60420,null,60420,0.90200000000000002,5859.1452991452988,68552]
["2021-12-20",1932,null,null,null,60580,null,60580,0.90200000000000002,5874.6610761705097,68733.53459119497]
["2021-12-20",1933,null,null,null,60480,null,60480,0.90200000000000002,5864.9637155297523,68620.075471698103]
["2021-12-20",1934,null,null,null,59940,null,59940,0.90200000000000002,5812.5979680696664,68007.39622641509]
["2021-12-21",1935,null,null,null,57980,null,57980,0.90239999999999998,5625.023060796645,65812.769811320759]
[{"$f":"A558","v":"2021-12-21"},1936,null,null,null,60580,null,60580,0.90239999999999998,5877.2662473794544,68764.015094339615]
[{"$f":"A559","v":"2021-12-21"},1937,null,null,null,60300,null,60300,0.90239999999999998,5850.1015965166907,68446.188679245286]
["2021-12-21",1938,null,null,null,58760,null,58760,0.90239999999999998,5700.6960167714878,66698.143396226413]
["2021-12-21",1939,null,null,null,60240,null,60240,0.90239999999999998,5844.2805999032407,68378.083018867925]
["2021-12-21",1940,null,null,null,59580,null,59580,0.90239999999999998,5780.249637155297,67628.920754716979]
["2021-12-21",1941,null,null,null,58560,null,58560,0.90239999999999998,5681.2926947266569,66471.12452830188]
["2021-12-21",1942,null,null,null,60340,null,60340,0.90239999999999998,5853.9822609256562,68491.592452830184]
["2021-12-21",1943,null,null,null,60780,null,60780,0.90239999999999998,5896.6695694242853,68991.033962264148]
["2021-12-21",1944,null,null,null,58260,null,58260,0.90239999999999998,5652.1877116594096,66130.596226415088]
["2021-12-21",1945,null,null,null,60580,null,60580,0.90239999999999998,5877.2662473794544,68764.015094339615]
["2021-12-21",1946,null,null,null,60620,null,60620,0.90239999999999998,5881.1469117884208,68809.418867924527]
["2021-12-21",1947,null,null,null,61100,null,61100,0.90239999999999998,5927.7148846960163,69354.264150943389]
["2021-12-21",1948,null,null,null,61140,null,61140,0.90239999999999998,5931.5955491049826,69399.667924528301]
["2021-12-21",1949,null,null,null,60240,null,60240,0.90239999999999998,5844.2805999032407,68378.083018867925]
["2021-12-21",1950,null,null,null,59620,null,59620,0.90239999999999998,5784.1303015642625,67674.324528301877]
["2021-12-22",1951,null,null,null,59780,null,59780,0.90400000000000003,5809.9360318228237,67976.251572327048]
[{"$f":"A574","v":"2021-12-22"},1952,null,null,null,60040,null,60040,0.90400000000000003,{"$f":"H575*I575/9.3015","v":5835.2050744503576},{"$f":"H575*I575/0.795","v":68271.899371069187}]
[{"$f":"A575","v":"2021-12-22"},1953,null,null,null,60720,null,60720,0.90400000000000003,5901.293339783906,69045.132075471702]
["2021-12-22",1954,null,null,null,58460,null,58460,0.90400000000000003,5681.6470461753479,66475.270440251566]
["2021-12-22",1955,null,null,null,60040,null,60040,0.90400000000000003,5835.2050744503576,68271.899371069187]
["2021-12-22",1956,null,null,null,62040,null,62040,0.90400000000000003,6029.5823254313818,70546.113207547169]
["2021-12-22",1957,null,null,null,59640,null,59640,0.90400000000000003,5796.3296242541528,67817.056603773584]
["2021-12-22",1958,null,null,null,61160,null,61160,0.90400000000000003,5944.056334999731,69545.459119496853]
["2021-12-22",1959,null,null,null,58820,null,58820,0.90400000000000003,5716.6349513519317,66884.628930817606]
["2021-12-22",1960,null,null,null,59480,null,59480,0.90400000000000003,5780.7794441756696,67635.119496855346]
["2021-12-22",1961,null,null,null,60360,null,60360,0.90400000000000003,5866.3054346073213,68635.773584905663]
["2021-12-22",1962,null,null,null,59340,null,59340,0.90400000000000003,5767.1730366069987,67475.924528301883]
["2021-12-22",1963,null,null,null,60240,null,60240,0.90400000000000003,5854.6427995484592,68499.320754716973]
["2021-12-22",1964,null,null,null,60480,null,60480,0.90400000000000003,5877.9680696661826,68772.226415094337]
["2021-12-22",1965,null,null,null,59680,null,59680,0.90400000000000003,5800.2171692737729,67862.540880503147]
["2021-12-23",1966,null,null,null,59320,null,59320,0.90439999999999998,5767.7802504972315,67483.028930817614]
[{"$f":"A589","v":"2021-12-23"},1967,null,null,null,60060,null,60060,0.90439999999999998,{"$f":"H590*I590/9.3015","v":5839.7316561844855},{"$f":"H590*I590/0.795","v":68324.860377358476}]
["2021-12-23",1968,null,null,null,59860,null,59860,0.90439999999999998,5820.2853303230659,68097.338364779862]
["2021-12-23",1969,null,null,null,58560,null,58560,0.90439999999999998,5693.8842122238339,66618.445283018867]
["2021-12-23",1970,null,null,null,59960,null,59960,0.90439999999999998,5830.0084932537757,68211.099371069184]
["2021-12-23",1971,null,null,null,59680,null,59680,0.90439999999999998,5802.7836370477871,67892.568553459118]
["2021-12-23",1972,null,null,null,58760,null,58760,0.90439999999999998,5713.3305380852544,66845.967295597482]
["2021-12-23",1973,null,null,null,61260,null,61260,0.90439999999999998,5956.4096113530077,69689.992452830193]
["2021-12-23",1974,null,null,null,59620,null,59620,0.90439999999999998,5796.9497392893618,67824.311949685536]
["2021-12-23",1975,null,null,null,58820,null,58820,0.90439999999999998,5719.1644358436806,66914.223899371063]
["2021-12-23",1976,null,null,null,59460,null,59460,0.90439999999999998,5781.3926786002248,67642.294339622633]
["2021-12-23",1977,null,null,null,60240,null,60240,0.90439999999999998,5857.2333494597633,68529.630188679235]
["2021-12-23",1978,null,null,null,60500,null,60500,0.90439999999999998,5882.5135730796101,68825.408805031446]
["2021-12-27",1979,null,null,null,61060,null,61060,0.90639999999999998,5950.0923506961235,69616.080503144651]
[{"$f":"A602","v":"2021-12-27"},1980,null,null,null,59300,null,59300,0.90639999999999998,{"$f":"H603*I603/9.3015","v":5778.5862495296451},{"$f":"H603*I603/0.795","v":67609.459119496853}]
[{"$f":"A603","v":"2021-12-27"},1981,null,null,null,60600,null,60600,0.90639999999999998,5905.2668924367026,69091.622641509428]
["2021-12-27",1982,null,null,null,60240,null,60240,0.90639999999999998,5870.1860990162868,68681.17735849056]
["2021-12-27",1983,null,null,null,58760,null,58760,0.90639999999999998,5725.9650593990209,66993.791194968551]
["2021-12-27",1984,null,null,null,61300,null,61300,0.90639999999999998,5973.4795463097344,69889.710691823901]
["2021-12-27",1985,null,null,null,61220,null,61220,0.90639999999999998,5965.683814438531,69798.500628930808]
["2021-12-27",1986,null,null,null,60560,null,60560,0.90639999999999998,5901.3690265011019,69046.017610062889]
["2021-12-27",1987,null,null,null,61320,null,61320,0.90639999999999998,5975.4284792775352,69912.513207547163]
["2021-12-27",1988,null,null,null,60800,null,60800,0.90639999999999998,5924.7562221147127,69319.647798742139]
["2021-12-27",1989,null,null,null,60120,null,60120,0.90639999999999998,5858.4925012094818,68544.362264150928]
["2021-12-27",1990,null,null,null,61080,null,61080,0.90639999999999998,5952.0412836639243,69638.883018867913]
["2021-12-27",1991,null,null,null,60600,null,60600,0.90639999999999998,5905.2668924367026,69091.622641509428]
["2021-12-27",1992,null,null,null,60420,null,60420,0.90639999999999998,5887.7264957264952,68886.399999999994]
["2021-12-28",{"$f":"1+B615","v":1993},null,null,null,59240,null,59240,0.90600000000000003,5770.1919045315271,67511.24528301887]
["2021-12-28",1994,null,null,null,60360,null,60360,0.90600000000000003,{"$f":"H617*I617/9.3015","v":5879.2839864537973},{"$f":"H617*I617/0.795","v":68787.622641509428}]
[{"$f":"A617","v":"2021-12-28"},1995,null,null,null,60280,null,60280,0.90600000000000003,5871.4916948879209,68696.452830188675]
[{"$f":"A618","v":"2021-12-28"},1996,null,null,null,60380,null,60380,0.90600000000000003,5881.232059345266,68810.415094339623]
["2021-12-28",1997,null,null,null,60580,null,60580,0.90600000000000003,5900.712788259958,69038.339622641506]
["2021-12-28",1998,null,null,null,60680,null,60680,0.90600000000000003,5910.4531527173031,69152.301886792455]
["2021-12-28",1999,null,null,null,60720,null,60720,0.90600000000000003,5914.3492985002413,69197.886792452831]
["2021-12-28",2000,null,null,null,61080,null,61080,0.90600000000000003,5949.4146105466862,69608.15094339622]
["2021-12-28",2001,null,null,null,61260,null,61260,0.90600000000000003,5966.9472665699077,69813.283018867922]
["2021-12-28",2002,null,null,null,60540,null,60540,0.90600000000000003,5896.8166424770197,68992.75471698113]
["2021-12-28",2003,null,null,null,59120,null,59120,0.90600000000000003,5758.5034671827125,67374.490566037741]
["2021-12-28",2004,null,null,null,60840,null,60840,0.90600000000000003,5926.0377358490559,69334.641509433961]
["2021-12-29",2005,null,null,null,60620,null,60620,0.90839999999999999,5920.2502822125462,69266.928301886786]
[{"$f":"A628","v":"2021-12-29"},2006,null,null,null,58840,null,58840,0.90839999999999999,{"$f":"H629*I629/9.3015","v":5746.4125141106269},{"$f":"H629*I629/0.795","v":67233.02641509434}]
[{"$f":"A629","v":"2021-12-29"},2007,null,null,null,60120,null,60120,0.90839999999999999,5871.4194484760519,68695.607547169813]
["2021-12-29",2008,null,null,null,60160,null,60160,0.90839999999999999,5875.3259151749708,68741.313207547166]
["2021-12-29",2009,null,null,null,59520,null,59520,0.90839999999999999,5812.8224479922592,68010.022641509437]
["2021-12-29",2010,null,null,null,60300,null,60300,0.90839999999999999,5888.998548621189,68901.283018867922]
["2021-12-29",2011,null,null,null,60520,null,60520,0.90839999999999999,5910.4841154652477,69152.664150943398]
["2021-12-29",2012,null,null,null,59660,null,59660,0.90839999999999999,5826.4950814384774,68169.992452830193]
["2021-12-29",2013,null,null,null,60760,null,60760,0.90839999999999999,5933.9229156587644,69426.898113207542]
["2021-12-29",2014,null,null,null,60700,null,60700,0.90839999999999999,5928.0632156103848,69358.339622641506]
["2021-12-29",2015,null,null,null,60320,null,60320,0.90839999999999999,5890.9517819706498,68924.135849056605]
["2021-12-29",2016,null,null,null,60600,null,60600,0.90839999999999999,5918.2970488630863,69244.075471698117]
["2021-12-29",2017,null,null,null,60320,null,60320,0.90839999999999999,5890.9517819706498,68924.135849056605]
["2021-12-29",2018,null,null,null,59900,null,59900,0.90839999999999999,5849.9338816319942,68444.226415094337]
["2021-12-30",2019,null,null,null,59380,null,59380,0.90800000000000003,5796.5962479170021,67820.176100628931]
[{"$f":"A642","v":"2021-12-30"},2020,null,null,null,59940,null,59940,0.90800000000000003,{"$f":"H643*I643/9.3015","v":5851.262699564586},{"$f":"H643*I643/0.795","v":68459.773584905663}]
[{"$f":"A643","v":"2021-12-30"},2021,null,null,null,59680,null,59680,0.90800000000000003,5825.8818470139222,68162.817610062892]
["2021-12-30",2022,null,null,null,60580,null,60580,0.90800000000000003,5913.7386443046817,69190.742138364774]
["2021-12-30",2023,null,null,null,60860,null,60860,0.90800000000000003,5941.0718701284741,69510.540880503147]
["2021-12-30",2024,null,null,null,60720,null,60720,0.90800000000000003,5927.4052572165774,69350.641509433961]
["2021-12-30",2025,null,null,null,60740,null,60740,0.90800000000000003,5929.3576304897051,69373.484276729549]
["2021-12-30",2026,null,null,null,60660,null,60660,0.90800000000000003,5921.5481373971934,69282.113207547169]
["2021-12-30",2027,null,null,null,60240,null,60240,0.90800000000000003,5880.5482986615052,68802.415094339623]
["2021-12-30",2028,null,null,null,61120,null,61120,0.90800000000000003,5966.452722679137,69807.496855345904]
["2021-12-30",2029,null,null,null,60620,null,60620,0.90800000000000003,5917.6433908509371,69236.427672955964]
["2021-12-30",2030,null,null,null,59960,null,59960,0.90800000000000003,5853.2150728377137,68482.61635220125]
["2021-12-30",2031,null,null,null,60420,null,60420,0.90800000000000003,5898.1196581196573,69008]
["2021-12-30",2032,null,null,null,59820,null,59820,0.90800000000000003,5839.5484599258189,68322.716981132078]
["2021-12-30",2033,null,null,null,60280,null,60280,0.90800000000000003,5884.4530452077624,68848.100628930828]
["2021-12-30",2034,null,null,null,59360,null,59360,0.90800000000000003,5794.6438746438744,67797.333333333343]
["2021-12-31",2035,null,null,null,60480,null,60480,0.90680000000000005,5896.1741654571842,68985.237735849063]
[{"$f":"A658","v":"2021-12-31"},2036,null,null,null,60240,null,60240,0.90680000000000005,{"$f":"H659*I659/9.3015","v":5872.7766489275928},{"$f":"H659*I659/0.795","v":68711.486792452837}]
[{"$f":"A659","v":"2021-12-31"},2037,null,null,null,60240,null,60240,0.90680000000000005,5872.7766489275928,68711.486792452837]
["2021-12-31",2038,null,null,null,60300,null,60300,0.90680000000000005,5878.6260280599899,68779.924528301883]
["2021-12-31",2039,null,null,null,61180,null,61180,0.90680000000000005,5964.4169220018275,69783.677987421383]
["2021-12-31",2040,null,null,null,60340,null,60340,0.90680000000000005,5882.525614148256,68825.549685534599]
["2021-12-31",2041,null,null,null,60840,null,60840,0.90680000000000005,5931.2704402515719,69395.864150943395]
["2022-01-03",2042,null,null,null,59340,null,59340,0.91,5805.4507337526202,67923.773584905663]
[{"$f":"A665","v":"2022-01-03"},2043,null,null,null,60080,null,60080,0.91,{"$f":"H666*I666/9.3015","v":5877.8476589797347},{"$f":"H666*I666/0.795","v":68770.817610062892}]
[{"$f":"A666","v":"2022-01-03"},2044,null,null,null,58680,null,58680,0.91,5740.8805031446536,67168.301886792455]
["2022-01-03",2045,null,null,null,59080,null,59080,0.91,5780.0139762403915,67626.163522012575]
["2022-01-03",2046,null,null,null,60180,null,60180,0.91,5887.6310272536684,68885.283018867922]
["2022-01-03",2047,null,null,null,59460,null,59460,0.91,5817.1907756813407,68061.132075471687]
["2022-01-03",2048,null,null,null,59040,null,59040,0.91,5776.100628930817,67580.377358490558]
["2022-01-03",2049,null,null,null,60160,null,60160,0.91,5885.6743535988817,68862.389937106913]
["2022-01-03",2050,null,null,null,59920,null,59920,0.91,5862.1942697414397,68587.672955974849]
["2022-01-03",2051,null,null,null,59840,null,59840,0.91,5854.3675751222918,68496.100628930813]
["2022-01-03",2052,null,null,null,59300,null,59300,0.91,5801.5373864430467,67877.987421383645]
["2022-01-03",2053,null,null,null,59820,null,59820,0.91,5852.410901467505,68473.207547169819]
["2022-01-04",2054,null,null,null,58660,null,58660,0.90890000000000004,5731.9866688168568,67064.244025157226]
[{"$f":"A677","v":"2022-01-04"},2055,null,null,null,57220,null,57220,0.90890000000000004,{"$f":"H678*I678/9.3015","v":5591.2764607858944},{"$f":"H678*I678/0.795","v":65417.934591194964}]
[{"$f":"A678","v":"2022-01-04"},2056,null,null,null,59420,null,59420,0.90890000000000004,5806.2503897220877,67933.129559748428]
["2022-01-04",{"$f":"1+B679","v":2057},null,null,null,58380,null,58380,0.90890000000000004,5704.6263505886145,66744.128301886798]
["2022-01-04",2058,null,null,null,59680,null,59680,0.90890000000000004,5831.6563995054557,68230.379874213831]
["2022-01-04",2059,null,null,null,59540,null,59540,0.90890000000000004,5817.9762403913346,68070.322012578617]
["2022-01-04",2060,null,null,null,60420,null,60420,0.90890000000000004,5903.9658119658116,69076.400000000009]
["2022-01-04",2061,null,null,null,60760,null,60760,0.90890000000000004,5937.1890555286782,69465.111949685539]
["2022-01-04",2062,null,null,null,60220,null,60220,0.90890000000000004,5884.422727517067,68847.745911949693]
["2022-01-04",2063,null,null,null,60080,null,60080,0.90890000000000004,5870.7425684029449,68687.688050314464]
["2022-01-04",2064,null,null,null,59660,null,59660,0.90890000000000004,5829.7020910605816,68207.514465408807]
["2022-01-04",2065,null,null,null,60520,null,60520,0.90890000000000004,5913.7373541901843,69190.72704402516]
["2022-01-04",2066,null,null,null,58940,null,58940,0.90890000000000004,5759.3469870450999,67384.359748427669]
["2022-01-05",2067,null,null,null,59460,null,59460,0.90680000000000005,5796.7347202064184,67821.796226415099]
[{"$f":"A690","v":"2022-01-05"},2068,null,null,null,59940,null,59940,0.90680000000000005,{"$f":"H691*I691/9.3015","v":5843.5297532656023},{"$f":"H691*I691/0.795","v":68369.298113207551}]
[{"$f":"A691","v":"2022-01-05"},2069,null,null,null,59440,null,59440,0.90680000000000005,5794.7849271622854,67798.983647798741]
["2022-01-05",2070,null,null,null,58680,null,58680,0.90680000000000005,5720.692791485244,66932.105660377361]
["2022-01-05",2071,null,null,null,59800,null,59800,0.90680000000000005,5829.8812019566731,68209.610062893073]
["2022-01-05",2072,null,null,null,60220,null,60220,0.90680000000000005,5870.8268558834598,68688.674213836479]
["2022-01-05",2073,null,null,null,59940,null,59940,0.90680000000000005,5843.5297532656023,68369.298113207551]
["2022-01-05",2074,null,null,null,57740,null,57740,0.90680000000000005,5629.0525184110093,65859.914465408801]
["2022-01-05",2075,null,null,null,58720,null,58720,0.90680000000000005,5724.5923775735091,66977.730817610063]
["2022-01-05",2076,null,null,null,60000,null,60000,0.90680000000000005,5849.3791323979995,68437.735849056597]
["2022-01-05",2077,null,null,null,59700,null,{"$f":"E700+F700+G700","v":59700},0.90680000000000005,5820.1322367360108,68095.547169811325]
["2022-01-05",2078,null,null,null,61100,null,61100,0.90680000000000005,5956.6177498252964,69692.427672955979]
["2022-01-05",2079,null,null,null,60460,null,60460,0.90680000000000005,5894.2243724130512,68962.425157232705]
["2022-01-05",2080,null,null,null,59100,null,59100,0.90680000000000005,5761.6384454120307,67411.169811320753]
["2022-01-06",2081,null,null,null,60020,null,60020,0.91,{"$f":"H704*I704/9.3015","v":5871.9776380153735},{"$f":"H704*I704/0.795","v":68702.138364779879}]
[{"$f":"A704","v":"2022-01-06"},2082,null,null,null,60940,null,60940,0.91,{"$f":"H705*I705/9.3015","v":5961.9846261355688},{"$f":"H705*I705/0.795","v":69755.22012578616}]
[{"$f":"A705","v":"2022-01-06"},2083,null,null,null,60020,null,60020,0.91,5871.9776380153735,68702.138364779879]
["2022-01-06",2084,null,null,null,61160,null,61160,0.91,5983.508036338224,70007.044025157229]
["2022-01-06",2085,null,null,null,59440,null,59440,0.91,5815.2341020265549,68038.238993710693]
["2022-01-06",2086,null,null,null,61060,null,61060,0.91,5973.7246680642902,69892.578616352199]
["2022-01-06",2087,null,null,null,59240,null,59240,0.91,5795.6673654786855,67809.308176100632]
["2022-01-06",2088,null,null,null,60660,null,60660,0.91,5934.5911949685524,69434.716981132064]
["2022-01-06",2089,null,null,null,59880,null,59880,0.91,5858.2809224318653,68541.886792452831]
["2022-01-06",2090,null,null,null,60000,null,60000,0.91,5870.0209643605867,68679.24528301887]
["2022-01-06",2091,null,null,null,60460,null,60460,0.91,5915.0244584206839,69205.786163522003]
["2022-01-06",2092,null,null,null,58600,null,58600,0.91,5733.0538085255066,67076.729559748419]
["2022-01-07",2093,null,null,null,60500,null,60500,0.90200000000000002,5866.9031876579038,68642.767295597485]
[{"$f":"A716","v":"2022-01-07"},2094,null,null,null,57880,null,57880,0.90200000000000002,{"$f":"H717*I717/9.3015","v":5612.8323388700746},{"$f":"H717*I717/0.795","v":65670.138364779879}]
[{"$f":"A717","v":"2022-01-07"},2095,null,null,null,60320,null,60320,0.90200000000000002,5849.4479385045415,68438.540880503147]
["2022-01-07",2096,null,null,null,59080,null,59080,0.90200000000000002,5729.2006665591571,67031.647798742139]
["2022-01-07",2097,null,null,null,60880,null,60880,0.90200000000000002,5903.7531580927807,69073.911949685527]
["2022-01-07",2098,null,null,null,59220,null,59220,0.90200000000000002,5742.7769714562164,67190.490566037741]
["2022-01-07",2099,null,null,null,60840,null,60840,0.90200000000000002,5899.8742138364778,69028.528301886792]
["2022-01-07",2100,null,null,null,58540,null,58540,0.90200000000000002,5676.8349190990693,66418.968553459112]
["2022-01-07",2101,null,null,null,61080,null,61080,0.90200000000000002,5923.1478793742945,69300.830188679247]
["2022-01-07",110,null,null,null,60340,null,60340,0.90200000000000002,5851.387410632693,68461.232704402515]
["2022-01-07",111,null,null,null,59140,null,59140,0.90200000000000002,5735.0190829436106,67099.723270440241]
["2022-01-08",112,null,null,null,60640,null,60640,0.90239999999999998,5883.0872439929035,68832.120754716976]
[{"$f":"A727","v":"2022-01-08"},113,null,null,null,59860,null,59860,0.90239999999999998,{"$f":"H728*I728/9.3015","v":5807.4142880180607},{"$f":"H728*I728/0.795","v":67946.747169811308}]
[{"$f":"A728","v":"2022-01-08"},114,null,null,null,60440,null,60440,0.90239999999999998,5863.6839219480717,68605.101886792443]
["2022-01-08",115,null,null,null,59860,null,59860,0.90239999999999998,5807.4142880180607,67946.747169811308]
["2022-01-08",2102,null,null,null,60580,null,60580,0.90239999999999998,5877.2662473794544,68764.015094339615]
[]
[]
[]
[]
[]
[]
[]
[]
[]
[]
[]
[]
[]
[]
[]
[]
[]
[]
[]
[]
[]
[]
[]
[]
[]
[]
[]
[]
[]
[]
[]
[]
[]
[]
[]
[]
[]
[]
[]
[]
[]
[]
[]
[]
[]
[]
[]
[]
[]
[]
[]
[]
[]
[]
[]
[]
[]
[]
[]
[]
[]
[]
[]
[]
[]
[]
[]
[]
[]
[]
[]
[]
[]
[]
[]
[]
[]
[]
[]
[]
[]
[]
[]
[]
[]
[]
[]
[]
[]
[]
[]
[]
[]
[]
[]
[]
[]
[]
[]
[]
[]
[]
[]
[]
[]
[]
[]
[]
[]
[]
[]
[]
[]
[]
[]
[]
[]
[]
[]
[]
[]
[]
[]
[]
[]
[]
[]
[]
[]
[]
[]
[]
[]
[]
[]
[]
[]
[]
[]
[]
[]
[]
[]
[]
[]
[]
[]
[]
[]
[]
[]
[]
[]
[]
[]
[]
[]
[]
[]
[]
[]
[]
[]
[]
[]
[]
[]
[]
[]
[]
[]
[]
[]
[]
[]
[]
[]
[]
[]
[]
[]
[]
[]
[]
[]
[]
[]
[]
[]
[]
[]
[]
[]
[]
[]
[]
[]
[]
[]
[]
[]
[]
[]
[]
[]
[]
[]
[]
[]
[]
[]
[]
[]
[]
[]
[]
[]
[]
[]
[]
[]
[]
[]
[]
[]
[]
[]
[]
[]
[]
[]
[]
[]
[]
[]
[]
[]
[]
[]
[]
[]
[]
[]
[]
[]
[]
[]
[]
[]
[]
[]
[]
[]
[]
[]
[]
[]
[]
[]
[]
[]
[]
[]
[]
[]
[]
[]
[]
[]
[]
[]
[]
[]
[]
[]
[]
[]
[]
[]
[]
[]
[]
[]
[]
[]
[]
[]
[]
[]
[]
[]
[]
[]
[]
[]
[]
[]
[]
[]
[]
[]
[]
[]
[]
[]
[]
[]
[]
[]
[]
[]
[]
[]
[]
[]
[]
[]
[]
[]
[]
[]
[]
[]
[]
[]
[]
[]
[]
[]
[]
[]
[]
[]
[]
[]
[]
[]
[]
[]
[]
[]
[]
[]
[]
[]
[]
[]
[]
[]
[]
[]
[]
[]
[]
[]
[]
[]
[]
[]
[]
[]
[]
[]
[]
[]
[]
[]
[]
[]
[]
[]
[]
[]
[]
[]
[]
[]
[]
[]
[]
[]
[]
[]
[]
[]
[]
[]
[]
[]
[]
[]
[]
[]
[]
[]
[]
[]
[]
[]
[]
[]
[]
[]
[]
[]
[]
[]
[]
[]
[]
[]
[]
[]
[]
[]
[]
[]
[]
[]
[]
[]
[]
[]
[]
[]
[]
[]
[]
[]
[]
[]
[]
[]
[]
[]
[]
[]
[]
[]
[]
[]
[]
[]
[]
[]
[]
[]
[]
[]
[]
[]
[]
[]
[]
[]
[]
[]
[]
[]
[]
[]
[]
[]
[]
[]
[]
[]
[]
[]
[]
[]
[]
[]
[]
[]
[]
[]
[]
[]
[]
[]
[]
[]
[]
[]
[]
[]
[]
[]
[]
[]
[]
[]
[]
[]
[]
[]
[]
[]
[]
[]
[]
[]
[]
[]
[]
[]
[]
[]
[]
[]
[]
[]
[]
[]
[]
[]
[]
[]
[]
[]
[]
[]
[]
[]
[]
[]
[]
[]
[]
[]
[]
[]
[]
[]
[]
[]
[]
[]
[]
[]
[]
[]
[]
[]
[]
[]
[]
[]
[]
[]
[]
[]
[]
[]
[]
[]
[]
[]
[]
[]
[]
[]
[]
[]
[]
[]
[]
[]
[]
[]
[]
[]
[]
[]
[]
[]
[]
[]
[]
[]
[]
[]
[]
[]
[]
[]
[]
[]
[]
[]
[]
[]
[]
[]
[]
[]
[]
[]
[]
[]
[]
[]
[]
[]
[]
[]
[]
[]
[]
[]
[]
[]
[]
[]
[]
[]
[]
[]
[]
[]
[]
[]
[]
[]
[]
[]
[]
[]
[]
[]
[]
[]
[]
[]
[]
[]
[]
[]
[]
[]
[]
[]
[]
[]
[]
[]
[]
[]
[]
[]
[]
[]
[]
[]
[]
[]
[]
[]
[]
[]
[]
[]
[]
[]
[]
[]
[]
[]
[]
[]
[]
[]
[]
[]
[]
[]
[]
[]
[]
[]
[]
[]
[]
[]
[]
[]
[]
[]
[]
[]
[]
[]
[]
[]
[]
[]
[]
[]
[]
[]
[]
[]
[]
[]
[]
[]
[]
[]
[]
[]
[]
[]
[]
[]
[]
[]
[]
[]
[]
[]
[]
[]
[]
[]
[]
[]
[]
[]
[]
[]
[]
[]
[]
[]
[]
[]
[]
[]
[]
[]
[]
[]
[]
[]
[]
[]
[]
[]
[]
[]
[]
[]
[]
[]
[]
[]
[]
[]
[]
[]
[]
[]
[]
[]
[]
[]
[]
[]
[]
[]
[]
[]
[]
[]
[]
[]
[]
[]
[]
[]
[]
[]
[]
[]
[]
[]
[]
[]
[]
[]
[]
[]
[]
[]
[]
[]
[]
[]
[]
[]
[]
[]
[]
[]
[]
[]
[]
[]
[]
[]
[]
[]
[]
[]
[]
[]
[]
[]
[]
[]
[]
[]
[]
[]
[]
[]
[]
[]
[]
[]
[]
[]
[]
[]
[]
[]
[]
[]
[]
[]
[]
[]
[]
[]
[]
[]
["Grand Total",null,null,null,null,{"$f":"SUBTOTAL(9,F7:F1578)","v":301380},null,null,null,{"$f":"SUBTOTAL(9,J7:J1578)","v":29238.865989356549},{"$f":"SUBTOTAL(9,K7:K1578)","v":342094.73207547166}]

{"sheet":"Grand Total","index":1,"n_rows":31,"n_cols":11,"rows_kept":31,"cut":false,"hidden":false,"merged":[]}
[]
[null,null,null,null,null,null,"              Louisiana Sugar Cane Cooperative, Inc."]
[]
[]
[null,null,null,null,null,"Location Deliveries"]
[]
[null,null,"Sm to BB","SM to Other","Other Del.","Sm to PB","BB to PB","Delivered Lbs.",null,"gallons","Lbs. 79.5"]
[" ",null,{"$f":"SUM(Molasses!C7:C1533)","v":0},{"$f":"SUM(Molasses!D7:D1533)","v":0},{"$f":"SUM(Molasses!E7:E1533)","v":0},{"$f":"SUM(Molasses!F7:F1533)","v":43772840},{"$f":"SUM(Molasses!G7:G1533)","v":0},{"$f":"SUM(Molasses!H7:H1533)","v":43772840},null,{"$f":"SUM(Molasses!J7:J1533)","v":4248321.6094178353},{"$f":"SUM(Molasses!K7:K1533)","v":49705362.830188684}]
[]
[]
[]
[]
[]
[]
[]
[]
[]
[]
[]
[]
[]
[]
[]
[]
[null," "]
[]
[]
[]
[]
[]
[null,null," "]

{"sheet":"Sheet1","index":2,"n_rows":25,"n_cols":2,"rows_kept":25,"cut":false,"hidden":false,"merged":[]}
[]
[]
[]
[]
["1st","GO TO Data"]
[]
["2nd","select any one cell"]
[]
["3rd","select subtotal"]
[]
["4th","select ungrouped"]
[]
["5th","select colmun"]
[]
["6th","First unselect all ,then"]
[null,"select from date on the spesfic year and dates to total amount you want print out"]
[]
["7th","now you can see how the print out page"]
[]
["8th","Go to the next page to print out Grand Total"]
[]
[]
["NB; ","To go back just click blank from molasses page"]
[null,"which is ready to enter the next date molasse shipping.Repeat the same way."]
[null,"select all and unselect subtotal days and also select Blank."]